{"text_format":"1","workbook":"xlsx","n_sheets":9,"sheets":["Rank of top medaling nations"," rank of top economies","GDP-2016","Top 12 Medaling 2016 GDP-Adj","Top 12 Medaling 2012 GDP-Adj","Unadjusted-2012","Overall Score-2012","Major Economic Powers-2012","GDP-2012"],"not_rendered":{"charts":3,"images":186,"macros":0,"external_links":0,"defined_names":0,"comments":0,"pivot_tables":0},"unopened":[],"bounds":{"document_bytes":16777216,"sheet_cells":100000,"rows_first":2000,"rows_last":500,"rows_between":2000,"halvings":0,"cell_chars":16384,"cell_head_chars":4096},"cells_cut":0,"cells_raw":0,"read":"whole","date_system":"1900"}

{"sheet":"Rank of top medaling nations","index":0,"n_rows":91,"n_cols":12,"rows_kept":91,"cut":false,"hidden":false,"merged":[]}
[]
[null,null,3,2,1]
[null,null,"Gold","Silver","Bronze ","Points","Match GDP","GDP ($M)","GDP $T","Pts/$T GDP"]
[1,"United States",46,37,38,{"$f":"SUMPRODUCT(C4:E4,$C$2:$E$2)","v":250},{"$f":"MATCH(B4,  'GDP-2016'!$C$3:$C$197,0)","v":1},{"$f":"OFFSET('GDP-2016'!$D$2,G4,0)","v":17946996},{"$f":"H4/1000/1000","v":17.946995999999999},{"$f":"F4/I4","v":13.929907824128341}]
[2,"Great Britain",27,23,17,{"$f":"SUMPRODUCT(C5:E5,$C$2:$E$2)","v":144},{"$f":"MATCH(B5,  'GDP-2016'!$C$3:$C$197,0)","v":5},{"$f":"OFFSET('GDP-2016'!$D$2,G5,0)","v":2848755},{"$f":"H5/1000/1000","v":2.8487550000000001},{"$f":"F5/I5","v":50.548397457836842}]
[3,"China",26,18,26,{"$f":"SUMPRODUCT(C6:E6,$C$2:$E$2)","v":140},{"$f":"MATCH(B6,  'GDP-2016'!$C$3:$C$197,0)","v":2},{"$f":"OFFSET('GDP-2016'!$D$2,G6,0)","v":10866444},10.866444,12.883699580101826]
[4,"Russia",19,18,19,{"$f":"SUMPRODUCT(C7:E7,$C$2:$E$2)","v":112},{"$f":"MATCH(B7,  'GDP-2016'!$C$3:$C$197,0)","v":13},{"$f":"OFFSET('GDP-2016'!$D$2,G7,0)","v":1326015},1.3260150000000002,84.463599582206825]
[5,"Germany",17,10,15,{"$f":"SUMPRODUCT(C8:E8,$C$2:$E$2)","v":86},{"$f":"MATCH(B8,  'GDP-2016'!$C$3:$C$197,0)","v":4},{"$f":"OFFSET('GDP-2016'!$D$2,G8,0)","v":3355772},3.355772,25.62748601514048]
[6,"Japan",12,8,21,{"$f":"SUMPRODUCT(C9:E9,$C$2:$E$2)","v":73},{"$f":"MATCH(B9,  'GDP-2016'!$C$3:$C$197,0)","v":3},{"$f":"OFFSET('GDP-2016'!$D$2,G9,0)","v":4123258},4.1232579999999999,17.704446338308202]
[7,"France",10,18,14,{"$f":"SUMPRODUCT(C10:E10,$C$2:$E$2)","v":80},{"$f":"MATCH(B10,  'GDP-2016'!$C$3:$C$197,0)","v":6},{"$f":"OFFSET('GDP-2016'!$D$2,G10,0)","v":2421682},2.4216819999999997,33.034890625606508]
[8,"South Korea",9,3,9,{"$f":"SUMPRODUCT(C11:E11,$C$2:$E$2)","v":42},{"$f":"MATCH(B11,  'GDP-2016'!$C$3:$C$197,0)","v":11},{"$f":"OFFSET('GDP-2016'!$D$2,G11,0)","v":1377873},1.3778730000000001,30.481764284516785]
[9,"Italy",8,12,8,{"$f":"SUMPRODUCT(C12:E12,$C$2:$E$2)","v":56},{"$f":"MATCH(B12,  'GDP-2016'!$C$3:$C$197,0)","v":8},{"$f":"OFFSET('GDP-2016'!$D$2,G12,0)","v":1814763},1.8147629999999999,30.85802388521256]
[10,"Australia",8,11,10,{"$f":"SUMPRODUCT(C13:E13,$C$2:$E$2)","v":56},{"$f":"MATCH(B13,  'GDP-2016'!$C$3:$C$197,0)","v":12},{"$f":"OFFSET('GDP-2016'!$D$2,G13,0)","v":1339539},1.339539,41.805427090961892]
[11,"Netherlands",8,7,4,{"$f":"SUMPRODUCT(C14:E14,$C$2:$E$2)","v":42},{"$f":"MATCH(B14,  'GDP-2016'!$C$3:$C$197,0)","v":17},{"$f":"OFFSET('GDP-2016'!$D$2,G14,0)","v":752547},0.75254700000000008,55.810467651854296]
[12,"Hungary",8,3,4,{"$f":"SUMPRODUCT(C15:E15,$C$2:$E$2)","v":34},{"$f":"MATCH(B15,  'GDP-2016'!$C$3:$C$197,0)","v":57},{"$f":"OFFSET('GDP-2016'!$D$2,G15,0)","v":120687},0.120687,281.72048356492411]
[13,"Brazil",7,6,6,{"$f":"SUMPRODUCT(C16:E16,$C$2:$E$2)","v":39},{"$f":"MATCH(B16,  'GDP-2016'!$C$3:$C$197,0)","v":9},{"$f":"OFFSET('GDP-2016'!$D$2,G16,0)","v":1774725},1.7747249999999999,21.975235599881675]
[14,"Spain",7,4,6,{"$f":"SUMPRODUCT(C17:E17,$C$2:$E$2)","v":35},{"$f":"MATCH(B17,  'GDP-2016'!$C$3:$C$197,0)","v":14},{"$f":"OFFSET('GDP-2016'!$D$2,G17,0)","v":1199057},1.199057,29.189604831129795]
[15,"Kenya",6,6,1,{"$f":"SUMPRODUCT(C18:E18,$C$2:$E$2)","v":31},{"$f":"MATCH(B18,  'GDP-2016'!$C$3:$C$197,0)","v":73},{"$f":"OFFSET('GDP-2016'!$D$2,G18,0)","v":63398},6.339800000000001E-2,488.97441559670642]
[16,"Jamaica",6,3,2,{"$f":"SUMPRODUCT(C19:E19,$C$2:$E$2)","v":26},{"$f":"MATCH(B19,  'GDP-2016'!$C$3:$C$197,0)","v":125},{"$f":"OFFSET('GDP-2016'!$D$2,G19,0)","v":13891},1.3891000000000001E-2,1871.7154992441149]
[17,"Croatia",5,3,2,{"$f":"SUMPRODUCT(C20:E20,$C$2:$E$2)","v":23},{"$f":"MATCH(B20,  'GDP-2016'!$C$3:$C$197,0)","v":82},{"$f":"OFFSET('GDP-2016'!$D$2,G20,0)","v":48732},4.8731999999999998E-2,471.96913732249857]
[18,"Cuba",5,2,4,{"$f":"SUMPRODUCT(C21:E21,$C$2:$E$2)","v":23},{"$f":"MATCH(B21,  'GDP-2016'!$C$3:$C$197,0)","v":67},{"$f":"OFFSET('GDP-2016'!$D$2,G21,0)","v":77150},7.715000000000001E-2,298.12054439403755]
[19,"New Zealand",4,9,5,{"$f":"SUMPRODUCT(C22:E22,$C$2:$E$2)","v":35},{"$f":"MATCH(B22,  'GDP-2016'!$C$3:$C$197,0)","v":53},{"$f":"OFFSET('GDP-2016'!$D$2,G22,0)","v":173754},0.17375399999999999,201.43421158649585]
[20,"Canada",4,3,15,{"$f":"SUMPRODUCT(C23:E23,$C$2:$E$2)","v":33},{"$f":"MATCH(B23,  'GDP-2016'!$C$3:$C$197,0)","v":10},{"$f":"OFFSET('GDP-2016'!$D$2,G23,0)","v":1550537},1.5505370000000001,21.282949068613004]
[21,"Uzbekistan",4,2,7,{"$f":"SUMPRODUCT(C24:E24,$C$2:$E$2)","v":23},{"$f":"MATCH(B24,  'GDP-2016'!$C$3:$C$197,0)","v":70},{"$f":"OFFSET('GDP-2016'!$D$2,G24,0)","v":66733},6.6733000000000001E-2,344.65706621911198]
[22,"Kazakhstan",3,5,9,{"$f":"SUMPRODUCT(C25:E25,$C$2:$E$2)","v":28},{"$f":"MATCH(B25,  'GDP-2016'!$C$3:$C$197,0)","v":50},{"$f":"OFFSET('GDP-2016'!$D$2,G25,0)","v":184361},0.184361,151.87593905435531]
[23,"Colombia",3,2,3,{"$f":"SUMPRODUCT(C26:E26,$C$2:$E$2)","v":16},{"$f":"MATCH(B26,  'GDP-2016'!$C$3:$C$197,0)","v":39},{"$f":"OFFSET('GDP-2016'!$D$2,G26,0)","v":292080},0.29208000000000001,54.779512462339085]
[24,"Switzerland",3,2,2,{"$f":"SUMPRODUCT(C27:E27,$C$2:$E$2)","v":15},{"$f":"MATCH(B27,  'GDP-2016'!$C$3:$C$197,0)","v":19},{"$f":"OFFSET('GDP-2016'!$D$2,G27,0)","v":664738},0.66473800000000005,22.565281358971504]
[25,"Iran",3,1,4,{"$f":"SUMPRODUCT(C28:E28,$C$2:$E$2)","v":15},{"$f":"MATCH(B28,  'GDP-2016'!$C$3:$C$197,0)","v":26},{"$f":"OFFSET('GDP-2016'!$D$2,G28,0)","v":425326},0.42532600000000004,35.267065733108247]
[26,"Greece",3,1,2,{"$f":"SUMPRODUCT(C29:E29,$C$2:$E$2)","v":13},{"$f":"MATCH(B29,  'GDP-2016'!$C$3:$C$197,0)","v":46},{"$f":"OFFSET('GDP-2016'!$D$2,G29,0)","v":195212},0.195212,66.594266745896775]
[27,"Argentina",3,1,0,{"$f":"SUMPRODUCT(C30:E30,$C$2:$E$2)","v":11},{"$f":"MATCH(B30,  'GDP-2016'!$C$3:$C$197,0)","v":21},{"$f":"OFFSET('GDP-2016'!$D$2,G30,0)","v":548055},0.54805499999999996,20.070978277727601]
[28,"Denmark",2,6,7,{"$f":"SUMPRODUCT(C31:E31,$C$2:$E$2)","v":25},{"$f":"MATCH(B31,  'GDP-2016'!$C$3:$C$197,0)","v":37},{"$f":"OFFSET('GDP-2016'!$D$2,G31,0)","v":295164},0.29516399999999998,84.69867599029692]
[29,"Sweden",2,6,3,{"$f":"SUMPRODUCT(C32:E32,$C$2:$E$2)","v":21},{"$f":"MATCH(B32,  'GDP-2016'!$C$3:$C$197,0)","v":22},{"$f":"OFFSET('GDP-2016'!$D$2,G32,0)","v":492618},0.492618,42.629380168812347]
[30,"South Africa",2,6,2,{"$f":"SUMPRODUCT(C33:E33,$C$2:$E$2)","v":20},{"$f":"MATCH(B33,  'GDP-2016'!$C$3:$C$197,0)","v":33},{"$f":"OFFSET('GDP-2016'!$D$2,G33,0)","v":312798},0.31279800000000002,63.939027743144131]
[31,"Ukraine",2,5,4,{"$f":"SUMPRODUCT(C34:E34,$C$2:$E$2)","v":20},{"$f":"MATCH(B34,  'GDP-2016'!$C$3:$C$197,0)","v":63},{"$f":"OFFSET('GDP-2016'!$D$2,G34,0)","v":90615},9.0615000000000001E-2,220.71400982177343]
[32,"Serbia",2,4,2,{"$f":"SUMPRODUCT(C35:E35,$C$2:$E$2)","v":16},{"$f":"MATCH(B35,  'GDP-2016'!$C$3:$C$197,0)","v":92},{"$f":"OFFSET('GDP-2016'!$D$2,G35,0)","v":36513},3.6512999999999997E-2,438.20009311751983]
[33,"Poland",2,3,6,{"$f":"SUMPRODUCT(C36:E36,$C$2:$E$2)","v":18},{"$f":"MATCH(B36,  'GDP-2016'!$C$3:$C$197,0)","v":24},{"$f":"OFFSET('GDP-2016'!$D$2,G36,0)","v":474783},0.47478300000000001,37.912056665887363]
[34,"North Korea",2,3,2,{"$f":"SUMPRODUCT(C37:E37,$C$2:$E$2)","v":14},{"$f":"MATCH(B37,  'GDP-2016'!$C$3:$C$197,0)","v":{"$error":"#N/A"}},17396,1.7396000000000002E-2,804.78270866865932,null,"From UN 2014"]
[35,"Belgium",2,2,2,{"$f":"SUMPRODUCT(C38:E38,$C$2:$E$2)","v":12},{"$f":"MATCH(B38,  'GDP-2016'!$C$3:$C$197,0)","v":25},{"$f":"OFFSET('GDP-2016'!$D$2,G38,0)","v":454039},0.45403899999999997,26.429447690616886]
[36,"Thailand",2,2,2,{"$f":"SUMPRODUCT(C39:E39,$C$2:$E$2)","v":12},{"$f":"MATCH(B39,  'GDP-2016'!$C$3:$C$197,0)","v":27},{"$f":"OFFSET('GDP-2016'!$D$2,G39,0)","v":395282},0.39528199999999997,30.358073476657175]
[37,"Slovakia",2,2,0,{"$f":"SUMPRODUCT(C40:E40,$C$2:$E$2)","v":10},{"$f":"MATCH(B40,  'GDP-2016'!$C$3:$C$197,0)","v":64},{"$f":"OFFSET('GDP-2016'!$D$2,G40,0)","v":86582},8.6581999999999992E-2,115.49744750641013]
[38,"Georgia",2,1,4,{"$f":"SUMPRODUCT(C41:E41,$C$2:$E$2)","v":12},{"$f":"MATCH(B41,  'GDP-2016'!$C$3:$C$197,0)","v":117},{"$f":"OFFSET('GDP-2016'!$D$2,G41,0)","v":16530},1.653E-2,725.9528130671506]
[39,"Azerbaijan",1,7,10,{"$f":"SUMPRODUCT(C42:E42,$C$2:$E$2)","v":27},{"$f":"MATCH(B42,  'GDP-2016'!$C$3:$C$197,0)","v":78},{"$f":"OFFSET('GDP-2016'!$D$2,G42,0)","v":53047},5.3046999999999997E-2,508.98260033555152]
[40,"Belarus",1,4,4,{"$f":"SUMPRODUCT(C43:E43,$C$2:$E$2)","v":15},{"$f":"MATCH(B43,  'GDP-2016'!$C$3:$C$197,0)","v":76},{"$f":"OFFSET('GDP-2016'!$D$2,G43,0)","v":54609},5.4609000000000005E-2,274.67999780255997]
[41,"Turkey",1,3,4,{"$f":"SUMPRODUCT(C44:E44,$C$2:$E$2)","v":13},{"$f":"MATCH(B44,  'GDP-2016'!$C$3:$C$197,0)","v":18},{"$f":"OFFSET('GDP-2016'!$D$2,G44,0)","v":718221},0.718221,18.1002783265875]
[42,"Armenia",1,3,0,{"$f":"SUMPRODUCT(C45:E45,$C$2:$E$2)","v":9},{"$f":"MATCH(B45,  'GDP-2016'!$C$3:$C$197,0)","v":136},{"$f":"OFFSET('GDP-2016'!$D$2,G45,0)","v":11644},1.1644E-2,772.93026451391279]
[43,"Czech Republic",1,2,7,{"$f":"SUMPRODUCT(C46:E46,$C$2:$E$2)","v":14},{"$f":"MATCH(B46,  'GDP-2016'!$C$3:$C$197,0)","v":51},{"$f":"OFFSET('GDP-2016'!$D$2,G46,0)","v":181811},0.181811,77.003041620143989]
[44,"Ethiopia",1,2,5,{"$f":"SUMPRODUCT(C47:E47,$C$2:$E$2)","v":12},{"$f":"MATCH(B47,  'GDP-2016'!$C$3:$C$197,0)","v":74},{"$f":"OFFSET('GDP-2016'!$D$2,G47,0)","v":61537},6.1537000000000001E-2,195.00463135999479]
[45,"Slovenia",1,2,1,{"$f":"SUMPRODUCT(C48:E48,$C$2:$E$2)","v":8},{"$f":"MATCH(B48,  'GDP-2016'!$C$3:$C$197,0)","v":87},{"$f":"OFFSET('GDP-2016'!$D$2,G48,0)","v":42747},4.2747E-2,187.14763609142162]
[46,"Indonesia",1,2,0,{"$f":"SUMPRODUCT(C49:E49,$C$2:$E$2)","v":7},{"$f":"MATCH(B49,  'GDP-2016'!$C$3:$C$197,0)","v":16},{"$f":"OFFSET('GDP-2016'!$D$2,G49,0)","v":861934},0.86193399999999998,8.1212714662607581]
[47,"Romania",1,1,3,{"$f":"SUMPRODUCT(C50:E50,$C$2:$E$2)","v":8},{"$f":"MATCH(B50,  'GDP-2016'!$C$3:$C$197,0)","v":52},{"$f":"OFFSET('GDP-2016'!$D$2,G50,0)","v":177954},0.177954,44.955437922159661]
[48,"Bahrain",1,1,0,{"$f":"SUMPRODUCT(C51:E51,$C$2:$E$2)","v":5},{"$f":"MATCH(B51,  'GDP-2016'!$C$3:$C$197,0)","v":96},{"$f":"OFFSET('GDP-2016'!$D$2,G51,0)","v":32221},3.2221E-2,155.17829986654667]
[49,"Vietnam",1,1,0,{"$f":"SUMPRODUCT(C52:E52,$C$2:$E$2)","v":5},{"$f":"MATCH(B52,  'GDP-2016'!$C$3:$C$197,0)","v":48},{"$f":"OFFSET('GDP-2016'!$D$2,G52,0)","v":193599},0.19359899999999999,25.826579682746296]
[50,"Taiwan",1,0,2,{"$f":"SUMPRODUCT(C53:E53,$C$2:$E$2)","v":5},{"$f":"MATCH(B53,  'GDP-2016'!$C$3:$C$197,0)","v":{"$error":"#N/A"}},508849,0.508849,9.82609772250707,null,"From  IMF 2016 Estimate"]
[51,"The Bahamas",1,0,1,{"$f":"SUMPRODUCT(C54:E54,$C$2:$E$2)","v":4},{"$f":"MATCH(B54,  'GDP-2016'!$C$3:$C$197,0)","v":143},{"$f":"OFFSET('GDP-2016'!$D$2,G54,0)","v":8511},8.5109999999999995E-3,469.98002584890145]
[52,"Côte d'Ivoire",1,0,1,{"$f":"SUMPRODUCT(C55:E55,$C$2:$E$2)","v":4},{"$f":"MATCH(B55,  'GDP-2016'!$C$3:$C$197,0)","v":97},{"$f":"OFFSET('GDP-2016'!$D$2,G55,0)","v":31753},3.1753000000000003E-2,125.97234906937926]
[53,"Independent Olympic Athletes",1,0,1,{"$f":"SUMPRODUCT(C56:E56,$C$2:$E$2)","v":4},{"$f":"MATCH(B56,  'GDP-2016'!$C$3:$C$197,0)","v":{"$error":"#N/A"}},{"$f":"OFFSET('GDP-2016'!$D$2,G56,0)","v":{"$error":"#N/A"}},{"$error":"#N/A"},{"$error":"#N/A"}]
[54,"Fiji",1,0,0,{"$f":"SUMPRODUCT(C57:E57,$C$2:$E$2)","v":3},{"$f":"MATCH(B57,  'GDP-2016'!$C$3:$C$197,0)","v":157},{"$f":"OFFSET('GDP-2016'!$D$2,G57,0)","v":4532},4.5320000000000004E-3,661.95939982347738]
[55,"Jordan",1,0,0,{"$f":"SUMPRODUCT(C58:E58,$C$2:$E$2)","v":3},{"$f":"MATCH(B58,  'GDP-2016'!$C$3:$C$197,0)","v":90},{"$f":"OFFSET('GDP-2016'!$D$2,G58,0)","v":37517},3.7517000000000002E-2,79.963749766772395]
[56,"Kosovo",1,0,0,{"$f":"SUMPRODUCT(C59:E59,$C$2:$E$2)","v":3},{"$f":"MATCH(B59,  'GDP-2016'!$C$3:$C$197,0)","v":148},{"$f":"OFFSET('GDP-2016'!$D$2,G59,0)","v":7387},7.3869999999999995E-3,406.11885745228108]
[57,"Puerto Rico",1,0,0,{"$f":"SUMPRODUCT(C60:E60,$C$2:$E$2)","v":3},{"$f":"MATCH(B60,  'GDP-2016'!$C$3:$C$197,0)","v":59},{"$f":"OFFSET('GDP-2016'!$D$2,G60,0)","v":103135},0.103135,29.088088427788819]
[58,"Singapore",1,0,0,{"$f":"SUMPRODUCT(C61:E61,$C$2:$E$2)","v":3},{"$f":"MATCH(B61,  'GDP-2016'!$C$3:$C$197,0)","v":38},{"$f":"OFFSET('GDP-2016'!$D$2,G61,0)","v":292739},0.29273899999999997,10.248036646979051]
[59,"Tajikistan",1,0,0,{"$f":"SUMPRODUCT(C62:E62,$C$2:$E$2)","v":3},{"$f":"MATCH(B62,  'GDP-2016'!$C$3:$C$197,0)","v":141},{"$f":"OFFSET('GDP-2016'!$D$2,G62,0)","v":9242},9.2420000000000002E-3,324.60506383899587]
[60,"Malaysia",0,4,1,{"$f":"SUMPRODUCT(C63:E63,$C$2:$E$2)","v":9},{"$f":"MATCH(B63,  'GDP-2016'!$C$3:$C$197,0)","v":35},{"$f":"OFFSET('GDP-2016'!$D$2,G63,0)","v":296218},0.29621800000000004,30.383028715338025]
[61,"Mexico",0,3,2,{"$f":"SUMPRODUCT(C64:E64,$C$2:$E$2)","v":8},{"$f":"MATCH(B64,  'GDP-2016'!$C$3:$C$197,0)","v":15},{"$f":"OFFSET('GDP-2016'!$D$2,G64,0)","v":1144331},1.144331,6.9909842519340994]
[62,"Algeria",0,2,0,{"$f":"SUMPRODUCT(C65:E65,$C$2:$E$2)","v":4},{"$f":"MATCH(B65,  'GDP-2016'!$C$3:$C$197,0)","v":56},{"$f":"OFFSET('GDP-2016'!$D$2,G65,0)","v":166839},0.16683899999999999,23.975209633239231]
[63,"Ireland",0,2,0,{"$f":"SUMPRODUCT(C66:E66,$C$2:$E$2)","v":4},{"$f":"MATCH(B66,  'GDP-2016'!$C$3:$C$197,0)","v":43},{"$f":"OFFSET('GDP-2016'!$D$2,G66,0)","v":238020},0.23802000000000001,16.805310478111082]
[64,"Lithuania",0,1,3,{"$f":"SUMPRODUCT(C67:E67,$C$2:$E$2)","v":5},{"$f":"MATCH(B67,  'GDP-2016'!$C$3:$C$197,0)","v":88},{"$f":"OFFSET('GDP-2016'!$D$2,G67,0)","v":41244},4.1244000000000003E-2,121.22975463097661]
[65,"Bulgaria",0,1,2,{"$f":"SUMPRODUCT(C68:E68,$C$2:$E$2)","v":4},{"$f":"MATCH(B68,  'GDP-2016'!$C$3:$C$197,0)","v":81},{"$f":"OFFSET('GDP-2016'!$D$2,G68,0)","v":48953},4.8953000000000003E-2,81.711028946132004]
[66,"Venezuela",0,1,2,{"$f":"SUMPRODUCT(C69:E69,$C$2:$E$2)","v":4},{"$f":"MATCH(B69,  'GDP-2016'!$C$3:$C$197,0)","v":30},{"$f":"OFFSET('GDP-2016'!$D$2,G69,0)","v":371337},{"$f":"H69/1000/1000","v":0.37133699999999997},{"$f":"F69/I69","v":10.771886453544894}]
[67,"India",0,1,1,{"$f":"SUMPRODUCT(C70:E70,$C$2:$E$2)","v":3},{"$f":"MATCH(B70,  'GDP-2016'!$C$3:$C$197,0)","v":7},{"$f":"OFFSET('GDP-2016'!$D$2,G70,0)","v":2073543},2.0735429999999999,1.4467990294872111]
[68,"Mongolia",0,1,1,{"$f":"SUMPRODUCT(C71:E71,$C$2:$E$2)","v":3},{"$f":"MATCH(B71,  'GDP-2016'!$C$3:$C$197,0)","v":133},{"$f":"OFFSET('GDP-2016'!$D$2,G71,0)","v":12016},1.2016000000000001E-2,249.66711051930758]
[69,"Burundi",0,1,0,{"$f":"SUMPRODUCT(C72:E72,$C$2:$E$2)","v":2},{"$f":"MATCH(B72,  'GDP-2016'!$C$3:$C$197,0)","v":164},{"$f":"OFFSET('GDP-2016'!$D$2,G72,0)","v":3094},3.094E-3,646.41241111829345]
[70,"Grenada",0,1,0,{"$f":"SUMPRODUCT(C73:E73,$C$2:$E$2)","v":2},{"$f":"MATCH(B73,  'GDP-2016'!$C$3:$C$197,0)","v":182},{"$f":"OFFSET('GDP-2016'!$D$2,G73,0)","v":884},8.8400000000000002E-4,2262.443438914027]
[71,"Niger",0,1,0,{"$f":"SUMPRODUCT(C74:E74,$C$2:$E$2)","v":2},{"$f":"MATCH(B74,  'GDP-2016'!$C$3:$C$197,0)","v":144},{"$f":"OFFSET('GDP-2016'!$D$2,G74,0)","v":8169},8.1690000000000009E-3,244.82800832415225]
[72,"Philippines",0,1,0,{"$f":"SUMPRODUCT(C75:E75,$C$2:$E$2)","v":2},{"$f":"MATCH(B75,  'GDP-2016'!$C$3:$C$197,0)","v":40},{"$f":"OFFSET('GDP-2016'!$D$2,G75,0)","v":291965},0.29196499999999997,6.8501361464559114]
[73,"Qatar",0,1,0,{"$f":"SUMPRODUCT(C76:E76,$C$2:$E$2)","v":2},{"$f":"MATCH(B76,  'GDP-2016'!$C$3:$C$197,0)","v":55},{"$f":"OFFSET('GDP-2016'!$D$2,G76,0)","v":166908},0.166908,11.982649124068349]
[74,"Norway",0,0,4,{"$f":"SUMPRODUCT(C77:E77,$C$2:$E$2)","v":4},{"$f":"MATCH(B77,  'GDP-2016'!$C$3:$C$197,0)","v":28},{"$f":"OFFSET('GDP-2016'!$D$2,G77,0)","v":388315},0.38831500000000002,10.300915493864517]
[75,"Egypt",0,0,3,{"$f":"SUMPRODUCT(C78:E78,$C$2:$E$2)","v":3},{"$f":"MATCH(B78,  'GDP-2016'!$C$3:$C$197,0)","v":32},{"$f":"OFFSET('GDP-2016'!$D$2,G78,0)","v":330779},0.33077899999999999,9.0694995752451035]
[76,"Tunisia",0,0,3,{"$f":"SUMPRODUCT(C79:E79,$C$2:$E$2)","v":3},{"$f":"MATCH(B79,  'GDP-2016'!$C$3:$C$197,0)","v":86},{"$f":"OFFSET('GDP-2016'!$D$2,G79,0)","v":43015},4.3014999999999998E-2,69.743112867604324]
[77,"Israel",0,0,2,{"$f":"SUMPRODUCT(C80:E80,$C$2:$E$2)","v":2},{"$f":"MATCH(B80,  'GDP-2016'!$C$3:$C$197,0)","v":36},{"$f":"OFFSET('GDP-2016'!$D$2,G80,0)","v":296075},0.29607499999999998,6.7550451743646045]
[78,"Austria",0,0,1,{"$f":"SUMPRODUCT(C81:E81,$C$2:$E$2)","v":1},{"$f":"MATCH(B81,  'GDP-2016'!$C$3:$C$197,0)","v":29},{"$f":"OFFSET('GDP-2016'!$D$2,G81,0)","v":374056},0.374056,2.6733964967812307]
[79,"Dominican Republic",0,0,1,{"$f":"SUMPRODUCT(C82:E82,$C$2:$E$2)","v":1},{"$f":"MATCH(B82,  'GDP-2016'!$C$3:$C$197,0)","v":69},{"$f":"OFFSET('GDP-2016'!$D$2,G82,0)","v":67103},6.7102999999999996E-2,14.902463377196252]
[80,"Estonia",0,0,1,{"$f":"SUMPRODUCT(C83:E83,$C$2:$E$2)","v":1},{"$f":"MATCH(B83,  'GDP-2016'!$C$3:$C$197,0)","v":105},{"$f":"OFFSET('GDP-2016'!$D$2,G83,0)","v":22691},2.2690999999999999E-2,44.070336256665641]
[81,"Finland",0,0,1,{"$f":"SUMPRODUCT(C84:E84,$C$2:$E$2)","v":1},{"$f":"MATCH(B84,  'GDP-2016'!$C$3:$C$197,0)","v":44},{"$f":"OFFSET('GDP-2016'!$D$2,G84,0)","v":229810},0.22981000000000001,4.3514207388712416]
[82,"Morocco",0,0,1,{"$f":"SUMPRODUCT(C85:E85,$C$2:$E$2)","v":1},{"$f":"MATCH(B85,  'GDP-2016'!$C$3:$C$197,0)","v":62},{"$f":"OFFSET('GDP-2016'!$D$2,G85,0)","v":100360},0.10036,9.9641291351135912]
[83,"Moldova",0,0,1,{"$f":"SUMPRODUCT(C86:E86,$C$2:$E$2)","v":1},{"$f":"MATCH(B86,  'GDP-2016'!$C$3:$C$197,0)","v":145},{"$f":"OFFSET('GDP-2016'!$D$2,G86,0)","v":7962},7.9620000000000003E-3,125.59658377292138]
[84,"Nigeria",0,0,1,{"$f":"SUMPRODUCT(C87:E87,$C$2:$E$2)","v":1},{"$f":"MATCH(B87,  'GDP-2016'!$C$3:$C$197,0)","v":23},{"$f":"OFFSET('GDP-2016'!$D$2,G87,0)","v":481066},0.48106599999999999,2.0787168496630399]
[85,"Portugal",0,0,1,{"$f":"SUMPRODUCT(C88:E88,$C$2:$E$2)","v":1},{"$f":"MATCH(B88,  'GDP-2016'!$C$3:$C$197,0)","v":45},{"$f":"OFFSET('GDP-2016'!$D$2,G88,0)","v":198931},0.19893100000000002,5.0268686127350684]
[86,"Trinidad and Tobago",0,0,1,{"$f":"SUMPRODUCT(C89:E89,$C$2:$E$2)","v":1},{"$f":"MATCH(B89,  'GDP-2016'!$C$3:$C$197,0)","v":100},{"$f":"OFFSET('GDP-2016'!$D$2,G89,0)","v":27806},2.7806000000000001E-2,35.963461123498526]
[87,"United Arab Emirates",0,0,1,{"$f":"SUMPRODUCT(C90:E90,$C$2:$E$2)","v":1},{"$f":"MATCH(B90,  'GDP-2016'!$C$3:$C$197,0)","v":31},{"$f":"OFFSET('GDP-2016'!$D$2,G90,0)","v":370293},0.37029299999999998,2.700564147850486]
[null,null,{"$f":"SUM(C4:C90)","v":307},{"$f":"SUM(D4:D90)","v":307},360,1895]

{"sheet":" rank of top economies","index":1,"n_rows":90,"n_cols":12,"rows_kept":90,"cut":false,"hidden":false,"merged":[]}
[]
[null,null,3,2,1]
[null,null,"Gold","Silver","Bronze ","Points","Match GDP","GDP ($M)","GDP $T","Pts/$T GDP"]
[1,"United States",46,37,38,{"$f":"SUMPRODUCT(C4:E4,$C$2:$E$2)","v":250},{"$f":"MATCH(B4,  'GDP-2016'!$C$3:$C$197,0)","v":1},{"$f":"OFFSET('GDP-2016'!$D$2,G4,0)","v":17946996},{"$f":"H4/1000/1000","v":17.946995999999999},{"$f":"F4/I4","v":13.929907824128341}]
[3,"China",26,18,26,{"$f":"SUMPRODUCT(C5:E5,$C$2:$E$2)","v":140},{"$f":"MATCH(B5,  'GDP-2016'!$C$3:$C$197,0)","v":2},{"$f":"OFFSET('GDP-2016'!$D$2,G5,0)","v":10866444},{"$f":"H5/1000/1000","v":10.866444},{"$f":"F5/I5","v":12.883699580101826}]
[6,"Japan",12,8,21,{"$f":"SUMPRODUCT(C6:E6,$C$2:$E$2)","v":73},{"$f":"MATCH(B6,  'GDP-2016'!$C$3:$C$197,0)","v":3},{"$f":"OFFSET('GDP-2016'!$D$2,G6,0)","v":4123258},{"$f":"H6/1000/1000","v":4.1232579999999999},{"$f":"F6/I6","v":17.704446338308202}]
[5,"Germany",17,10,15,{"$f":"SUMPRODUCT(C7:E7,$C$2:$E$2)","v":86},{"$f":"MATCH(B7,  'GDP-2016'!$C$3:$C$197,0)","v":4},{"$f":"OFFSET('GDP-2016'!$D$2,G7,0)","v":3355772},{"$f":"H7/1000/1000","v":3.355772},{"$f":"F7/I7","v":25.62748601514048}]
[2,"Great Britain",27,23,17,{"$f":"SUMPRODUCT(C8:E8,$C$2:$E$2)","v":144},{"$f":"MATCH(B8,  'GDP-2016'!$C$3:$C$197,0)","v":5},{"$f":"OFFSET('GDP-2016'!$D$2,G8,0)","v":2848755},{"$f":"H8/1000/1000","v":2.8487550000000001},{"$f":"F8/I8","v":50.548397457836842}]
[7,"France",10,18,14,{"$f":"SUMPRODUCT(C9:E9,$C$2:$E$2)","v":80},{"$f":"MATCH(B9,  'GDP-2016'!$C$3:$C$197,0)","v":6},{"$f":"OFFSET('GDP-2016'!$D$2,G9,0)","v":2421682},{"$f":"H9/1000/1000","v":2.4216819999999997},{"$f":"F9/I9","v":33.034890625606508}]
[67,"India",0,1,1,{"$f":"SUMPRODUCT(C10:E10,$C$2:$E$2)","v":3},{"$f":"MATCH(B10,  'GDP-2016'!$C$3:$C$197,0)","v":7},{"$f":"OFFSET('GDP-2016'!$D$2,G10,0)","v":2073543},{"$f":"H10/1000/1000","v":2.0735429999999999},{"$f":"F10/I10","v":1.4467990294872111}]
[9,"Italy",8,12,8,{"$f":"SUMPRODUCT(C11:E11,$C$2:$E$2)","v":56},{"$f":"MATCH(B11,  'GDP-2016'!$C$3:$C$197,0)","v":8},{"$f":"OFFSET('GDP-2016'!$D$2,G11,0)","v":1814763},{"$f":"H11/1000/1000","v":1.8147629999999999},{"$f":"F11/I11","v":30.85802388521256}]
[13,"Brazil",7,6,6,{"$f":"SUMPRODUCT(C12:E12,$C$2:$E$2)","v":39},{"$f":"MATCH(B12,  'GDP-2016'!$C$3:$C$197,0)","v":9},{"$f":"OFFSET('GDP-2016'!$D$2,G12,0)","v":1774725},{"$f":"H12/1000/1000","v":1.7747249999999999},{"$f":"F12/I12","v":21.975235599881675}]
[20,"Canada",4,3,15,{"$f":"SUMPRODUCT(C13:E13,$C$2:$E$2)","v":33},{"$f":"MATCH(B13,  'GDP-2016'!$C$3:$C$197,0)","v":10},{"$f":"OFFSET('GDP-2016'!$D$2,G13,0)","v":1550537},{"$f":"H13/1000/1000","v":1.5505370000000001},{"$f":"F13/I13","v":21.282949068613004}]
[8,"South Korea",9,3,9,{"$f":"SUMPRODUCT(C14:E14,$C$2:$E$2)","v":42},{"$f":"MATCH(B14,  'GDP-2016'!$C$3:$C$197,0)","v":11},{"$f":"OFFSET('GDP-2016'!$D$2,G14,0)","v":1377873},{"$f":"H14/1000/1000","v":1.3778730000000001},{"$f":"F14/I14","v":30.481764284516785}]
[10,"Australia",8,11,10,{"$f":"SUMPRODUCT(C15:E15,$C$2:$E$2)","v":56},{"$f":"MATCH(B15,  'GDP-2016'!$C$3:$C$197,0)","v":12},{"$f":"OFFSET('GDP-2016'!$D$2,G15,0)","v":1339539},{"$f":"H15/1000/1000","v":1.339539},{"$f":"F15/I15","v":41.805427090961892}]
[4,"Russia",19,18,19,{"$f":"SUMPRODUCT(C16:E16,$C$2:$E$2)","v":112},{"$f":"MATCH(B16,  'GDP-2016'!$C$3:$C$197,0)","v":13},{"$f":"OFFSET('GDP-2016'!$D$2,G16,0)","v":1326015},{"$f":"H16/1000/1000","v":1.3260150000000002},{"$f":"F16/I16","v":84.463599582206825}]
[14,"Spain",7,4,6,{"$f":"SUMPRODUCT(C17:E17,$C$2:$E$2)","v":35},{"$f":"MATCH(B17,  'GDP-2016'!$C$3:$C$197,0)","v":14},{"$f":"OFFSET('GDP-2016'!$D$2,G17,0)","v":1199057},{"$f":"H17/1000/1000","v":1.199057},{"$f":"F17/I17","v":29.189604831129795}]
[61,"Mexico",0,3,2,{"$f":"SUMPRODUCT(C18:E18,$C$2:$E$2)","v":8},{"$f":"MATCH(B18,  'GDP-2016'!$C$3:$C$197,0)","v":15},{"$f":"OFFSET('GDP-2016'!$D$2,G18,0)","v":1144331},{"$f":"H18/1000/1000","v":1.144331},{"$f":"F18/I18","v":6.9909842519340994}]
[46,"Indonesia",1,2,0,{"$f":"SUMPRODUCT(C19:E19,$C$2:$E$2)","v":7},{"$f":"MATCH(B19,  'GDP-2016'!$C$3:$C$197,0)","v":16},{"$f":"OFFSET('GDP-2016'!$D$2,G19,0)","v":861934},{"$f":"H19/1000/1000","v":0.86193399999999998},{"$f":"F19/I19","v":8.1212714662607581}]
[11,"Netherlands",8,7,4,{"$f":"SUMPRODUCT(C20:E20,$C$2:$E$2)","v":42},{"$f":"MATCH(B20,  'GDP-2016'!$C$3:$C$197,0)","v":17},{"$f":"OFFSET('GDP-2016'!$D$2,G20,0)","v":752547},{"$f":"H20/1000/1000","v":0.75254700000000008},{"$f":"F20/I20","v":55.810467651854296}]
[41,"Turkey",1,3,4,{"$f":"SUMPRODUCT(C21:E21,$C$2:$E$2)","v":13},{"$f":"MATCH(B21,  'GDP-2016'!$C$3:$C$197,0)","v":18},{"$f":"OFFSET('GDP-2016'!$D$2,G21,0)","v":718221},{"$f":"H21/1000/1000","v":0.718221},{"$f":"F21/I21","v":18.1002783265875}]
[24,"Switzerland",3,2,2,{"$f":"SUMPRODUCT(C22:E22,$C$2:$E$2)","v":15},{"$f":"MATCH(B22,  'GDP-2016'!$C$3:$C$197,0)","v":19},{"$f":"OFFSET('GDP-2016'!$D$2,G22,0)","v":664738},{"$f":"H22/1000/1000","v":0.66473800000000005},{"$f":"F22/I22","v":22.565281358971504}]
[27,"Argentina",3,1,0,{"$f":"SUMPRODUCT(C23:E23,$C$2:$E$2)","v":11},{"$f":"MATCH(B23,  'GDP-2016'!$C$3:$C$197,0)","v":21},{"$f":"OFFSET('GDP-2016'!$D$2,G23,0)","v":548055},{"$f":"H23/1000/1000","v":0.54805499999999996},{"$f":"F23/I23","v":20.070978277727601}]
[50,"Taiwan",1,0,2,{"$f":"SUMPRODUCT(C24:E24,$C$2:$E$2)","v":5},{"$f":"MATCH(B24,  'GDP-2016'!$C$3:$C$197,0)","v":{"$error":"#N/A"}},508849,{"$f":"H24/1000/1000","v":0.508849},{"$f":"F24/I24","v":9.82609772250707}]
[29,"Sweden",2,6,3,{"$f":"SUMPRODUCT(C25:E25,$C$2:$E$2)","v":21},{"$f":"MATCH(B25,  'GDP-2016'!$C$3:$C$197,0)","v":22},{"$f":"OFFSET('GDP-2016'!$D$2,G25,0)","v":492618},{"$f":"H25/1000/1000","v":0.492618},{"$f":"F25/I25","v":42.629380168812347}]
[84,"Nigeria",0,0,1,{"$f":"SUMPRODUCT(C26:E26,$C$2:$E$2)","v":1},{"$f":"MATCH(B26,  'GDP-2016'!$C$3:$C$197,0)","v":23},{"$f":"OFFSET('GDP-2016'!$D$2,G26,0)","v":481066},{"$f":"H26/1000/1000","v":0.48106599999999999},{"$f":"F26/I26","v":2.0787168496630399}]
[33,"Poland",2,3,6,{"$f":"SUMPRODUCT(C27:E27,$C$2:$E$2)","v":18},{"$f":"MATCH(B27,  'GDP-2016'!$C$3:$C$197,0)","v":24},{"$f":"OFFSET('GDP-2016'!$D$2,G27,0)","v":474783},{"$f":"H27/1000/1000","v":0.47478300000000001},{"$f":"F27/I27","v":37.912056665887363}]
[35,"Belgium",2,2,2,{"$f":"SUMPRODUCT(C28:E28,$C$2:$E$2)","v":12},{"$f":"MATCH(B28,  'GDP-2016'!$C$3:$C$197,0)","v":25},{"$f":"OFFSET('GDP-2016'!$D$2,G28,0)","v":454039},{"$f":"H28/1000/1000","v":0.45403899999999997},{"$f":"F28/I28","v":26.429447690616886}]
[25,"Iran",3,1,4,{"$f":"SUMPRODUCT(C29:E29,$C$2:$E$2)","v":15},{"$f":"MATCH(B29,  'GDP-2016'!$C$3:$C$197,0)","v":26},{"$f":"OFFSET('GDP-2016'!$D$2,G29,0)","v":425326},{"$f":"H29/1000/1000","v":0.42532600000000004},{"$f":"F29/I29","v":35.267065733108247}]
[36,"Thailand",2,2,2,{"$f":"SUMPRODUCT(C30:E30,$C$2:$E$2)","v":12},{"$f":"MATCH(B30,  'GDP-2016'!$C$3:$C$197,0)","v":27},{"$f":"OFFSET('GDP-2016'!$D$2,G30,0)","v":395282},{"$f":"H30/1000/1000","v":0.39528199999999997},{"$f":"F30/I30","v":30.358073476657175}]
[74,"Norway",0,0,4,{"$f":"SUMPRODUCT(C31:E31,$C$2:$E$2)","v":4},{"$f":"MATCH(B31,  'GDP-2016'!$C$3:$C$197,0)","v":28},{"$f":"OFFSET('GDP-2016'!$D$2,G31,0)","v":388315},{"$f":"H31/1000/1000","v":0.38831500000000002},{"$f":"F31/I31","v":10.300915493864517}]
[78,"Austria",0,0,1,{"$f":"SUMPRODUCT(C32:E32,$C$2:$E$2)","v":1},{"$f":"MATCH(B32,  'GDP-2016'!$C$3:$C$197,0)","v":29},{"$f":"OFFSET('GDP-2016'!$D$2,G32,0)","v":374056},{"$f":"H32/1000/1000","v":0.374056},{"$f":"F32/I32","v":2.6733964967812307}]
[66,"Venezuela",0,1,2,{"$f":"SUMPRODUCT(C33:E33,$C$2:$E$2)","v":4},{"$f":"MATCH(B33,  'GDP-2016'!$C$3:$C$197,0)","v":30},{"$f":"OFFSET('GDP-2016'!$D$2,G33,0)","v":371337},{"$f":"H33/1000/1000","v":0.37133699999999997},{"$f":"F33/I33","v":10.771886453544894}]
[87,"United Arab Emirates",0,0,1,{"$f":"SUMPRODUCT(C34:E34,$C$2:$E$2)","v":1},{"$f":"MATCH(B34,  'GDP-2016'!$C$3:$C$197,0)","v":31},{"$f":"OFFSET('GDP-2016'!$D$2,G34,0)","v":370293},{"$f":"H34/1000/1000","v":0.37029299999999998},{"$f":"F34/I34","v":2.700564147850486}]
[75,"Egypt",0,0,3,{"$f":"SUMPRODUCT(C35:E35,$C$2:$E$2)","v":3},{"$f":"MATCH(B35,  'GDP-2016'!$C$3:$C$197,0)","v":32},{"$f":"OFFSET('GDP-2016'!$D$2,G35,0)","v":330779},{"$f":"H35/1000/1000","v":0.33077899999999999},{"$f":"F35/I35","v":9.0694995752451035}]
[30,"South Africa",2,6,2,{"$f":"SUMPRODUCT(C36:E36,$C$2:$E$2)","v":20},{"$f":"MATCH(B36,  'GDP-2016'!$C$3:$C$197,0)","v":33},{"$f":"OFFSET('GDP-2016'!$D$2,G36,0)","v":312798},{"$f":"H36/1000/1000","v":0.31279800000000002},{"$f":"F36/I36","v":63.939027743144131},null,"From UN 2014"]
[60,"Malaysia",0,4,1,{"$f":"SUMPRODUCT(C37:E37,$C$2:$E$2)","v":9},{"$f":"MATCH(B37,  'GDP-2016'!$C$3:$C$197,0)","v":35},{"$f":"OFFSET('GDP-2016'!$D$2,G37,0)","v":296218},{"$f":"H37/1000/1000","v":0.29621800000000004},{"$f":"F37/I37","v":30.383028715338025}]
[77,"Israel",0,0,2,{"$f":"SUMPRODUCT(C38:E38,$C$2:$E$2)","v":2},{"$f":"MATCH(B38,  'GDP-2016'!$C$3:$C$197,0)","v":36},{"$f":"OFFSET('GDP-2016'!$D$2,G38,0)","v":296075},{"$f":"H38/1000/1000","v":0.29607499999999998},{"$f":"F38/I38","v":6.7550451743646045}]
[28,"Denmark",2,6,7,{"$f":"SUMPRODUCT(C39:E39,$C$2:$E$2)","v":25},{"$f":"MATCH(B39,  'GDP-2016'!$C$3:$C$197,0)","v":37},{"$f":"OFFSET('GDP-2016'!$D$2,G39,0)","v":295164},{"$f":"H39/1000/1000","v":0.29516399999999998},{"$f":"F39/I39","v":84.69867599029692}]
[58,"Singapore",1,0,0,{"$f":"SUMPRODUCT(C40:E40,$C$2:$E$2)","v":3},{"$f":"MATCH(B40,  'GDP-2016'!$C$3:$C$197,0)","v":38},{"$f":"OFFSET('GDP-2016'!$D$2,G40,0)","v":292739},{"$f":"H40/1000/1000","v":0.29273899999999997},{"$f":"F40/I40","v":10.248036646979051}]
[23,"Colombia",3,2,3,{"$f":"SUMPRODUCT(C41:E41,$C$2:$E$2)","v":16},{"$f":"MATCH(B41,  'GDP-2016'!$C$3:$C$197,0)","v":39},{"$f":"OFFSET('GDP-2016'!$D$2,G41,0)","v":292080},{"$f":"H41/1000/1000","v":0.29208000000000001},{"$f":"F41/I41","v":54.779512462339085}]
[72,"Philippines",0,1,0,{"$f":"SUMPRODUCT(C42:E42,$C$2:$E$2)","v":2},{"$f":"MATCH(B42,  'GDP-2016'!$C$3:$C$197,0)","v":40},{"$f":"OFFSET('GDP-2016'!$D$2,G42,0)","v":291965},{"$f":"H42/1000/1000","v":0.29196499999999997},{"$f":"F42/I42","v":6.8501361464559114}]
[63,"Ireland",0,2,0,{"$f":"SUMPRODUCT(C43:E43,$C$2:$E$2)","v":4},{"$f":"MATCH(B43,  'GDP-2016'!$C$3:$C$197,0)","v":43},{"$f":"OFFSET('GDP-2016'!$D$2,G43,0)","v":238020},{"$f":"H43/1000/1000","v":0.23802000000000001},{"$f":"F43/I43","v":16.805310478111082}]
[81,"Finland",0,0,1,{"$f":"SUMPRODUCT(C44:E44,$C$2:$E$2)","v":1},{"$f":"MATCH(B44,  'GDP-2016'!$C$3:$C$197,0)","v":44},{"$f":"OFFSET('GDP-2016'!$D$2,G44,0)","v":229810},{"$f":"H44/1000/1000","v":0.22981000000000001},{"$f":"F44/I44","v":4.3514207388712416}]
[85,"Portugal",0,0,1,{"$f":"SUMPRODUCT(C45:E45,$C$2:$E$2)","v":1},{"$f":"MATCH(B45,  'GDP-2016'!$C$3:$C$197,0)","v":45},{"$f":"OFFSET('GDP-2016'!$D$2,G45,0)","v":198931},{"$f":"H45/1000/1000","v":0.19893100000000002},{"$f":"F45/I45","v":5.0268686127350684}]
[26,"Greece",3,1,2,{"$f":"SUMPRODUCT(C46:E46,$C$2:$E$2)","v":13},{"$f":"MATCH(B46,  'GDP-2016'!$C$3:$C$197,0)","v":46},{"$f":"OFFSET('GDP-2016'!$D$2,G46,0)","v":195212},{"$f":"H46/1000/1000","v":0.195212},{"$f":"F46/I46","v":66.594266745896775}]
[49,"Vietnam",1,1,0,{"$f":"SUMPRODUCT(C47:E47,$C$2:$E$2)","v":5},{"$f":"MATCH(B47,  'GDP-2016'!$C$3:$C$197,0)","v":48},{"$f":"OFFSET('GDP-2016'!$D$2,G47,0)","v":193599},{"$f":"H47/1000/1000","v":0.19359899999999999},{"$f":"F47/I47","v":25.826579682746296}]
[22,"Kazakhstan",3,5,9,{"$f":"SUMPRODUCT(C48:E48,$C$2:$E$2)","v":28},{"$f":"MATCH(B48,  'GDP-2016'!$C$3:$C$197,0)","v":50},{"$f":"OFFSET('GDP-2016'!$D$2,G48,0)","v":184361},{"$f":"H48/1000/1000","v":0.184361},{"$f":"F48/I48","v":151.87593905435531}]
[43,"Czech Republic",1,2,7,{"$f":"SUMPRODUCT(C49:E49,$C$2:$E$2)","v":14},{"$f":"MATCH(B49,  'GDP-2016'!$C$3:$C$197,0)","v":51},{"$f":"OFFSET('GDP-2016'!$D$2,G49,0)","v":181811},{"$f":"H49/1000/1000","v":0.181811},{"$f":"F49/I49","v":77.003041620143989}]
[47,"Romania",1,1,3,{"$f":"SUMPRODUCT(C50:E50,$C$2:$E$2)","v":8},{"$f":"MATCH(B50,  'GDP-2016'!$C$3:$C$197,0)","v":52},{"$f":"OFFSET('GDP-2016'!$D$2,G50,0)","v":177954},{"$f":"H50/1000/1000","v":0.177954},{"$f":"F50/I50","v":44.955437922159661}]
[19,"New Zealand",4,9,5,{"$f":"SUMPRODUCT(C51:E51,$C$2:$E$2)","v":35},{"$f":"MATCH(B51,  'GDP-2016'!$C$3:$C$197,0)","v":53},{"$f":"OFFSET('GDP-2016'!$D$2,G51,0)","v":173754},{"$f":"H51/1000/1000","v":0.17375399999999999},{"$f":"F51/I51","v":201.43421158649585}]
[73,"Qatar",0,1,0,{"$f":"SUMPRODUCT(C52:E52,$C$2:$E$2)","v":2},{"$f":"MATCH(B52,  'GDP-2016'!$C$3:$C$197,0)","v":55},{"$f":"OFFSET('GDP-2016'!$D$2,G52,0)","v":166908},{"$f":"H52/1000/1000","v":0.166908},{"$f":"F52/I52","v":11.982649124068349},null,"From  IMF 2016 Estimate"]
[62,"Algeria",0,2,0,{"$f":"SUMPRODUCT(C53:E53,$C$2:$E$2)","v":4},{"$f":"MATCH(B53,  'GDP-2016'!$C$3:$C$197,0)","v":56},{"$f":"OFFSET('GDP-2016'!$D$2,G53,0)","v":166839},{"$f":"H53/1000/1000","v":0.16683899999999999},{"$f":"F53/I53","v":23.975209633239231}]
[12,"Hungary",8,3,4,{"$f":"SUMPRODUCT(C54:E54,$C$2:$E$2)","v":34},{"$f":"MATCH(B54,  'GDP-2016'!$C$3:$C$197,0)","v":57},{"$f":"OFFSET('GDP-2016'!$D$2,G54,0)","v":120687},{"$f":"H54/1000/1000","v":0.120687},{"$f":"F54/I54","v":281.72048356492411}]
[57,"Puerto Rico",1,0,0,{"$f":"SUMPRODUCT(C55:E55,$C$2:$E$2)","v":3},{"$f":"MATCH(B55,  'GDP-2016'!$C$3:$C$197,0)","v":59},{"$f":"OFFSET('GDP-2016'!$D$2,G55,0)","v":103135},{"$f":"H55/1000/1000","v":0.103135},{"$f":"F55/I55","v":29.088088427788819}]
[82,"Morocco",0,0,1,{"$f":"SUMPRODUCT(C56:E56,$C$2:$E$2)","v":1},{"$f":"MATCH(B56,  'GDP-2016'!$C$3:$C$197,0)","v":62},{"$f":"OFFSET('GDP-2016'!$D$2,G56,0)","v":100360},{"$f":"H56/1000/1000","v":0.10036},{"$f":"F56/I56","v":9.9641291351135912}]
[31,"Ukraine",2,5,4,{"$f":"SUMPRODUCT(C57:E57,$C$2:$E$2)","v":20},{"$f":"MATCH(B57,  'GDP-2016'!$C$3:$C$197,0)","v":63},{"$f":"OFFSET('GDP-2016'!$D$2,G57,0)","v":90615},{"$f":"H57/1000/1000","v":9.0615000000000001E-2},{"$f":"F57/I57","v":220.71400982177343}]
[37,"Slovakia",2,2,0,{"$f":"SUMPRODUCT(C58:E58,$C$2:$E$2)","v":10},{"$f":"MATCH(B58,  'GDP-2016'!$C$3:$C$197,0)","v":64},{"$f":"OFFSET('GDP-2016'!$D$2,G58,0)","v":86582},{"$f":"H58/1000/1000","v":8.6581999999999992E-2},{"$f":"F58/I58","v":115.49744750641013}]
[18,"Cuba",5,2,4,{"$f":"SUMPRODUCT(C59:E59,$C$2:$E$2)","v":23},{"$f":"MATCH(B59,  'GDP-2016'!$C$3:$C$197,0)","v":67},{"$f":"OFFSET('GDP-2016'!$D$2,G59,0)","v":77150},{"$f":"H59/1000/1000","v":7.715000000000001E-2},{"$f":"F59/I59","v":298.12054439403755}]
[79,"Dominican Republic",0,0,1,{"$f":"SUMPRODUCT(C60:E60,$C$2:$E$2)","v":1},{"$f":"MATCH(B60,  'GDP-2016'!$C$3:$C$197,0)","v":69},{"$f":"OFFSET('GDP-2016'!$D$2,G60,0)","v":67103},{"$f":"H60/1000/1000","v":6.7102999999999996E-2},{"$f":"F60/I60","v":14.902463377196252}]
[21,"Uzbekistan",4,2,7,{"$f":"SUMPRODUCT(C61:E61,$C$2:$E$2)","v":23},{"$f":"MATCH(B61,  'GDP-2016'!$C$3:$C$197,0)","v":70},{"$f":"OFFSET('GDP-2016'!$D$2,G61,0)","v":66733},{"$f":"H61/1000/1000","v":6.6733000000000001E-2},{"$f":"F61/I61","v":344.65706621911198}]
[15,"Kenya",6,6,1,{"$f":"SUMPRODUCT(C62:E62,$C$2:$E$2)","v":31},{"$f":"MATCH(B62,  'GDP-2016'!$C$3:$C$197,0)","v":73},{"$f":"OFFSET('GDP-2016'!$D$2,G62,0)","v":63398},{"$f":"H62/1000/1000","v":6.339800000000001E-2},{"$f":"F62/I62","v":488.97441559670642}]
[44,"Ethiopia",1,2,5,{"$f":"SUMPRODUCT(C63:E63,$C$2:$E$2)","v":12},{"$f":"MATCH(B63,  'GDP-2016'!$C$3:$C$197,0)","v":74},{"$f":"OFFSET('GDP-2016'!$D$2,G63,0)","v":61537},{"$f":"H63/1000/1000","v":6.1537000000000001E-2},{"$f":"F63/I63","v":195.00463135999479}]
[40,"Belarus",1,4,4,{"$f":"SUMPRODUCT(C64:E64,$C$2:$E$2)","v":15},{"$f":"MATCH(B64,  'GDP-2016'!$C$3:$C$197,0)","v":76},{"$f":"OFFSET('GDP-2016'!$D$2,G64,0)","v":54609},{"$f":"H64/1000/1000","v":5.4609000000000005E-2},{"$f":"F64/I64","v":274.67999780255997}]
[39,"Azerbaijan",1,7,10,{"$f":"SUMPRODUCT(C65:E65,$C$2:$E$2)","v":27},{"$f":"MATCH(B65,  'GDP-2016'!$C$3:$C$197,0)","v":78},{"$f":"OFFSET('GDP-2016'!$D$2,G65,0)","v":53047},{"$f":"H65/1000/1000","v":5.3046999999999997E-2},{"$f":"F65/I65","v":508.98260033555152}]
[65,"Bulgaria",0,1,2,{"$f":"SUMPRODUCT(C66:E66,$C$2:$E$2)","v":4},{"$f":"MATCH(B66,  'GDP-2016'!$C$3:$C$197,0)","v":81},{"$f":"OFFSET('GDP-2016'!$D$2,G66,0)","v":48953},{"$f":"H66/1000/1000","v":4.8953000000000003E-2},{"$f":"F66/I66","v":81.711028946132004}]
[17,"Croatia",5,3,2,{"$f":"SUMPRODUCT(C67:E67,$C$2:$E$2)","v":23},{"$f":"MATCH(B67,  'GDP-2016'!$C$3:$C$197,0)","v":82},{"$f":"OFFSET('GDP-2016'!$D$2,G67,0)","v":48732},{"$f":"H67/1000/1000","v":4.8731999999999998E-2},{"$f":"F67/I67","v":471.96913732249857}]
[76,"Tunisia",0,0,3,{"$f":"SUMPRODUCT(C68:E68,$C$2:$E$2)","v":3},{"$f":"MATCH(B68,  'GDP-2016'!$C$3:$C$197,0)","v":86},{"$f":"OFFSET('GDP-2016'!$D$2,G68,0)","v":43015},{"$f":"H68/1000/1000","v":4.3014999999999998E-2},{"$f":"F68/I68","v":69.743112867604324}]
[45,"Slovenia",1,2,1,{"$f":"SUMPRODUCT(C69:E69,$C$2:$E$2)","v":8},{"$f":"MATCH(B69,  'GDP-2016'!$C$3:$C$197,0)","v":87},{"$f":"OFFSET('GDP-2016'!$D$2,G69,0)","v":42747},{"$f":"H69/1000/1000","v":4.2747E-2},{"$f":"F69/I69","v":187.14763609142162}]
[64,"Lithuania",0,1,3,{"$f":"SUMPRODUCT(C70:E70,$C$2:$E$2)","v":5},{"$f":"MATCH(B70,  'GDP-2016'!$C$3:$C$197,0)","v":88},{"$f":"OFFSET('GDP-2016'!$D$2,G70,0)","v":41244},{"$f":"H70/1000/1000","v":4.1244000000000003E-2},{"$f":"F70/I70","v":121.22975463097661}]
[55,"Jordan",1,0,0,{"$f":"SUMPRODUCT(C71:E71,$C$2:$E$2)","v":3},{"$f":"MATCH(B71,  'GDP-2016'!$C$3:$C$197,0)","v":90},{"$f":"OFFSET('GDP-2016'!$D$2,G71,0)","v":37517},{"$f":"H71/1000/1000","v":3.7517000000000002E-2},{"$f":"F71/I71","v":79.963749766772395}]
[32,"Serbia",2,4,2,{"$f":"SUMPRODUCT(C72:E72,$C$2:$E$2)","v":16},{"$f":"MATCH(B72,  'GDP-2016'!$C$3:$C$197,0)","v":92},{"$f":"OFFSET('GDP-2016'!$D$2,G72,0)","v":36513},{"$f":"H72/1000/1000","v":3.6512999999999997E-2},{"$f":"F72/I72","v":438.20009311751983}]
[48,"Bahrain",1,1,0,{"$f":"SUMPRODUCT(C73:E73,$C$2:$E$2)","v":5},{"$f":"MATCH(B73,  'GDP-2016'!$C$3:$C$197,0)","v":96},{"$f":"OFFSET('GDP-2016'!$D$2,G73,0)","v":32221},{"$f":"H73/1000/1000","v":3.2221E-2},{"$f":"F73/I73","v":155.17829986654667}]
[52,"Côte d'Ivoire",1,0,1,{"$f":"SUMPRODUCT(C74:E74,$C$2:$E$2)","v":4},{"$f":"MATCH(B74,  'GDP-2016'!$C$3:$C$197,0)","v":97},{"$f":"OFFSET('GDP-2016'!$D$2,G74,0)","v":31753},{"$f":"H74/1000/1000","v":3.1753000000000003E-2},{"$f":"F74/I74","v":125.97234906937926}]
[86,"Trinidad and Tobago",0,0,1,{"$f":"SUMPRODUCT(C75:E75,$C$2:$E$2)","v":1},{"$f":"MATCH(B75,  'GDP-2016'!$C$3:$C$197,0)","v":100},{"$f":"OFFSET('GDP-2016'!$D$2,G75,0)","v":27806},{"$f":"H75/1000/1000","v":2.7806000000000001E-2},{"$f":"F75/I75","v":35.963461123498526}]
[80,"Estonia",0,0,1,{"$f":"SUMPRODUCT(C76:E76,$C$2:$E$2)","v":1},{"$f":"MATCH(B76,  'GDP-2016'!$C$3:$C$197,0)","v":105},{"$f":"OFFSET('GDP-2016'!$D$2,G76,0)","v":22691},{"$f":"H76/1000/1000","v":2.2690999999999999E-2},{"$f":"F76/I76","v":44.070336256665641}]
[34,"North Korea",2,3,2,{"$f":"SUMPRODUCT(C77:E77,$C$2:$E$2)","v":14},{"$f":"MATCH(B77,  'GDP-2016'!$C$3:$C$197,0)","v":{"$error":"#N/A"}},17396,{"$f":"H77/1000/1000","v":1.7396000000000002E-2},{"$f":"F77/I77","v":804.78270866865932}]
[38,"Georgia",2,1,4,{"$f":"SUMPRODUCT(C78:E78,$C$2:$E$2)","v":12},{"$f":"MATCH(B78,  'GDP-2016'!$C$3:$C$197,0)","v":117},{"$f":"OFFSET('GDP-2016'!$D$2,G78,0)","v":16530},{"$f":"H78/1000/1000","v":1.653E-2},{"$f":"F78/I78","v":725.9528130671506}]
[16,"Jamaica",6,3,2,{"$f":"SUMPRODUCT(C79:E79,$C$2:$E$2)","v":26},{"$f":"MATCH(B79,  'GDP-2016'!$C$3:$C$197,0)","v":125},{"$f":"OFFSET('GDP-2016'!$D$2,G79,0)","v":13891},{"$f":"H79/1000/1000","v":1.3891000000000001E-2},{"$f":"F79/I79","v":1871.7154992441149}]
[68,"Mongolia",0,1,1,{"$f":"SUMPRODUCT(C80:E80,$C$2:$E$2)","v":3},{"$f":"MATCH(B80,  'GDP-2016'!$C$3:$C$197,0)","v":133},{"$f":"OFFSET('GDP-2016'!$D$2,G80,0)","v":12016},{"$f":"H80/1000/1000","v":1.2016000000000001E-2},{"$f":"F80/I80","v":249.66711051930758}]
[42,"Armenia",1,3,0,{"$f":"SUMPRODUCT(C81:E81,$C$2:$E$2)","v":9},{"$f":"MATCH(B81,  'GDP-2016'!$C$3:$C$197,0)","v":136},{"$f":"OFFSET('GDP-2016'!$D$2,G81,0)","v":11644},{"$f":"H81/1000/1000","v":1.1644E-2},{"$f":"F81/I81","v":772.93026451391279}]
[59,"Tajikistan",1,0,0,{"$f":"SUMPRODUCT(C82:E82,$C$2:$E$2)","v":3},{"$f":"MATCH(B82,  'GDP-2016'!$C$3:$C$197,0)","v":141},{"$f":"OFFSET('GDP-2016'!$D$2,G82,0)","v":9242},{"$f":"H82/1000/1000","v":9.2420000000000002E-3},{"$f":"F82/I82","v":324.60506383899587}]
[51,"The Bahamas",1,0,1,{"$f":"SUMPRODUCT(C83:E83,$C$2:$E$2)","v":4},{"$f":"MATCH(B83,  'GDP-2016'!$C$3:$C$197,0)","v":143},{"$f":"OFFSET('GDP-2016'!$D$2,G83,0)","v":8511},{"$f":"H83/1000/1000","v":8.5109999999999995E-3},{"$f":"F83/I83","v":469.98002584890145}]
[71,"Niger",0,1,0,{"$f":"SUMPRODUCT(C84:E84,$C$2:$E$2)","v":2},{"$f":"MATCH(B84,  'GDP-2016'!$C$3:$C$197,0)","v":144},{"$f":"OFFSET('GDP-2016'!$D$2,G84,0)","v":8169},{"$f":"H84/1000/1000","v":8.1690000000000009E-3},{"$f":"F84/I84","v":244.82800832415225}]
[83,"Moldova",0,0,1,{"$f":"SUMPRODUCT(C85:E85,$C$2:$E$2)","v":1},{"$f":"MATCH(B85,  'GDP-2016'!$C$3:$C$197,0)","v":145},{"$f":"OFFSET('GDP-2016'!$D$2,G85,0)","v":7962},{"$f":"H85/1000/1000","v":7.9620000000000003E-3},{"$f":"F85/I85","v":125.59658377292138}]
[56,"Kosovo",1,0,0,{"$f":"SUMPRODUCT(C86:E86,$C$2:$E$2)","v":3},{"$f":"MATCH(B86,  'GDP-2016'!$C$3:$C$197,0)","v":148},{"$f":"OFFSET('GDP-2016'!$D$2,G86,0)","v":7387},{"$f":"H86/1000/1000","v":7.3869999999999995E-3},{"$f":"F86/I86","v":406.11885745228108}]
[54,"Fiji",1,0,0,{"$f":"SUMPRODUCT(C87:E87,$C$2:$E$2)","v":3},{"$f":"MATCH(B87,  'GDP-2016'!$C$3:$C$197,0)","v":157},{"$f":"OFFSET('GDP-2016'!$D$2,G87,0)","v":4532},{"$f":"H87/1000/1000","v":4.5320000000000004E-3},{"$f":"F87/I87","v":661.95939982347738}]
[69,"Burundi",0,1,0,{"$f":"SUMPRODUCT(C88:E88,$C$2:$E$2)","v":2},{"$f":"MATCH(B88,  'GDP-2016'!$C$3:$C$197,0)","v":164},{"$f":"OFFSET('GDP-2016'!$D$2,G88,0)","v":3094},{"$f":"H88/1000/1000","v":3.094E-3},{"$f":"F88/I88","v":646.41241111829345}]
[70,"Grenada",0,1,0,{"$f":"SUMPRODUCT(C89:E89,$C$2:$E$2)","v":2},{"$f":"MATCH(B89,  'GDP-2016'!$C$3:$C$197,0)","v":182},{"$f":"OFFSET('GDP-2016'!$D$2,G89,0)","v":884},{"$f":"H89/1000/1000","v":8.8400000000000002E-4},{"$f":"F89/I89","v":2262.443438914027}]
[53,"Independent Olympic Athletes",1,0,1,{"$f":"SUMPRODUCT(C90:E90,$C$2:$E$2)","v":4},{"$f":"MATCH(B90,  'GDP-2016'!$C$3:$C$197,0)","v":{"$error":"#N/A"}},{"$f":"OFFSET('GDP-2016'!$D$2,G90,0)","v":{"$error":"#N/A"}},{"$f":"H90/1000/1000","v":{"$error":"#N/A"}},{"$f":"F90/I90","v":{"$error":"#N/A"}}]

{"sheet":"GDP-2016","index":2,"n_rows":198,"n_cols":7,"rows_kept":198,"cut":false,"hidden":false,"merged":[]}
["https://en.wikipedia.org/wiki/List_of_countries_by_GDP_(nominal)"]
["World Bank 2015 numbers",null,null,"$M","$B"]
[null,1,"United States",17946996,{"$f":"D3/1000","v":17946.995999999999}]
[null,2,"China",10866444,{"$f":"D4/1000","v":10866.444}]
[null,3,"Japan",4123258,4123.2579999999998]
[null,4,"Germany",3355772,3355.7719999999999]
[null,5,"Great Britain",2848755,2848.7550000000001," United Kingdom"]
[null,6,"France",2421682,2421.6819999999998]
[null,7,"India",2073543,2073.5430000000001]
[null,8,"Italy",1814763,1814.7629999999999]
[null,9,"Brazil",1774725,1774.7249999999999]
[null,10,"Canada",1550537,1550.537]
[null,11,"South Korea",1377873,1377.873]
[null,12,"Australia",1339539,1339.539]
[null,13,"Russia",1326015,1326.0150000000001]
[null,14,"Spain",1199057,1199.057]
[null,15,"Mexico",1144331,1144.3309999999999]
[null,16,"Indonesia",861934,861.93399999999997]
[null,17,"Netherlands",752547,752.54700000000003]
[null,18,"Turkey",718221,718.221]
[null,19,"Switzerland",664738,664.73800000000006]
[null,20,"Saudi Arabia",646002,646.00199999999995,null,{"$f":"SUM(E3:E21,E23)/E198","v":0.80526997629006214}]
[null,21,"Argentina",548055,548.05499999999995]
[null,22,"Sweden",492618,492.61799999999999]
[null,23,"Nigeria",481066,481.06599999999997]
[null,24,"Poland",474783,474.78300000000002]
[null,25,"Belgium",454039,454.03899999999999]
[null,26,"Iran",425326,425.32600000000002]
[null,27,"Thailand",395282,395.28199999999998]
[null,28,"Norway",388315,388.315]
[null,29,"Austria",374056,374.05599999999998]
[null,30,"Venezuela",371337,371.33699999999999]
[null,31,"United Arab Emirates",370293,370.29300000000001]
[null,32,"Egypt",330779,330.779]
[null,33,"South Africa",312798,312.798]
[null,"—","Hong Kong",309929,309.92899999999997]
[null,34,"Malaysia",296218,296.21800000000002]
[null,35,"Israel",296075,296.07499999999999]
[null,36,"Denmark",295164,295.16399999999999]
[null,37,"Singapore",292739,292.73899999999998]
[null,38,"Colombia",292080,292.08]
[null,39,"Philippines",291965,291.96499999999997]
[null,40,"Pakistan",269971,269.971]
[null,41,"Chile",240216,240.21600000000001]
[null,42,"Ireland",238020,238.02]
[null,43,"Finland",229810,229.81]
[null,44,"Portugal",198931,198.93100000000001]
[null,45,"Greece",195212,195.21199999999999]
[null,46,"Bangladesh",195079,195.07900000000001]
[null,47,"Vietnam",193599,193.59899999999999]
[null,48,"Peru",192084,192.084]
[null,49,"Kazakhstan",184361,184.36099999999999]
[null,50,"Czech Republic",181811,181.81100000000001]
[null,51,"Romania",177954,177.95400000000001]
[null,52,"New Zealand",173754,173.75399999999999]
[null,53,"Iraq",168607,168.607]
[null,54,"Qatar",166908,166.90799999999999]
[null,55,"Algeria",166839,166.839]
[null,56,"Hungary",120687,120.687]
[null,57,"Kuwait",112812,112.812]
[null,null,"Puerto Rico",103135,103.13500000000001]
[null,58,"Angola",102643,102.643]
[null,59,"Ecuador",100872,100.872]
[null,60,"Morocco",100360,100.36]
[null,61,"Ukraine",90615,90.614999999999995]
[null,62,"Slovakia",86582,86.581999999999994]
[null,63,"Sudan",84067,84.066999999999993]
[null,64,"Sri Lanka",82316,{"$f":"D68/1000","v":82.316000000000003}]
[null,65,"Cuba",77150,77.150000000000006,null,2013]
[null,66,"Oman",70255,70.254999999999995]
[null,67,"Dominican Republic",67103,67.102999999999994]
[null,68,"Uzbekistan",66733,66.733000000000004]
[null,69,"Myanmar",64866,64.866]
[null,70,"Guatemala",63794,63.793999999999997]
[null,71,"Kenya",63398,63.398000000000003]
[null,72,"Ethiopia",61537,61.536999999999999]
[null,73,"Luxembourg",57794,57.793999999999997]
[null,74,"Belarus",54609,54.609000000000002]
[null,75,"Uruguay",53443,53.442999999999998]
[null,76,"Azerbaijan",53047,53.046999999999997]
[null,77,"Panama",52132,52.131999999999998]
[null,78,"Costa Rica",51107,51.106999999999999]
[null,79,"Bulgaria",48953,48.953000000000003]
[null,80,"Croatia",48732,48.731999999999999]
[null,81,"Lebanon",47103,47.103000000000002]
[null,"—","Macau, China",46178,46.177999999999997]
[null,82,"Tanzania",44895,44.895000000000003]
[null,83,"Tunisia",43015,43.015000000000001]
[null,84,"Slovenia",42747,42.747]
[null,85,"Lithuania",41244,41.244]
[null,86,"Ghana",37864,37.863999999999997]
[null,87,"Jordan",37517,37.517000000000003]
[null,88,"Turkmenistan",37334,37.334000000000003]
[null,89,"Serbia",36513,36.512999999999998]
[null,90,"Yemen",35955,35.954999999999998]
[null,91,"Democratic Republic of the Congo",35238,35.238]
[null,92,"Bolivia",33197,33.197000000000003]
[null,93,"Bahrain",32221,32.220999999999997]
[null,94,"Côte d'Ivoire",31753,31.753]
[null,95,"Cameroon",29198,29.198]
[null,96,"Libya",29153,29.152999999999999]
[null,97,"Trinidad and Tobago",27806,27.806000000000001]
[null,98,"Paraguay",27623,27.623000000000001]
[null,99,"Latvia",27035,27.035]
[null,100,"Uganda",26369,26.369]
[null,101,"El Salvador",25850,25.85]
[null,102,"Estonia",22691,22.690999999999999]
[null,103,"Zambia",21202,21.202000000000002]
[null,104,"Nepal",20881,20.881]
[null,105,"Honduras",20152,20.152000000000001]
[null,106,"Cyprus",19320,19.32]
[null,107,"Afghanistan",19199,19.199000000000002]
[null,108,"Bosnia and Herzegovina",18521,18.521000000000001]
[null,109,"Gabon",18180,18.18]
[null,110,"Brunei",17105,17.105]
[null,111,"Iceland",17036,17.036000000000001]
[null,112,"Papua New Guinea",16929,16.928999999999998]
[null,113,"Cambodia",16778,16.777999999999999]
[null,114,"Georgia",16530,16.53]
[null,115,"Mozambique",15938,15.938000000000001]
[null,116,"Botswana",15813,15.813000000000001]
[null,117,"Senegal",15658,15.657999999999999]
[null,118,"Equatorial Guinea",15530,15.53]
[null,119,"Zimbabwe",14197,14.196999999999999]
[null,120,"Republic of the Congo",14177,14.177]
[null,121,"Chad",13922,13.922000000000001]
[null,122,"Jamaica",13891,13.891]
[null,123,"South Sudan",13282,13.282]
[null,124,"Albania",13212,13.212]
[null,125,"Namibia",12995,12.994999999999999]
[null,null,"West Bank and Gaza",12738,12.738]
[null,126,"Mauritius",12630,{"$f":"D132/1000","v":12.63}]
[null,127,"Burkina Faso",12542,12.542]
[null,128,"Mali",12037,12.037000000000001]
[null,129,"Mongolia",12016,12.016]
[null,130,"Laos",11997,11.997]
[null,131,"Nicaragua",11806,11.805999999999999]
[null,132,"Armenia",11644,11.644]
[null,133,"Macedonia",11324,11.324]
[null,134,"Madagascar",10593,10.593]
[null,135,"Malta",9643,9.6430000000000007]
[null,136,"Benin",9575,9.5749999999999993]
[null,137,"Tajikistan",9242,9.2420000000000009]
[null,138,"Haiti",8713,8.7129999999999992]
[null,139,"The Bahamas",8511,8.5109999999999992]
[null,140,"Niger",8169,8.1690000000000005]
[null,141,"Moldova",7962,7.9619999999999997]
[null,142,"Rwanda",7890,7.89]
[null,143,"Kyrgyzstan",7404,7.4039999999999999]
[null,144,"Kosovo",7387,7.3869999999999996]
[null,145,"Guinea",6624,6.6239999999999997]
[null,146,"Somalia",5707,5.7069999999999999]
[null,null,"Bermuda",5574,5.5739999999999998]
[null,147,"Liechtenstein",5488,5.4880000000000004]
[null,148,"Suriname",5210,5.21]
[null,149,"Mauritania",5061,5.0609999999999999]
[null,150,"Sierra Leone",4838,4.8380000000000001]
[null,151,"Montenegro",4588,4.5880000000000001]
[null,152,"Fiji",4532,4.532]
[null,153,"Togo",4518,4.5179999999999998]
[null,154,"Swaziland",4413,4.4130000000000003]
[null,155,"Barbados",4355,4.3550000000000004]
[null,156,"Malawi",4258,4.258]
[null,157,"Andorra",3249,3.2490000000000001]
[null,158,"Guyana",3097,3.097]
[null,159,"Burundi",3094,3.0939999999999999]
[null,160,"Maldives",3062,3.0619999999999998]
[null,null,"Faroe Islands",2613,2.613]
[null,null,"Greenland",2441,2.4409999999999998]
[null,161,"Lesotho",2181,2.181]
[null,162,"Liberia",2013,2.0129999999999999]
[null,163,"Bhutan",1959,1.9590000000000001]
[null,164,"Cape Verde",1871,1.871]
[null,165,"Central African Republic",1723,1.7230000000000001]
[null,166,"Belize",1699,1.6990000000000001]
[null,167,"Djibouti",1589,1.589]
[null,168,"Seychelles",1423,1.423]
[null,169,"Timor-Leste",1417,1.417]
[null,170,"Saint Lucia",1404,1.4039999999999999]
[null,171,"Antigua and Barbuda",1221,1.2210000000000001]
[null,172,"Solomon Islands",1158,1.1579999999999999]
[null,173,"Guinea-Bissau",1209,1.2090000000000001]
[null,174,"The Gambia",851,0.85099999999999998]
[null,175,"Grenada",884,0.88400000000000001]
[null,176,"Saint Kitts and Nevis",852,0.85199999999999998]
[null,177,"Vanuatu",815,0.81499999999999995]
[null,178,"Samoa",800,0.8]
[null,179,"Saint Vincent and the Grenadines",729,0.72899999999999998]
[null,180,"Comoros",624,0.624]
[null,182,"Dominica",524,0.52400000000000002]
[null,183,"Tonga",434,0.434]
[null,185,"São Tomé and Príncipe",337,0.33700000000000002]
[null,184,"Federated States of Micronesia",318,0.318]
[null,186,"Palau",251,0.251]
[null,187,"Marshall Islands",187,0.187]
[null,188,"Kiribati",167,{"$f":"D196/1000","v":0.16700000000000001}]
[null,189,"Tuvalu",38,3.7999999999999999E-2]
[null,null,null,null,{"$f":"SUM(E3:E197)","v":72905.71699999999}]

{"sheet":"Top 12 Medaling 2016 GDP-Adj","index":3,"n_rows":30,"n_cols":15,"rows_kept":30,"cut":false,"hidden":false,"merged":[]}
["Olympic Medal Efficiency: Top 20 Economies Sorted by GDP-Adjusted Score",null,null,null,null,null,null,null,null,null,null,null,"2016 Games"]
[null,"Analysis by David Brode of The Brode Group"]
[]
[]
[null,null,null,null,3,2,1,null,"USD B","Pts per"]
[null,"Country",null,null,"Gold","Silver","Bronze","Points","GDP","$T GDP",null,"Visual Representation"]
[null,"Russia",null,null,19,18,19,{"$f":"SUMPRODUCT($E$5:$G$5,E7:G7)","v":112},1326.0150000000001,{"$f":"H7/(I7/1000)","v":84.463599582206825},null,{"$f":"REPT(\"|\",ROUND(J7,0))","v":"||||||||||||||||||||||||||||||||||||||||||||||||||||||||||||||||||||||||||||||||||||"}]
[null,"Netherlands",null,null,8,7,4,{"$f":"SUMPRODUCT($E$5:$G$5,E8:G8)","v":42},752.54700000000003,{"$f":"H8/(I8/1000)","v":55.810467651854296},null,{"$f":"REPT(\"|\",ROUND(J8,0))","v":"||||||||||||||||||||||||||||||||||||||||||||||||||||||||"}]
[null,"Great Britain",null,null,27,23,17,{"$f":"SUMPRODUCT($E$5:$G$5,E9:G9)","v":144},2848.7550000000001,{"$f":"H9/(I9/1000)","v":50.548397457836842},null,"|||||||||||||||||||||||||||||||||||||||||||||||||||"]
[null,"Australia",null,null,8,11,10,{"$f":"SUMPRODUCT($E$5:$G$5,E10:G10)","v":56},1339.539,{"$f":"H10/(I10/1000)","v":41.805427090961892},null,"||||||||||||||||||||||||||||||||||||||||||"]
[null,"France",null,null,10,18,14,{"$f":"SUMPRODUCT($E$5:$G$5,E11:G11)","v":80},2421.6819999999998,{"$f":"H11/(I11/1000)","v":33.034890625606508},null,"|||||||||||||||||||||||||||||||||"]
[null,"Italy",null,null,8,12,8,{"$f":"SUMPRODUCT($E$5:$G$5,E12:G12)","v":56},1814.7629999999999,{"$f":"H12/(I12/1000)","v":30.85802388521256},null,"|||||||||||||||||||||||||||||||"]
[null,"South Korea",null,null,9,3,9,{"$f":"SUMPRODUCT($E$5:$G$5,E13:G13)","v":42},1377.873,{"$f":"H13/(I13/1000)","v":30.481764284516785},null,"||||||||||||||||||||||||||||||"]
[null,"Spain",null,null,7,4,6,{"$f":"SUMPRODUCT($E$5:$G$5,E14:G14)","v":35},1199.057,{"$f":"H14/(I14/1000)","v":29.189604831129795},null,"|||||||||||||||||||||||||||||"]
[null,"Germany",null,null,17,10,15,{"$f":"SUMPRODUCT($E$5:$G$5,E15:G15)","v":86},3355.7719999999999,{"$f":"H15/(I15/1000)","v":25.62748601514048},null,"||||||||||||||||||||||||||"]
[null,"Switzerland",null,null,3,2,2,{"$f":"SUMPRODUCT($E$5:$G$5,E16:G16)","v":15},664.73800000000006,{"$f":"H16/(I16/1000)","v":22.565281358971504},null,"|||||||||||||||||||||||"]
[null,"Brazil",null,null,7,6,6,{"$f":"SUMPRODUCT($E$5:$G$5,E17:G17)","v":39},1774.7249999999999,{"$f":"H17/(I17/1000)","v":21.975235599881675},null,"||||||||||||||||||||||"]
[null,"Canada",null,null,4,3,15,{"$f":"SUMPRODUCT($E$5:$G$5,E18:G18)","v":33},1550.537,{"$f":"H18/(I18/1000)","v":21.282949068613004},null,"|||||||||||||||||||||"]
[null,"Argentina",null,null,3,1,0,{"$f":"SUMPRODUCT($E$5:$G$5,E19:G19)","v":11},548.05499999999995,{"$f":"H19/(I19/1000)","v":20.070978277727601},null,"||||||||||||||||||||"]
[null,"Turkey",null,null,1,3,4,{"$f":"SUMPRODUCT($E$5:$G$5,E20:G20)","v":13},718.221,{"$f":"H20/(I20/1000)","v":18.1002783265875},null,"||||||||||||||||||"]
[null,"Japan",null,null,12,8,21,{"$f":"SUMPRODUCT($E$5:$G$5,E21:G21)","v":73},4123.2579999999998,{"$f":"H21/(I21/1000)","v":17.704446338308202},null,"||||||||||||||||||"]
[null,"United States",null,null,46,37,38,{"$f":"SUMPRODUCT($E$5:$G$5,E22:G22)","v":250},17946.995999999999,{"$f":"H22/(I22/1000)","v":13.929907824128341},null,"||||||||||||||"]
[null,"China",null,null,26,18,26,{"$f":"SUMPRODUCT($E$5:$G$5,E23:G23)","v":140},10866.444,{"$f":"H23/(I23/1000)","v":12.883699580101826},null,"|||||||||||||"]
[null,"Indonesia",null,null,1,2,0,{"$f":"SUMPRODUCT($E$5:$G$5,E24:G24)","v":7},861.93399999999997,{"$f":"H24/(I24/1000)","v":8.1212714662607581},null,"||||||||"]
[null,"Mexico",null,null,0,3,2,{"$f":"SUMPRODUCT($E$5:$G$5,E25:G25)","v":8},1144.3309999999999,{"$f":"H25/(I25/1000)","v":6.9909842519340994},null,"|||||||"]
[null,"India",null,null,0,1,1,{"$f":"SUMPRODUCT($E$5:$G$5,E26:G26)","v":3},2073.5430000000001,{"$f":"H26/(I26/1000)","v":1.4467990294872111},null,"|"]
[null,null,null,null,{"$f":"SUM(E7:E26)","v":216},{"$f":"SUM(F7:F26)","v":190},217,{"$f":"SUM(H7:H26)","v":1245},{"$f":"SUM(I7:I26)","v":58708.784999999996},{"$f":"H27/(I27/1000)","v":21.206366304463636}]
[]
[null,null,null,null,null,null,null,null,null,null,null,null,null,{"$f":"RSQ(H7:H26,I7:I26)","v":0.7307009376542295},"73% R-Squared!"]
[null,"Saudi Arabia is actually the 20th largest economy, just ahead of Argentina, but the country failed to medal in Rio."]

{"sheet":"Top 12 Medaling 2012 GDP-Adj","index":4,"n_rows":29,"n_cols":15,"rows_kept":29,"cut":false,"hidden":false,"merged":[]}
["Olympic Medal Efficiency: Top 20 Economies Sorted by GDP-Adjusted Score",null,null,null,null,null,null,null,null,null,null,null,"2016 Games"]
[null,"Analysis by David Brode of The Brode Group"]
[]
[]
[null,null,null,null,3,2,1,null,"USD B","Pts per"]
[null,"Country",null,null,"Gold","Silver","Bronze","Points","GDP","$T GDP",null,"Visual Representation"]
[null,"Russia",null,null,24,26,32,{"$f":"SUMPRODUCT($E$5:$G$5,E7:G7)","v":156},1850.4010000000001,{"$f":"H7/(I7/1000)","v":84.306050418260696},null,{"$f":"REPT(\"|\",ROUND(J7,0))","v":"||||||||||||||||||||||||||||||||||||||||||||||||||||||||||||||||||||||||||||||||||||"}]
[null,"United Kingdom",null,null,29,17,19,{"$f":"SUMPRODUCT($E$5:$G$5,E8:G8)","v":140},2417.5700000000002,57.909388352767451,null,{"$f":"REPT(\"|\",ROUND(J8,0))","v":"||||||||||||||||||||||||||||||||||||||||||||||||||||||||||"}]
[null,"South Korea",null,null,13,8,7,{"$f":"SUMPRODUCT($E$5:$G$5,E9:G9)","v":62},1116.2470000000001,55.543262378308746,null,"||||||||||||||||||||||||||||||||||||||||||||||||||||||||"]
[null,"Netherlands",null,null,6,6,8,{"$f":"SUMPRODUCT($E$5:$G$5,E10:G10)","v":38},840.43299999999999,45.214788091376711,null,"|||||||||||||||||||||||||||||||||||||||||||||"]
[null,"Australia",null,null,7,16,12,{"$f":"SUMPRODUCT($E$5:$G$5,E11:G11)","v":65},1488.221,43.676308827788347,null,"||||||||||||||||||||||||||||||||||||||||||||"]
[null,"China",null,null,38,27,23,{"$f":"SUMPRODUCT($E$5:$G$5,E12:G12)","v":191},7298.1469999999999,26.171026700339141,null,"||||||||||||||||||||||||||"]
[null,"France",null,null,11,11,12,{"$f":"SUMPRODUCT($E$5:$G$5,E13:G13)","v":67},2776.3240000000001,24.132630053264673,null,"||||||||||||||||||||||||"]
[null,"Italy",null,null,8,9,11,{"$f":"SUMPRODUCT($E$5:$G$5,E14:G14)","v":53},2198.73,24.104824148485719,null,"||||||||||||||||||||||||"]
[null,"Germany",null,null,11,19,14,{"$f":"SUMPRODUCT($E$5:$G$5,E15:G15)","v":85},3577.0309999999999,23.762723890287784,null,"||||||||||||||||||||||||"]
[null,"Spain",null,null,3,10,4,{"$f":"SUMPRODUCT($E$5:$G$5,E16:G16)","v":33},1493.5129999999999,22.095555914143368,null,"||||||||||||||||||||||"]
[null,"Switzerland",null,null,2,2,"-",{"$f":"SUMPRODUCT($E$5:$G$5,E17:G17)","v":10},636.05899999999997,15.721811970273199,null,"||||||||||||||||"]
[null,"United States",null,null,46,29,29,{"$f":"SUMPRODUCT($E$5:$G$5,E18:G18)","v":225},15094.025,14.90656070862477,null,"|||||||||||||||"]
[null,"Canada",null,null,1,5,12,{"$f":"SUMPRODUCT($E$5:$G$5,E19:G19)","v":25},1736.8689999999999,{"$f":"H19/(I19/1000)","v":14.393716509420111},null,{"$f":"REPT(\"|\",ROUND(J19,0))","v":"||||||||||||||"}]
[null,"Turkey",null,null,2,2,1,{"$f":"SUMPRODUCT($E$5:$G$5,E20:G20)","v":11},778.08900000000006,14.137200243159844,null,"||||||||||||||"]
[null,"Japan",null,null,7,14,17,{"$f":"SUMPRODUCT($E$5:$G$5,E21:G21)","v":66},5869.4709999999995,11.244624941498135,null,"|||||||||||"]
[null,"Brazil",null,null,3,5,9,{"$f":"SUMPRODUCT($E$5:$G$5,E22:G22)","v":28},2492.9079999999999,11.231862547675245,null,"|||||||||||"]
[null,"Mexico",null,null,1,3,3,{"$f":"SUMPRODUCT($E$5:$G$5,E23:G23)","v":12},1154.7840000000001,10.391553745115969,null,"||||||||||"]
[null,"India",null,null,"-",2,4,{"$f":"SUMPRODUCT($E$5:$G$5,E24:G24)","v":8},1676.143,4.772862458632706,null,"|||||"]
[null,"Indonesia",null,null,"-",1,1,{"$f":"SUMPRODUCT($E$5:$G$5,E25:G25)","v":3},845.68,3.5474411124775331,null,"||||"]
[null,"Saudi Arabia",null,null,"-","-",1,{"$f":"SUMPRODUCT($E$5:$G$5,E26:G26)","v":1},577.59500000000003,1.7313169262199291,null,"||"]
[null,null,null,null,null,null,null,{"$f":"SUM(H7:H26)","v":1279},{"$f":"SUM(I7:I26)","v":55918.239999999998},22.87267982683289]
[]
[null,null,null,null,null,null,null,null,null,null,null,null,null,{"$f":"RSQ(H7:H26,I7:I26)","v":0.60449154432611929},"60% R-Squared!"]

{"sheet":"Unadjusted-2012","index":5,"n_rows":87,"n_cols":12,"rows_kept":87,"cut":false,"hidden":false,"merged":[]}
["Olympic Medals--2012",null,null,3,2,1]
[null,null,null,"Gold","Silver","Bronze","Total","Points","Match GDP","GDP ($M)","GDP $T","Pts/$T GDP"]
[1,null,"United States",46,29,29,104,{"$f":"SUMPRODUCT(D3:F3,$D$1:$F$1)","v":225},{"$f":"MATCH(C3,  'GDP-2012'!$C$4:$C$189,0)","v":178},{"$f":"OFFSET('GDP-2012'!$D$3,I3,0)","v":15094025},{"$f":"J3/1000/1000","v":15.094025},{"$f":"H3/K3","v":14.90656070862477}]
[2,null,"China",38,27,23,88,{"$f":"SUMPRODUCT(D4:F4,$D$1:$F$1)","v":191},{"$f":"MATCH(C4,  'GDP-2012'!$C$4:$C$189,0)","v":36},{"$f":"OFFSET('GDP-2012'!$D$3,I4,0)","v":7298147},7.2981470000000002,26.171026700339141]
[3,null,"Russia",24,26,32,82,{"$f":"SUMPRODUCT(D5:F5,$D$1:$F$1)","v":156},{"$f":"MATCH(C5,  'GDP-2012'!$C$4:$C$189,0)","v":137},{"$f":"OFFSET('GDP-2012'!$D$3,I5,0)","v":1850401},1.850401,84.306050418260696]
[4,null,"United Kingdom",29,17,19,65,{"$f":"SUMPRODUCT(D6:F6,$D$1:$F$1)","v":140},{"$f":"MATCH(C6,  'GDP-2012'!$C$4:$C$189,0)","v":177},{"$f":"OFFSET('GDP-2012'!$D$3,I6,0)","v":2417570},2.41757,57.909388352767451]
[5,null,"Germany",11,19,14,44,{"$f":"SUMPRODUCT(D7:F7,$D$1:$F$1)","v":85},{"$f":"MATCH(C7,  'GDP-2012'!$C$4:$C$189,0)","v":64},{"$f":"OFFSET('GDP-2012'!$D$3,I7,0)","v":3577031},3.5770309999999998,23.762723890287784]
[6,null,"France",11,11,12,34,{"$f":"SUMPRODUCT(D8:F8,$D$1:$F$1)","v":67},{"$f":"MATCH(C8,  'GDP-2012'!$C$4:$C$189,0)","v":60},{"$f":"OFFSET('GDP-2012'!$D$3,I8,0)","v":2776324},2.7763240000000002,24.132630053264673]
[7,null,"Japan",7,14,17,38,{"$f":"SUMPRODUCT(D9:F9,$D$1:$F$1)","v":66},{"$f":"MATCH(C9,  'GDP-2012'!$C$4:$C$189,0)","v":85},{"$f":"OFFSET('GDP-2012'!$D$3,I9,0)","v":5869471},5.8694709999999999,11.244624941498135]
[8,null,"Australia",7,16,12,35,{"$f":"SUMPRODUCT(D10:F10,$D$1:$F$1)","v":65},{"$f":"MATCH(C10,  'GDP-2012'!$C$4:$C$189,0)","v":8},{"$f":"OFFSET('GDP-2012'!$D$3,I10,0)","v":1488221},1.488221,43.676308827788347]
[9,null,"South Korea",13,8,7,28,{"$f":"SUMPRODUCT(D11:F11,$D$1:$F$1)","v":62},{"$f":"MATCH(C11,  'GDP-2012'!$C$4:$C$189,0)","v":154},{"$f":"OFFSET('GDP-2012'!$D$3,I11,0)","v":1116247},1.116247,55.543262378308746]
[10,null,"Italy",8,9,11,28,{"$f":"SUMPRODUCT(D12:F12,$D$1:$F$1)","v":53},{"$f":"MATCH(C12,  'GDP-2012'!$C$4:$C$189,0)","v":83},{"$f":"OFFSET('GDP-2012'!$D$3,I12,0)","v":2198730},2.1987299999999999,24.104824148485719]
[11,null,"Netherlands",6,6,8,20,{"$f":"SUMPRODUCT(D13:F13,$D$1:$F$1)","v":38},{"$f":"MATCH(C13,  'GDP-2012'!$C$4:$C$189,0)","v":118},{"$f":"OFFSET('GDP-2012'!$D$3,I13,0)","v":840433},0.84043299999999999,45.214788091376711]
[12,null,"Hungary",8,4,5,17,{"$f":"SUMPRODUCT(D14:F14,$D$1:$F$1)","v":37},{"$f":"MATCH(C14,  'GDP-2012'!$C$4:$C$189,0)","v":75},{"$f":"OFFSET('GDP-2012'!$D$3,I14,0)","v":140303},0.14030300000000001,263.71495976565006]
[13,null,"Ukraine",6,5,9,20,{"$f":"SUMPRODUCT(D15:F15,$D$1:$F$1)","v":37},{"$f":"MATCH(C15,  'GDP-2012'!$C$4:$C$189,0)","v":175},{"$f":"OFFSET('GDP-2012'!$D$3,I15,0)","v":164960},0.16496,224.29679922405433]
[14,null,"Spain",3,10,4,17,{"$f":"SUMPRODUCT(D16:F16,$D$1:$F$1)","v":33},{"$f":"MATCH(C16,  'GDP-2012'!$C$4:$C$189,0)","v":155},{"$f":"OFFSET('GDP-2012'!$D$3,I16,0)","v":1493513},1.4935129999999999,22.095555914143368]
[15,null,"Kazakhstan",7,1,5,13,{"$f":"SUMPRODUCT(D17:F17,$D$1:$F$1)","v":28},{"$f":"MATCH(C17,  'GDP-2012'!$C$4:$C$189,0)","v":87},{"$f":"OFFSET('GDP-2012'!$D$3,I17,0)","v":178312},0.178312,157.02813046794384]
[16,null,"Brazil",3,5,9,17,{"$f":"SUMPRODUCT(D18:F18,$D$1:$F$1)","v":28},{"$f":"MATCH(C18,  'GDP-2012'!$C$4:$C$189,0)","v":23},{"$f":"OFFSET('GDP-2012'!$D$3,I18,0)","v":2492908},2.4929079999999999,11.231862547675245]
[17,null,"Cuba",5,3,6,14,{"$f":"SUMPRODUCT(D19:F19,$D$1:$F$1)","v":27},{"$f":"MATCH(C19,  'GDP-2012'!$C$4:$C$189,0)","v":44},{"$f":"OFFSET('GDP-2012'!$D$3,I19,0)","v":62705},6.2704999999999997E-2,430.58767243441514]
[18,null,"New Zealand",6,2,5,13,{"$f":"SUMPRODUCT(D20:F20,$D$1:$F$1)","v":27},{"$f":"MATCH(C20,  'GDP-2012'!$C$4:$C$189,0)","v":119},{"$f":"OFFSET('GDP-2012'!$D$3,I20,0)","v":161851},0.16185099999999999,166.82009996848953]
[19,null,"Iran",4,5,3,12,{"$f":"SUMPRODUCT(D21:F21,$D$1:$F$1)","v":25},{"$f":"MATCH(C21,  'GDP-2012'!$C$4:$C$189,0)","v":79},{"$f":"OFFSET('GDP-2012'!$D$3,I21,0)","v":482445},0.48244500000000001,51.819378374737013]
[20,null,"Canada",1,5,12,18,{"$f":"SUMPRODUCT(D22:F22,$D$1:$F$1)","v":25},{"$f":"MATCH(C22,  'GDP-2012'!$C$4:$C$189,0)","v":31},{"$f":"OFFSET('GDP-2012'!$D$3,I22,0)","v":1736869},1.736869,14.393716509420111]
[21,null,"Jamaica",4,4,4,12,{"$f":"SUMPRODUCT(D23:F23,$D$1:$F$1)","v":24},{"$f":"MATCH(C23,  'GDP-2012'!$C$4:$C$189,0)","v":84},{"$f":"OFFSET('GDP-2012'!$D$3,I23,0)","v":14807},1.4807000000000001E-2,1620.8550010130343]
[22,null,"Belarus",3,5,5,13,{"$f":"SUMPRODUCT(D24:F24,$D$1:$F$1)","v":24},{"$f":"MATCH(C24,  'GDP-2012'!$C$4:$C$189,0)","v":15},{"$f":"OFFSET('GDP-2012'!$D$3,I24,0)","v":55483},5.5482999999999998E-2,432.5649297983166]
[23,null,"Czech Republic",4,3,3,10,{"$f":"SUMPRODUCT(D25:F25,$D$1:$F$1)","v":21},{"$f":"MATCH(C25,  'GDP-2012'!$C$4:$C$189,0)","v":46},{"$f":"OFFSET('GDP-2012'!$D$3,I25,0)","v":215265},0.21526499999999998,97.554177409239784]
[24,null,"Kenya",2,4,5,11,{"$f":"SUMPRODUCT(D26:F26,$D$1:$F$1)","v":19},{"$f":"MATCH(C26,  'GDP-2012'!$C$4:$C$189,0)","v":88},{"$f":"OFFSET('GDP-2012'!$D$3,I26,0)","v":34796},3.4796000000000001E-2,546.03977468674555]
[25,null,"Romania",2,5,2,9,{"$f":"SUMPRODUCT(D27:F27,$D$1:$F$1)","v":18},{"$f":"MATCH(C27,  'GDP-2012'!$C$4:$C$189,0)","v":136},{"$f":"OFFSET('GDP-2012'!$D$3,I27,0)","v":189776},0.189776,94.848663687716041]
[26,null,"Denmark",2,4,3,9,{"$f":"SUMPRODUCT(D28:F28,$D$1:$F$1)","v":17},{"$f":"MATCH(C28,  'GDP-2012'!$C$4:$C$189,0)","v":47},{"$f":"OFFSET('GDP-2012'!$D$3,I28,0)","v":333238},0.33323799999999998,51.014590172789418]
[27,null,"Azerbaijan",2,2,6,10,{"$f":"SUMPRODUCT(D29:F29,$D$1:$F$1)","v":16},{"$f":"MATCH(C29,  'GDP-2012'!$C$4:$C$189,0)","v":10},{"$f":"OFFSET('GDP-2012'!$D$3,I29,0)","v":62321},6.2321000000000001E-2,256.73528987018824]
[28,null,"Poland",2,2,6,10,{"$f":"SUMPRODUCT(D30:F30,$D$1:$F$1)","v":16},{"$f":"MATCH(C30,  'GDP-2012'!$C$4:$C$189,0)","v":132},{"$f":"OFFSET('GDP-2012'!$D$3,I30,0)","v":513821},0.51382099999999997,31.139248882392899]
[29,null,"North Korea",4,"-",2,6,{"$f":"SUMPRODUCT(D31:F31,$D$1:$F$1)","v":14},{"$f":"MATCH(C31,  'GDP-2012'!$C$4:$C$189,0)","v":123},{"$f":"OFFSET('GDP-2012'!$D$3,I31,0)","v":28000},2.8000000000000001E-2,500]
[30,null,"Ethiopia",3,1,3,7,{"$f":"SUMPRODUCT(D32:F32,$D$1:$F$1)","v":14},{"$f":"MATCH(C32,  'GDP-2012'!$C$4:$C$189,0)","v":57},{"$f":"OFFSET('GDP-2012'!$D$3,I32,0)","v":31256},3.1255999999999999E-2,447.91400051190175]
[30,null,"South Africa",3,2,1,6,{"$f":"SUMPRODUCT(D33:F33,$D$1:$F$1)","v":14},{"$f":"MATCH(C33,  'GDP-2012'!$C$4:$C$189,0)","v":153},{"$f":"OFFSET('GDP-2012'!$D$3,I33,0)","v":408074},0.40807399999999999,34.307503050917234]
[32,null,"Sweden",1,4,3,8,{"$f":"SUMPRODUCT(D34:F34,$D$1:$F$1)","v":14},{"$f":"MATCH(C34,  'GDP-2012'!$C$4:$C$189,0)","v":160},{"$f":"OFFSET('GDP-2012'!$D$3,I34,0)","v":538237},0.53823699999999997,26.010846523000094]
[33,null,"Croatia",3,1,2,6,{"$f":"SUMPRODUCT(D35:F35,$D$1:$F$1)","v":13},{"$f":"MATCH(C35,  'GDP-2012'!$C$4:$C$189,0)","v":43},{"$f":"OFFSET('GDP-2012'!$D$3,I35,0)","v":63842},{"$f":"J35/1000/1000","v":6.3841999999999996E-2},{"$f":"H35/K35","v":203.62770589893802}]
[34,null,"Colombia",1,3,4,8,{"$f":"SUMPRODUCT(D36:F36,$D$1:$F$1)","v":13},{"$f":"MATCH(C36,  'GDP-2012'!$C$4:$C$189,0)","v":37},{"$f":"OFFSET('GDP-2012'!$D$3,I36,0)","v":328422},0.32842200000000005,39.583219150970393]
[35,null,"Georgia",1,3,3,7,{"$f":"SUMPRODUCT(D37:F37,$D$1:$F$1)","v":12},{"$f":"MATCH(C37,  'GDP-2012'!$C$4:$C$189,0)","v":63},{"$f":"OFFSET('GDP-2012'!$D$3,I37,0)","v":14347},1.4347E-2,836.41179340628696]
[36,null,"Mexico",1,3,3,7,{"$f":"SUMPRODUCT(D38:F38,$D$1:$F$1)","v":12},{"$f":"MATCH(C38,  'GDP-2012'!$C$4:$C$189,0)","v":110},{"$f":"OFFSET('GDP-2012'!$D$3,I38,0)","v":1154784},1.154784,10.391553745115969]
[37,null,"Turkey",2,2,1,5,{"$f":"SUMPRODUCT(D39:F39,$D$1:$F$1)","v":11},{"$f":"MATCH(C39,  'GDP-2012'!$C$4:$C$189,0)","v":171},{"$f":"OFFSET('GDP-2012'!$D$3,I39,0)","v":778089},0.77808900000000003,14.137200243159844]
[38,null,"Lithuania",2,1,2,5,{"$f":"SUMPRODUCT(D40:F40,$D$1:$F$1)","v":10},{"$f":"MATCH(C40,  'GDP-2012'!$C$4:$C$189,0)","v":99},{"$f":"OFFSET('GDP-2012'!$D$3,I40,0)","v":42718},4.2718000000000006E-2,234.09335643054447]
[39,null,"Switzerland",2,2,"-",4,{"$f":"SUMPRODUCT(D41:F41,$D$1:$F$1)","v":10},{"$f":"MATCH(C41,  'GDP-2012'!$C$4:$C$189,0)","v":161},{"$f":"OFFSET('GDP-2012'!$D$3,I41,0)","v":636059},0.63605899999999993,15.721811970273199]
[39,null,"Norway",2,1,1,4,{"$f":"SUMPRODUCT(D42:F42,$D$1:$F$1)","v":9},{"$f":"MATCH(C42,  'GDP-2012'!$C$4:$C$189,0)","v":124},{"$f":"OFFSET('GDP-2012'!$D$3,I42,0)","v":483650},0.48364999999999997,18.608497880698852]
[41,null,"Ireland",1,1,3,5,{"$f":"SUMPRODUCT(D43:F43,$D$1:$F$1)","v":8},{"$f":"MATCH(C43,  'GDP-2012'!$C$4:$C$189,0)","v":81},{"$f":"OFFSET('GDP-2012'!$D$3,I43,0)","v":217669},0.217669,36.753051651819966]
[42,null,"India","-",2,4,6,{"$f":"SUMPRODUCT(D44:F44,$D$1:$F$1)","v":8},{"$f":"MATCH(C44,  'GDP-2012'!$C$4:$C$189,0)","v":77},{"$f":"OFFSET('GDP-2012'!$D$3,I44,0)","v":1676143},1.6761429999999999,4.772862458632706]
[42,null,"Mongolia","-",2,3,5,{"$f":"SUMPRODUCT(D45:F45,$D$1:$F$1)","v":7},{"$f":"MATCH(C45,  'GDP-2012'!$C$4:$C$189,0)","v":112},{"$f":"OFFSET('GDP-2012'!$D$3,I45,0)","v":8506},8.5059999999999997E-3,822.9485069362803]
[42,null,"Serbia",1,1,2,4,{"$f":"SUMPRODUCT(D46:F46,$D$1:$F$1)","v":7},{"$f":"MATCH(C46,  'GDP-2012'!$C$4:$C$189,0)","v":146},{"$f":"OFFSET('GDP-2012'!$D$3,I46,0)","v":45064},4.5064E-2,155.33463518551395]
[45,null,"Slovenia",1,1,2,4,{"$f":"SUMPRODUCT(D47:F47,$D$1:$F$1)","v":7},{"$f":"MATCH(C47,  'GDP-2012'!$C$4:$C$189,0)","v":151},{"$f":"OFFSET('GDP-2012'!$D$3,I47,0)","v":49588},4.9588E-2,141.1631846414455]
[46,null,"Argentina",1,1,2,4,{"$f":"SUMPRODUCT(D48:F48,$D$1:$F$1)","v":7},{"$f":"MATCH(C48,  'GDP-2012'!$C$4:$C$189,0)","v":6},{"$f":"OFFSET('GDP-2012'!$D$3,I48,0)","v":447644},0.44764399999999999,15.637426169009302]
[47,null,"Trinidad and Tobago",1,"-",3,4,{"$f":"SUMPRODUCT(D49:F49,$D$1:$F$1)","v":6},{"$f":"MATCH(C49,  'GDP-2012'!$C$4:$C$189,0)","v":169},{"$f":"OFFSET('GDP-2012'!$D$3,I49,0)","v":22707},2.2707000000000001E-2,264.2356982428326]
[47,null,"Uzbekistan",1,"-",3,4,{"$f":"SUMPRODUCT(D50:F50,$D$1:$F$1)","v":6},{"$f":"MATCH(C50,  'GDP-2012'!$C$4:$C$189,0)","v":180},{"$f":"OFFSET('GDP-2012'!$D$3,I50,0)","v":45353},4.5353000000000004E-2,132.29554825480122]
[49,null,"Tunisia",1,1,1,3,{"$f":"SUMPRODUCT(D51:F51,$D$1:$F$1)","v":6},{"$f":"MATCH(C51,  'GDP-2012'!$C$4:$C$189,0)","v":170},{"$f":"OFFSET('GDP-2012'!$D$3,I51,0)","v":46360},4.6359999999999998E-2,129.42191544434857]
[50,null,"Dominican Republic",1,1,"-",2,{"$f":"SUMPRODUCT(D52:F52,$D$1:$F$1)","v":5},{"$f":"MATCH(C52,  'GDP-2012'!$C$4:$C$189,0)","v":50},{"$f":"OFFSET('GDP-2012'!$D$3,I52,0)","v":56700},5.67E-2,88.183421516754848]
[50,null,"Slovakia","-",1,3,4,{"$f":"SUMPRODUCT(D53:F53,$D$1:$F$1)","v":5},{"$f":"MATCH(C53,  'GDP-2012'!$C$4:$C$189,0)","v":150},{"$f":"OFFSET('GDP-2012'!$D$3,I53,0)","v":96089},9.6088999999999994E-2,52.035092466359316]
[50,null,"Thailand","-",2,1,3,{"$f":"SUMPRODUCT(D54:F54,$D$1:$F$1)","v":5},{"$f":"MATCH(C54,  'GDP-2012'!$C$4:$C$189,0)","v":165},{"$f":"OFFSET('GDP-2012'!$D$3,I54,0)","v":345649},0.34564899999999998,14.465541633275375]
[50,null,"Armenia","-",1,2,3,{"$f":"SUMPRODUCT(D55:F55,$D$1:$F$1)","v":4},{"$f":"MATCH(C55,  'GDP-2012'!$C$4:$C$189,0)","v":7},{"$f":"OFFSET('GDP-2012'!$D$3,I55,0)","v":10106},1.0106E-2,395.80447259054029]
[50,null,"Latvia",1,"-",1,2,{"$f":"SUMPRODUCT(D56:F56,$D$1:$F$1)","v":4},{"$f":"MATCH(C56,  'GDP-2012'!$C$4:$C$189,0)","v":94},{"$f":"OFFSET('GDP-2012'!$D$3,I56,0)","v":28252},2.8251999999999999E-2,141.58289678606823]
[55,null,"Egypt","-",2,"-",2,{"$f":"SUMPRODUCT(D57:F57,$D$1:$F$1)","v":4},{"$f":"MATCH(C57,  'GDP-2012'!$C$4:$C$189,0)","v":52},{"$f":"OFFSET('GDP-2012'!$D$3,I57,0)","v":235719},0.23571899999999998,16.969357582545321]
[56,null,"Finland","-",1,2,3,{"$f":"SUMPRODUCT(D58:F58,$D$1:$F$1)","v":4},{"$f":"MATCH(C58,  'GDP-2012'!$C$4:$C$189,0)","v":59},{"$f":"OFFSET('GDP-2012'!$D$3,I58,0)","v":266553},0.26655299999999998,15.006396476498109]
[57,null,"Belgium","-",1,2,3,{"$f":"SUMPRODUCT(D59:F59,$D$1:$F$1)","v":4},{"$f":"MATCH(C59,  'GDP-2012'!$C$4:$C$189,0)","v":16},{"$f":"OFFSET('GDP-2012'!$D$3,I59,0)","v":513396},0.51339599999999996,7.7912566517853667]
[58,null,"Grenada",1,"-","-",1,{"$f":"SUMPRODUCT(D60:F60,$D$1:$F$1)","v":3},{"$f":"MATCH(C60,  'GDP-2012'!$C$4:$C$189,0)","v":67},{"$f":"OFFSET('GDP-2012'!$D$3,I60,0)","v":822},8.2199999999999992E-4,3649.6350364963505]
[59,null,"Bahamas",1,"-","-",1,{"$f":"SUMPRODUCT(D61:F61,$D$1:$F$1)","v":3},{"$f":"MATCH(C61,  'GDP-2012'!$C$4:$C$189,0)","v":11},{"$f":"OFFSET('GDP-2012'!$D$3,I61,0)","v":8074},8.0739999999999996E-3,371.56304186276941]
[60,null,"Uganda",1,"-","-",1,{"$f":"SUMPRODUCT(D62:F62,$D$1:$F$1)","v":3},{"$f":"MATCH(C62,  'GDP-2012'!$C$4:$C$189,0)","v":174},{"$f":"OFFSET('GDP-2012'!$D$3,I62,0)","v":16810},1.6809999999999999E-2,178.46519928613921]
[60,null,"Estonia","-",1,1,2,{"$f":"SUMPRODUCT(D63:F63,$D$1:$F$1)","v":3},{"$f":"MATCH(C63,  'GDP-2012'!$C$4:$C$189,0)","v":56},{"$f":"OFFSET('GDP-2012'!$D$3,I63,0)","v":22225},2.2225000000000002E-2,134.98312710911136]
[60,null,"Bulgaria","-",1,1,2,{"$f":"SUMPRODUCT(D64:F64,$D$1:$F$1)","v":3},{"$f":"MATCH(C64,  'GDP-2012'!$C$4:$C$189,0)","v":25},{"$f":"OFFSET('GDP-2012'!$D$3,I64,0)","v":53514},5.3514000000000006E-2,56.060096423365842]
[63,null,"Puerto Rico","-",1,1,2,{"$f":"SUMPRODUCT(D65:F65,$D$1:$F$1)","v":3},{"$f":"MATCH(C65,  'GDP-2012'!$C$4:$C$189,0)","v":134},{"$f":"OFFSET('GDP-2012'!$D$3,I65,0)","v":96261},9.6260999999999999E-2,31.165269423754168]
[63,null,"Algeria",1,"-","-",1,{"$f":"SUMPRODUCT(D66:F66,$D$1:$F$1)","v":3},{"$f":"MATCH(C66,  'GDP-2012'!$C$4:$C$189,0)","v":3},{"$f":"OFFSET('GDP-2012'!$D$3,I66,0)","v":190709},0.19070899999999999,15.730773062624209]
[63,null,"Malaysia","-",1,1,2,{"$f":"SUMPRODUCT(D67:F67,$D$1:$F$1)","v":3},{"$f":"MATCH(C67,  'GDP-2012'!$C$4:$C$189,0)","v":104},{"$f":"OFFSET('GDP-2012'!$D$3,I67,0)","v":278680},{"$f":"J67/1000/1000","v":0.27867999999999998},{"$f":"H67/K67","v":10.765035165781542}]
[63,null,"Venezuela",1,"-","-",1,{"$f":"SUMPRODUCT(D68:F68,$D$1:$F$1)","v":3},{"$f":"MATCH(C68,  'GDP-2012'!$C$4:$C$189,0)","v":182},{"$f":"OFFSET('GDP-2012'!$D$3,I68,0)","v":315841},0.31584099999999998,9.4984501695473362]
[63,null,"Taiwan","-",1,1,2,{"$f":"SUMPRODUCT(D69:F69,$D$1:$F$1)","v":3},{"$f":"MATCH(C69,  'GDP-2012'!$C$4:$C$189,0)","v":162},{"$f":"OFFSET('GDP-2012'!$D$3,I69,0)","v":466832},0.46683199999999997,6.4262946841690374]
[63,null,"Indonesia","-",1,1,2,{"$f":"SUMPRODUCT(D70:F70,$D$1:$F$1)","v":3},{"$f":"MATCH(C70,  'GDP-2012'!$C$4:$C$189,0)","v":78},{"$f":"OFFSET('GDP-2012'!$D$3,I70,0)","v":845680},0.84567999999999999,3.5474411124775331]
[69,null,"Montenegro","-",1,"-",1,{"$f":"SUMPRODUCT(D71:F71,$D$1:$F$1)","v":2},{"$f":"MATCH(C71,  'GDP-2012'!$C$4:$C$189,0)","v":113},{"$f":"OFFSET('GDP-2012'!$D$3,I71,0)","v":4536},4.5359999999999992E-3,440.91710758377434]
[69,null,"Moldova","-","-",2,2,{"$f":"SUMPRODUCT(D72:F72,$D$1:$F$1)","v":2},{"$f":"MATCH(C72,  'GDP-2012'!$C$4:$C$189,0)","v":111},{"$f":"OFFSET('GDP-2012'!$D$3,I72,0)","v":7003},7.0030000000000005E-3,285.59188919034699]
[69,null,"Gabon","-",1,"-",1,{"$f":"SUMPRODUCT(D73:F73,$D$1:$F$1)","v":2},{"$f":"MATCH(C73,  'GDP-2012'!$C$4:$C$189,0)","v":61},{"$f":"OFFSET('GDP-2012'!$D$3,I73,0)","v":16176},1.6175999999999999E-2,123.63996043521267]
[69,null,"Botswana","-",1,"-",1,{"$f":"SUMPRODUCT(D74:F74,$D$1:$F$1)","v":2},{"$f":"MATCH(C74,  'GDP-2012'!$C$4:$C$189,0)","v":22},{"$f":"OFFSET('GDP-2012'!$D$3,I74,0)","v":17570},1.7569999999999999E-2,113.83039271485488]
[69,null,"Cyprus","-",1,"-",1,{"$f":"SUMPRODUCT(D75:F75,$D$1:$F$1)","v":2},{"$f":"MATCH(C75,  'GDP-2012'!$C$4:$C$189,0)","v":45},{"$f":"OFFSET('GDP-2012'!$D$3,I75,0)","v":24949},2.4949000000000002E-2,80.163533608561451]
[69,null,"Guatemala","-",1,"-",1,{"$f":"SUMPRODUCT(D76:F76,$D$1:$F$1)","v":2},{"$f":"MATCH(C76,  'GDP-2012'!$C$4:$C$189,0)","v":68},{"$f":"OFFSET('GDP-2012'!$D$3,I76,0)","v":46897},4.6897000000000001E-2,42.646651171716741]
[75,null,"Qatar","-","-",2,2,{"$f":"SUMPRODUCT(D77:F77,$D$1:$F$1)","v":2},{"$f":"MATCH(C77,  'GDP-2012'!$C$4:$C$189,0)","v":135},{"$f":"OFFSET('GDP-2012'!$D$3,I77,0)","v":173847},0.173847,11.504368784045742]
[75,null,"Portugal","-",1,"-",1,{"$f":"SUMPRODUCT(D78:F78,$D$1:$F$1)","v":2},{"$f":"MATCH(C78,  'GDP-2012'!$C$4:$C$189,0)","v":133},{"$f":"OFFSET('GDP-2012'!$D$3,I78,0)","v":238880},0.23888000000000001,8.3724045545880781]
[75,null,"Singapore","-","-",2,2,{"$f":"SUMPRODUCT(D79:F79,$D$1:$F$1)","v":2},{"$f":"MATCH(C79,  'GDP-2012'!$C$4:$C$189,0)","v":149},{"$f":"OFFSET('GDP-2012'!$D$3,I79,0)","v":259849},0.259849,7.6967777439974752]
[75,null,"Greece","-","-",2,2,{"$f":"SUMPRODUCT(D80:F80,$D$1:$F$1)","v":2},{"$f":"MATCH(C80,  'GDP-2012'!$C$4:$C$189,0)","v":66},{"$f":"OFFSET('GDP-2012'!$D$3,I80,0)","v":303065},0.30306499999999997,6.5992443865177446]
[79,null,"Tajikistan","-","-",1,1,{"$f":"SUMPRODUCT(D81:F81,$D$1:$F$1)","v":1},{"$f":"MATCH(C81,  'GDP-2012'!$C$4:$C$189,0)","v":163},{"$f":"OFFSET('GDP-2012'!$D$3,I81,0)","v":6523},6.5229999999999993E-3,153.30369461904033]
[79,null,"Afghanistan","-","-",1,1,{"$f":"SUMPRODUCT(D82:F82,$D$1:$F$1)","v":1},{"$f":"MATCH(C82,  'GDP-2012'!$C$4:$C$189,0)","v":1},{"$f":"OFFSET('GDP-2012'!$D$3,I82,0)","v":18181},1.8180999999999999E-2,55.002475111380015]
[79,null,"Bahrain","-","-",1,1,{"$f":"SUMPRODUCT(D83:F83,$D$1:$F$1)","v":1},{"$f":"MATCH(C83,  'GDP-2012'!$C$4:$C$189,0)","v":12},{"$f":"OFFSET('GDP-2012'!$D$3,I83,0)","v":26108},2.6107999999999999E-2,38.302436034931823]
[79,null,"Morocco","-","-",1,1,{"$f":"SUMPRODUCT(D84:F84,$D$1:$F$1)","v":1},{"$f":"MATCH(C84,  'GDP-2012'!$C$4:$C$189,0)","v":114},{"$f":"OFFSET('GDP-2012'!$D$3,I84,0)","v":99241},9.9240999999999996E-2,10.076480486895537]
[79,null,"Kuwait","-","-",1,1,{"$f":"SUMPRODUCT(D85:F85,$D$1:$F$1)","v":1},{"$f":"MATCH(C85,  'GDP-2012'!$C$4:$C$189,0)","v":91},{"$f":"OFFSET('GDP-2012'!$D$3,I85,0)","v":176667},0.17666699999999999,5.6603666785534372]
[79,null,"Hong Kong","-","-",1,1,{"$f":"SUMPRODUCT(D86:F86,$D$1:$F$1)","v":1},{"$f":"MATCH(C86,  'GDP-2012'!$C$4:$C$189,0)","v":74},{"$f":"OFFSET('GDP-2012'!$D$3,I86,0)","v":243302},0.24330199999999999,4.1101182892043635]
[79,null,"Saudi Arabia","-","-",1,1,{"$f":"SUMPRODUCT(D87:F87,$D$1:$F$1)","v":1},{"$f":"MATCH(C87,  'GDP-2012'!$C$4:$C$189,0)","v":144},{"$f":"OFFSET('GDP-2012'!$D$3,I87,0)","v":577595},0.57759500000000008,1.7313169262199291]

{"sheet":"Overall Score-2012","index":6,"n_rows":88,"n_cols":20,"rows_kept":88,"cut":false,"hidden":false,"merged":[]}
["Olympic Medal Efficiency Leaders",null,null,3,2,1]
[null,null,null,"Gold","Silver","Bronze","Total","Points","Match GDP","GDP ($M)","GDP $T","Pts/$T GDP",null,null,null,"Name","GDP","Pts","Pts/GDP"]
[1,null,"Grenada",1,"-","-",1,{"$f":"SUMPRODUCT(D3:F3,$D$1:$F$1)","v":3},{"$f":"MATCH(C3,  'GDP-2012'!$C$4:$C$189,0)","v":67},{"$f":"OFFSET('GDP-2012'!$D$3,I3,0)","v":822},{"$f":"J3/1000/1000","v":8.2199999999999992E-4},{"$f":"H3/K3","v":3649.6350364963505},null,"Straight efficiency.",null,{"$f":"C3","v":"Grenada"},{"$f":"K3","v":8.2199999999999992E-4},{"$f":"H3","v":3},{"$f":"R3/Q3","v":3649.6350364963505},"Overperform"]
[2,null,"Jamaica",4,4,4,12,{"$f":"SUMPRODUCT(D4:F4,$D$1:$F$1)","v":24},{"$f":"MATCH(C4,  'GDP-2012'!$C$4:$C$189,0)","v":84},{"$f":"OFFSET('GDP-2012'!$D$3,I4,0)","v":14807},1.4807000000000001E-2,1620.8550010130343,null,null,null,{"$f":"C4","v":"Jamaica"},{"$f":"K4","v":1.4807000000000001E-2},{"$f":"H4","v":24},{"$f":"R4/Q4","v":1620.8550010130343},"Overperform"]
[3,null,"Georgia",1,3,3,7,{"$f":"SUMPRODUCT(D5:F5,$D$1:$F$1)","v":12},{"$f":"MATCH(C5,  'GDP-2012'!$C$4:$C$189,0)","v":63},{"$f":"OFFSET('GDP-2012'!$D$3,I5,0)","v":14347},1.4347E-2,836.41179340628696,null,null,null,"Georgia",1.4347E-2,12,836.41179340628696,"Overperform"]
[4,null,"Mongolia","-",2,3,5,{"$f":"SUMPRODUCT(D6:F6,$D$1:$F$1)","v":7},{"$f":"MATCH(C6,  'GDP-2012'!$C$4:$C$189,0)","v":112},{"$f":"OFFSET('GDP-2012'!$D$3,I6,0)","v":8506},8.5059999999999997E-3,822.9485069362803,null,null,null,"Mongolia",8.5059999999999997E-3,7,822.9485069362803,"Overperform"]
[5,null,"Kenya",2,4,5,11,{"$f":"SUMPRODUCT(D7:F7,$D$1:$F$1)","v":19},{"$f":"MATCH(C7,  'GDP-2012'!$C$4:$C$189,0)","v":88},{"$f":"OFFSET('GDP-2012'!$D$3,I7,0)","v":34796},3.4796000000000001E-2,546.03977468674555,null,null,null,"Kenya",3.4796000000000001E-2,19,546.03977468674555,"Overperform"]
[6,null,"North Korea",4,"-",2,6,{"$f":"SUMPRODUCT(D8:F8,$D$1:$F$1)","v":14},{"$f":"MATCH(C8,  'GDP-2012'!$C$4:$C$189,0)","v":123},{"$f":"OFFSET('GDP-2012'!$D$3,I8,0)","v":28000},2.8000000000000001E-2,500,null,null,null,"North Korea",2.8000000000000001E-2,14,500,"Overperform"]
[7,null,"Ethiopia",3,1,3,7,{"$f":"SUMPRODUCT(D9:F9,$D$1:$F$1)","v":14},{"$f":"MATCH(C9,  'GDP-2012'!$C$4:$C$189,0)","v":57},{"$f":"OFFSET('GDP-2012'!$D$3,I9,0)","v":31256},3.1255999999999999E-2,447.91400051190175,null,null,null,"Ethiopia",3.1255999999999999E-2,14,447.91400051190175,"Overperform"]
[8,null,"Montenegro","-",1,"-",1,{"$f":"SUMPRODUCT(D10:F10,$D$1:$F$1)","v":2},{"$f":"MATCH(C10,  'GDP-2012'!$C$4:$C$189,0)","v":113},{"$f":"OFFSET('GDP-2012'!$D$3,I10,0)","v":4536},4.5359999999999992E-3,440.91710758377434,null,null,null,"Montenegro",4.5359999999999992E-3,2,440.91710758377434,"Overperform"]
[9,null,"Belarus",3,5,5,13,{"$f":"SUMPRODUCT(D11:F11,$D$1:$F$1)","v":24},{"$f":"MATCH(C11,  'GDP-2012'!$C$4:$C$189,0)","v":15},{"$f":"OFFSET('GDP-2012'!$D$3,I11,0)","v":55483},5.5482999999999998E-2,432.5649297983166,null,null,null,"Belarus",5.5482999999999998E-2,24,432.5649297983166,"Overperform"]
[10,null,"Cuba",5,3,6,14,{"$f":"SUMPRODUCT(D12:F12,$D$1:$F$1)","v":27},{"$f":"MATCH(C12,  'GDP-2012'!$C$4:$C$189,0)","v":44},{"$f":"OFFSET('GDP-2012'!$D$3,I12,0)","v":62705},6.2704999999999997E-2,430.58767243441514,null,null,null,"Cuba",6.2704999999999997E-2,27,430.58767243441514,"Overperform"]
[11,null,"Armenia","-",1,2,3,{"$f":"SUMPRODUCT(D13:F13,$D$1:$F$1)","v":4},{"$f":"MATCH(C13,  'GDP-2012'!$C$4:$C$189,0)","v":7},{"$f":"OFFSET('GDP-2012'!$D$3,I13,0)","v":10106},1.0106E-2,395.80447259054029,null,null,null,"Armenia",1.0106E-2,4,395.80447259054029,"Overperform"]
[12,null,"Bahamas",1,"-","-",1,{"$f":"SUMPRODUCT(D14:F14,$D$1:$F$1)","v":3},{"$f":"MATCH(C14,  'GDP-2012'!$C$4:$C$189,0)","v":11},{"$f":"OFFSET('GDP-2012'!$D$3,I14,0)","v":8074},8.0739999999999996E-3,371.56304186276941,null,null,null,"Bahamas",8.0739999999999996E-3,3,371.56304186276941,"Overperform"]
[13,null,"Moldova","-","-",2,2,{"$f":"SUMPRODUCT(D15:F15,$D$1:$F$1)","v":2},{"$f":"MATCH(C15,  'GDP-2012'!$C$4:$C$189,0)","v":111},{"$f":"OFFSET('GDP-2012'!$D$3,I15,0)","v":7003},7.0030000000000005E-3,285.59188919034699,null,null,null,"Moldova",7.0030000000000005E-3,2,285.59188919034699,"Overperform"]
[14,null,"Trinidad and Tobago",1,"-",3,4,{"$f":"SUMPRODUCT(D16:F16,$D$1:$F$1)","v":6},{"$f":"MATCH(C16,  'GDP-2012'!$C$4:$C$189,0)","v":169},{"$f":"OFFSET('GDP-2012'!$D$3,I16,0)","v":22707},2.2707000000000001E-2,264.2356982428326,null,null,null,"Trinidad and Tobago",2.2707000000000001E-2,6,264.2356982428326,"Overperform"]
[15,null,"Hungary",8,4,5,17,{"$f":"SUMPRODUCT(D17:F17,$D$1:$F$1)","v":37},{"$f":"MATCH(C17,  'GDP-2012'!$C$4:$C$189,0)","v":75},{"$f":"OFFSET('GDP-2012'!$D$3,I17,0)","v":140303},0.14030300000000001,263.71495976565006,null,null,null,"Hungary",0.14030300000000001,37,263.71495976565006,"Overperform"]
[16,null,"Azerbaijan",2,2,6,10,{"$f":"SUMPRODUCT(D18:F18,$D$1:$F$1)","v":16},{"$f":"MATCH(C18,  'GDP-2012'!$C$4:$C$189,0)","v":10},{"$f":"OFFSET('GDP-2012'!$D$3,I18,0)","v":62321},6.2321000000000001E-2,256.73528987018824,null,null,null,"Azerbaijan",6.2321000000000001E-2,16,256.73528987018824,"Overperform"]
[17,null,"Lithuania",2,1,2,5,{"$f":"SUMPRODUCT(D19:F19,$D$1:$F$1)","v":10},{"$f":"MATCH(C19,  'GDP-2012'!$C$4:$C$189,0)","v":99},{"$f":"OFFSET('GDP-2012'!$D$3,I19,0)","v":42718},4.2718000000000006E-2,234.09335643054447,null,null,null,"Lithuania",4.2718000000000006E-2,10,234.09335643054447,"Overperform"]
[18,null,"Ukraine",6,5,9,20,{"$f":"SUMPRODUCT(D20:F20,$D$1:$F$1)","v":37},{"$f":"MATCH(C20,  'GDP-2012'!$C$4:$C$189,0)","v":175},{"$f":"OFFSET('GDP-2012'!$D$3,I20,0)","v":164960},0.16496,224.29679922405433,null,null,null,"Ukraine",0.16496,37,224.29679922405433,"Overperform"]
[19,null,"Croatia",3,1,2,6,{"$f":"SUMPRODUCT(D21:F21,$D$1:$F$1)","v":13},{"$f":"MATCH(C21,  'GDP-2012'!$C$4:$C$189,0)","v":43},{"$f":"OFFSET('GDP-2012'!$D$3,I21,0)","v":63842},6.3841999999999996E-2,203.62770589893802,null,null,null,"Croatia",6.3841999999999996E-2,13,203.62770589893802,"Overperform"]
[20,null,"Uganda",1,"-","-",1,{"$f":"SUMPRODUCT(D22:F22,$D$1:$F$1)","v":3},{"$f":"MATCH(C22,  'GDP-2012'!$C$4:$C$189,0)","v":174},{"$f":"OFFSET('GDP-2012'!$D$3,I22,0)","v":16810},1.6809999999999999E-2,178.46519928613921,null,null,null,"Uganda",1.6809999999999999E-2,3,178.46519928613921,"Overperform"]
[21,null,"New Zealand",6,2,5,13,{"$f":"SUMPRODUCT(D23:F23,$D$1:$F$1)","v":27},{"$f":"MATCH(C23,  'GDP-2012'!$C$4:$C$189,0)","v":119},{"$f":"OFFSET('GDP-2012'!$D$3,I23,0)","v":161851},0.16185099999999999,166.82009996848953,null,null,null,"New Zealand",0.16185099999999999,27,166.82009996848953,"Overperform"]
[22,null,"Kazakhstan",7,1,5,13,{"$f":"SUMPRODUCT(D24:F24,$D$1:$F$1)","v":28},{"$f":"MATCH(C24,  'GDP-2012'!$C$4:$C$189,0)","v":87},{"$f":"OFFSET('GDP-2012'!$D$3,I24,0)","v":178312},0.178312,157.02813046794384,null,null,null,"Kazakhstan",0.178312,28,157.02813046794384,"Overperform"]
[23,null,"Serbia",1,1,2,4,{"$f":"SUMPRODUCT(D25:F25,$D$1:$F$1)","v":7},{"$f":"MATCH(C25,  'GDP-2012'!$C$4:$C$189,0)","v":146},{"$f":"OFFSET('GDP-2012'!$D$3,I25,0)","v":45064},4.5064E-2,155.33463518551395,null,null,null,"Serbia",4.5064E-2,7,155.33463518551395,"Overperform"]
[24,null,"Tajikistan","-","-",1,1,{"$f":"SUMPRODUCT(D26:F26,$D$1:$F$1)","v":1},{"$f":"MATCH(C26,  'GDP-2012'!$C$4:$C$189,0)","v":163},{"$f":"OFFSET('GDP-2012'!$D$3,I26,0)","v":6523},6.5229999999999993E-3,153.30369461904033,null,null,null,"Tajikistan",6.5229999999999993E-3,1,153.30369461904033,"Overperform"]
[25,null,"Latvia",1,"-",1,2,{"$f":"SUMPRODUCT(D27:F27,$D$1:$F$1)","v":4},{"$f":"MATCH(C27,  'GDP-2012'!$C$4:$C$189,0)","v":94},{"$f":"OFFSET('GDP-2012'!$D$3,I27,0)","v":28252},2.8251999999999999E-2,141.58289678606823,null,null,null,"Latvia",2.8251999999999999E-2,4,141.58289678606823,"Overperform"]
[26,null,"Slovenia",1,1,2,4,{"$f":"SUMPRODUCT(D28:F28,$D$1:$F$1)","v":7},{"$f":"MATCH(C28,  'GDP-2012'!$C$4:$C$189,0)","v":151},{"$f":"OFFSET('GDP-2012'!$D$3,I28,0)","v":49588},4.9588E-2,141.1631846414455,null,null,null,"Slovenia",4.9588E-2,7,141.1631846414455,"Overperform"]
[27,null,"Estonia","-",1,1,2,{"$f":"SUMPRODUCT(D29:F29,$D$1:$F$1)","v":3},{"$f":"MATCH(C29,  'GDP-2012'!$C$4:$C$189,0)","v":56},{"$f":"OFFSET('GDP-2012'!$D$3,I29,0)","v":22225},2.2225000000000002E-2,134.98312710911136,null,null,null,"Estonia",2.2225000000000002E-2,3,134.98312710911136,"Overperform"]
[28,null,"Uzbekistan",1,"-",3,4,{"$f":"SUMPRODUCT(D30:F30,$D$1:$F$1)","v":6},{"$f":"MATCH(C30,  'GDP-2012'!$C$4:$C$189,0)","v":180},{"$f":"OFFSET('GDP-2012'!$D$3,I30,0)","v":45353},4.5353000000000004E-2,132.29554825480122,null,null,null,"Uzbekistan",4.5353000000000004E-2,6,132.29554825480122,"Overperform"]
[29,null,"Tunisia",1,1,1,3,{"$f":"SUMPRODUCT(D31:F31,$D$1:$F$1)","v":6},{"$f":"MATCH(C31,  'GDP-2012'!$C$4:$C$189,0)","v":170},{"$f":"OFFSET('GDP-2012'!$D$3,I31,0)","v":46360},4.6359999999999998E-2,129.42191544434857,null,null,null,"Tunisia",4.6359999999999998E-2,6,129.42191544434857,"Overperform"]
[30,null,"Gabon","-",1,"-",1,{"$f":"SUMPRODUCT(D32:F32,$D$1:$F$1)","v":2},{"$f":"MATCH(C32,  'GDP-2012'!$C$4:$C$189,0)","v":61},{"$f":"OFFSET('GDP-2012'!$D$3,I32,0)","v":16176},1.6175999999999999E-2,123.63996043521267,null,null,null,"Gabon",1.6175999999999999E-2,2,123.63996043521267,"Overperform"]
[30,null,"Botswana","-",1,"-",1,{"$f":"SUMPRODUCT(D33:F33,$D$1:$F$1)","v":2},{"$f":"MATCH(C33,  'GDP-2012'!$C$4:$C$189,0)","v":22},{"$f":"OFFSET('GDP-2012'!$D$3,I33,0)","v":17570},1.7569999999999999E-2,113.83039271485488,null,null,null,"Botswana",1.7569999999999999E-2,2,113.83039271485488,"Overperform"]
[32,null,"Czech Republic",4,3,3,10,{"$f":"SUMPRODUCT(D34:F34,$D$1:$F$1)","v":21},{"$f":"MATCH(C34,  'GDP-2012'!$C$4:$C$189,0)","v":46},{"$f":"OFFSET('GDP-2012'!$D$3,I34,0)","v":215265},0.21526499999999998,97.554177409239784,null,null,null,"Czech Republic",0.21526499999999998,21,97.554177409239784,"Overperform"]
[33,null,"Romania",2,5,2,9,{"$f":"SUMPRODUCT(D35:F35,$D$1:$F$1)","v":18},{"$f":"MATCH(C35,  'GDP-2012'!$C$4:$C$189,0)","v":136},{"$f":"OFFSET('GDP-2012'!$D$3,I35,0)","v":189776},{"$f":"J35/1000/1000","v":0.189776},{"$f":"H35/K35","v":94.848663687716041},null,null,null,"Romania",0.189776,18,94.848663687716041,"Overperform"]
[34,null,"Dominican Republic",1,1,"-",2,{"$f":"SUMPRODUCT(D36:F36,$D$1:$F$1)","v":5},{"$f":"MATCH(C36,  'GDP-2012'!$C$4:$C$189,0)","v":50},{"$f":"OFFSET('GDP-2012'!$D$3,I36,0)","v":56700},5.67E-2,88.183421516754848,null,null,null,"Dominican Republic",5.67E-2,5,88.183421516754848,"Overperform"]
[35,null,"Russia",24,26,32,82,{"$f":"SUMPRODUCT(D37:F37,$D$1:$F$1)","v":156},{"$f":"MATCH(C37,  'GDP-2012'!$C$4:$C$189,0)","v":137},{"$f":"OFFSET('GDP-2012'!$D$3,I37,0)","v":1850401},1.850401,84.306050418260696,null,null,null,"Russia",1.850401,156,84.306050418260696,"Overperform"]
[36,null,"Cyprus","-",1,"-",1,{"$f":"SUMPRODUCT(D38:F38,$D$1:$F$1)","v":2},{"$f":"MATCH(C38,  'GDP-2012'!$C$4:$C$189,0)","v":45},{"$f":"OFFSET('GDP-2012'!$D$3,I38,0)","v":24949},2.4949000000000002E-2,80.163533608561451,null,null,null,"Cyprus",2.4949000000000002E-2,2,80.163533608561451,"Overperform"]
[37,null,"United Kingdom",29,17,19,65,{"$f":"SUMPRODUCT(D39:F39,$D$1:$F$1)","v":140},{"$f":"MATCH(C39,  'GDP-2012'!$C$4:$C$189,0)","v":177},{"$f":"OFFSET('GDP-2012'!$D$3,I39,0)","v":2417570},2.41757,57.909388352767451,null,null,null,"United Kingdom",2.41757,140,57.909388352767451,"Overperform"]
[38,null,"Bulgaria","-",1,1,2,{"$f":"SUMPRODUCT(D40:F40,$D$1:$F$1)","v":3},{"$f":"MATCH(C40,  'GDP-2012'!$C$4:$C$189,0)","v":25},{"$f":"OFFSET('GDP-2012'!$D$3,I40,0)","v":53514},5.3514000000000006E-2,56.060096423365842,null,null,null,"Bulgaria",5.3514000000000006E-2,3,56.060096423365842,"Overperform"]
[39,null,"South Korea",13,8,7,28,{"$f":"SUMPRODUCT(D41:F41,$D$1:$F$1)","v":62},{"$f":"MATCH(C41,  'GDP-2012'!$C$4:$C$189,0)","v":154},{"$f":"OFFSET('GDP-2012'!$D$3,I41,0)","v":1116247},1.116247,55.543262378308746,null,null,null,"South Korea",1.116247,62,55.543262378308746,"Overperform"]
[39,null,"Afghanistan","-","-",1,1,{"$f":"SUMPRODUCT(D42:F42,$D$1:$F$1)","v":1},{"$f":"MATCH(C42,  'GDP-2012'!$C$4:$C$189,0)","v":1},{"$f":"OFFSET('GDP-2012'!$D$3,I42,0)","v":18181},1.8180999999999999E-2,55.002475111380015,null,null,null,"Afghanistan",1.8180999999999999E-2,1,55.002475111380015,"Overperform"]
[41,null,"Slovakia","-",1,3,4,{"$f":"SUMPRODUCT(D43:F43,$D$1:$F$1)","v":5},{"$f":"MATCH(C43,  'GDP-2012'!$C$4:$C$189,0)","v":150},{"$f":"OFFSET('GDP-2012'!$D$3,I43,0)","v":96089},9.6088999999999994E-2,52.035092466359316,null,null,null,"Slovakia",9.6088999999999994E-2,5,52.035092466359316,"Overperform"]
[42,null,"Iran",4,5,3,12,{"$f":"SUMPRODUCT(D44:F44,$D$1:$F$1)","v":25},{"$f":"MATCH(C44,  'GDP-2012'!$C$4:$C$189,0)","v":79},{"$f":"OFFSET('GDP-2012'!$D$3,I44,0)","v":482445},0.48244500000000001,51.819378374737013,null,null,null,"Iran",0.48244500000000001,25,51.819378374737013,"Overperform"]
[42,null,"Denmark",2,4,3,9,{"$f":"SUMPRODUCT(D45:F45,$D$1:$F$1)","v":17},{"$f":"MATCH(C45,  'GDP-2012'!$C$4:$C$189,0)","v":47},{"$f":"OFFSET('GDP-2012'!$D$3,I45,0)","v":333238},0.33323799999999998,51.014590172789418,null,null,null,"Denmark",0.33323799999999998,17,51.014590172789418,"Overperform"]
[42,null,"Netherlands",6,6,8,20,{"$f":"SUMPRODUCT(D46:F46,$D$1:$F$1)","v":38},{"$f":"MATCH(C46,  'GDP-2012'!$C$4:$C$189,0)","v":118},{"$f":"OFFSET('GDP-2012'!$D$3,I46,0)","v":840433},0.84043299999999999,45.214788091376711,null,null,null,"Netherlands",0.84043299999999999,38,45.214788091376711,"Overperform"]
[45,null,"Australia",7,16,12,35,{"$f":"SUMPRODUCT(D47:F47,$D$1:$F$1)","v":65},{"$f":"MATCH(C47,  'GDP-2012'!$C$4:$C$189,0)","v":8},{"$f":"OFFSET('GDP-2012'!$D$3,I47,0)","v":1488221},1.488221,43.676308827788347,null,null,null,"Australia",1.488221,65,43.676308827788347,"Overperform"]
[46,null,"Guatemala","-",1,"-",1,{"$f":"SUMPRODUCT(D48:F48,$D$1:$F$1)","v":2},{"$f":"MATCH(C48,  'GDP-2012'!$C$4:$C$189,0)","v":68},{"$f":"OFFSET('GDP-2012'!$D$3,I48,0)","v":46897},4.6897000000000001E-2,42.646651171716741,null,null,null,"Guatemala",4.6897000000000001E-2,2,42.646651171716741,"Overperform"]
[47,null,"Colombia",1,3,4,8,{"$f":"SUMPRODUCT(D49:F49,$D$1:$F$1)","v":13},{"$f":"MATCH(C49,  'GDP-2012'!$C$4:$C$189,0)","v":37},{"$f":"OFFSET('GDP-2012'!$D$3,I49,0)","v":328422},0.32842200000000005,39.583219150970393,null,null,null,"Colombia",0.32842200000000005,13,39.583219150970393,"Overperform"]
[47,null,"Bahrain","-","-",1,1,{"$f":"SUMPRODUCT(D50:F50,$D$1:$F$1)","v":1},{"$f":"MATCH(C50,  'GDP-2012'!$C$4:$C$189,0)","v":12},{"$f":"OFFSET('GDP-2012'!$D$3,I50,0)","v":26108},2.6107999999999999E-2,38.302436034931823,null,null,null,"Bahrain",2.6107999999999999E-2,1,38.302436034931823,"Overperform"]
[49,null,"Ireland",1,1,3,5,{"$f":"SUMPRODUCT(D51:F51,$D$1:$F$1)","v":8},{"$f":"MATCH(C51,  'GDP-2012'!$C$4:$C$189,0)","v":81},{"$f":"OFFSET('GDP-2012'!$D$3,I51,0)","v":217669},0.217669,36.753051651819966,null,null,null,"Ireland",0.217669,8,36.753051651819966,"Overperform"]
[50,null,"South Africa",3,2,1,6,{"$f":"SUMPRODUCT(D52:F52,$D$1:$F$1)","v":14},{"$f":"MATCH(C52,  'GDP-2012'!$C$4:$C$189,0)","v":153},{"$f":"OFFSET('GDP-2012'!$D$3,I52,0)","v":408074},0.40807399999999999,34.307503050917234,null,null,null,"South Africa",0.40807399999999999,14,34.307503050917234,"Overperform"]
[50,null,"Puerto Rico","-",1,1,2,{"$f":"SUMPRODUCT(D53:F53,$D$1:$F$1)","v":3},{"$f":"MATCH(C53,  'GDP-2012'!$C$4:$C$189,0)","v":134},{"$f":"OFFSET('GDP-2012'!$D$3,I53,0)","v":96261},9.6260999999999999E-2,31.165269423754168,null,null,null,"Puerto Rico",9.6260999999999999E-2,3,31.165269423754168,"Overperform"]
[50,null,"Poland",2,2,6,10,{"$f":"SUMPRODUCT(D54:F54,$D$1:$F$1)","v":16},{"$f":"MATCH(C54,  'GDP-2012'!$C$4:$C$189,0)","v":132},{"$f":"OFFSET('GDP-2012'!$D$3,I54,0)","v":513821},0.51382099999999997,31.139248882392899,null,null,null,"Poland",0.51382099999999997,16,31.139248882392899,"Overperform"]
[50,null,"China",38,27,23,88,{"$f":"SUMPRODUCT(D55:F55,$D$1:$F$1)","v":191},{"$f":"MATCH(C55,  'GDP-2012'!$C$4:$C$189,0)","v":36},{"$f":"OFFSET('GDP-2012'!$D$3,I55,0)","v":7298147},7.2981470000000002,26.171026700339141,null,null,null,"China",7.2981470000000002,191,26.171026700339141,"Underperform"]
[50,null,"Sweden",1,4,3,8,{"$f":"SUMPRODUCT(D56:F56,$D$1:$F$1)","v":14},{"$f":"MATCH(C56,  'GDP-2012'!$C$4:$C$189,0)","v":160},{"$f":"OFFSET('GDP-2012'!$D$3,I56,0)","v":538237},0.53823699999999997,26.010846523000094,null,null,null,"Sweden",0.53823699999999997,14,26.010846523000094,"Underperform"]
[55,null,"France",11,11,12,34,{"$f":"SUMPRODUCT(D57:F57,$D$1:$F$1)","v":67},{"$f":"MATCH(C57,  'GDP-2012'!$C$4:$C$189,0)","v":60},{"$f":"OFFSET('GDP-2012'!$D$3,I57,0)","v":2776324},2.7763240000000002,24.132630053264673,null,null,null,"France",2.7763240000000002,67,24.132630053264673,"Underperform"]
[56,null,"Italy",8,9,11,28,{"$f":"SUMPRODUCT(D58:F58,$D$1:$F$1)","v":53},{"$f":"MATCH(C58,  'GDP-2012'!$C$4:$C$189,0)","v":83},{"$f":"OFFSET('GDP-2012'!$D$3,I58,0)","v":2198730},2.1987299999999999,24.104824148485719,null,null,null,"Italy",2.1987299999999999,53,24.104824148485719,"Underperform"]
[57,null,"Germany",11,19,14,44,{"$f":"SUMPRODUCT(D59:F59,$D$1:$F$1)","v":85},{"$f":"MATCH(C59,  'GDP-2012'!$C$4:$C$189,0)","v":64},{"$f":"OFFSET('GDP-2012'!$D$3,I59,0)","v":3577031},3.5770309999999998,23.762723890287784,null,null,null,"Germany",3.5770309999999998,85,23.762723890287784,"Underperform"]
[58,null,"Spain",3,10,4,17,{"$f":"SUMPRODUCT(D60:F60,$D$1:$F$1)","v":33},{"$f":"MATCH(C60,  'GDP-2012'!$C$4:$C$189,0)","v":155},{"$f":"OFFSET('GDP-2012'!$D$3,I60,0)","v":1493513},1.4935129999999999,22.095555914143368,null,null,null,"Spain",1.4935129999999999,33,22.095555914143368,"Underperform"]
[59,null,"Norway",2,1,1,4,{"$f":"SUMPRODUCT(D61:F61,$D$1:$F$1)","v":9},{"$f":"MATCH(C61,  'GDP-2012'!$C$4:$C$189,0)","v":124},{"$f":"OFFSET('GDP-2012'!$D$3,I61,0)","v":483650},0.48364999999999997,18.608497880698852,null,null,null,"Norway",0.48364999999999997,9,18.608497880698852,"Underperform"]
[60,null,"Egypt","-",2,"-",2,{"$f":"SUMPRODUCT(D62:F62,$D$1:$F$1)","v":4},{"$f":"MATCH(C62,  'GDP-2012'!$C$4:$C$189,0)","v":52},{"$f":"OFFSET('GDP-2012'!$D$3,I62,0)","v":235719},0.23571899999999998,16.969357582545321,null,null,null,"Egypt",0.23571899999999998,4,16.969357582545321,"Underperform"]
[60,null,"Algeria",1,"-","-",1,{"$f":"SUMPRODUCT(D63:F63,$D$1:$F$1)","v":3},{"$f":"MATCH(C63,  'GDP-2012'!$C$4:$C$189,0)","v":3},{"$f":"OFFSET('GDP-2012'!$D$3,I63,0)","v":190709},0.19070899999999999,15.730773062624209,null,null,null,"Algeria",0.19070899999999999,3,15.730773062624209,"Underperform"]
[60,null,"Switzerland",2,2,"-",4,{"$f":"SUMPRODUCT(D64:F64,$D$1:$F$1)","v":10},{"$f":"MATCH(C64,  'GDP-2012'!$C$4:$C$189,0)","v":161},{"$f":"OFFSET('GDP-2012'!$D$3,I64,0)","v":636059},0.63605899999999993,15.721811970273199,null,null,null,"Switzerland",0.63605899999999993,10,15.721811970273199,"Underperform"]
[63,null,"Argentina",1,1,2,4,{"$f":"SUMPRODUCT(D65:F65,$D$1:$F$1)","v":7},{"$f":"MATCH(C65,  'GDP-2012'!$C$4:$C$189,0)","v":6},{"$f":"OFFSET('GDP-2012'!$D$3,I65,0)","v":447644},0.44764399999999999,15.637426169009302,null,null,null,"Argentina",0.44764399999999999,7,15.637426169009302,"Underperform"]
[63,null,"Finland","-",1,2,3,{"$f":"SUMPRODUCT(D66:F66,$D$1:$F$1)","v":4},{"$f":"MATCH(C66,  'GDP-2012'!$C$4:$C$189,0)","v":59},{"$f":"OFFSET('GDP-2012'!$D$3,I66,0)","v":266553},0.26655299999999998,15.006396476498109,null,null,null,"Finland",0.26655299999999998,4,15.006396476498109,"Underperform"]
[63,null,"United States",46,29,29,104,{"$f":"SUMPRODUCT(D67:F67,$D$1:$F$1)","v":225},{"$f":"MATCH(C67,  'GDP-2012'!$C$4:$C$189,0)","v":178},{"$f":"OFFSET('GDP-2012'!$D$3,I67,0)","v":15094025},{"$f":"J67/1000/1000","v":15.094025},{"$f":"H67/K67","v":14.90656070862477},null,null,null,"United States",15.094025,225,14.90656070862477,"Underperform"]
[63,null,"Thailand","-",2,1,3,{"$f":"SUMPRODUCT(D68:F68,$D$1:$F$1)","v":5},{"$f":"MATCH(C68,  'GDP-2012'!$C$4:$C$189,0)","v":165},{"$f":"OFFSET('GDP-2012'!$D$3,I68,0)","v":345649},0.34564899999999998,14.465541633275375,null,null,null,{"$f":"C68","v":"Thailand"},{"$f":"K68","v":0.34564899999999998},{"$f":"H68","v":5},{"$f":"R68/Q68","v":14.465541633275375},"Underperform"]
[63,null,"Canada",1,5,12,18,{"$f":"SUMPRODUCT(D69:F69,$D$1:$F$1)","v":25},{"$f":"MATCH(C69,  'GDP-2012'!$C$4:$C$189,0)","v":31},{"$f":"OFFSET('GDP-2012'!$D$3,I69,0)","v":1736869},1.736869,14.393716509420111,null,null,null,"Canada",1.736869,25,14.393716509420111,"Underperform"]
[63,null,"Turkey",2,2,1,5,{"$f":"SUMPRODUCT(D70:F70,$D$1:$F$1)","v":11},{"$f":"MATCH(C70,  'GDP-2012'!$C$4:$C$189,0)","v":171},{"$f":"OFFSET('GDP-2012'!$D$3,I70,0)","v":778089},0.77808900000000003,14.137200243159844,null,null,null,"Turkey",0.77808900000000003,11,14.137200243159844,"Underperform"]
[69,null,"Qatar","-","-",2,2,{"$f":"SUMPRODUCT(D71:F71,$D$1:$F$1)","v":2},{"$f":"MATCH(C71,  'GDP-2012'!$C$4:$C$189,0)","v":135},{"$f":"OFFSET('GDP-2012'!$D$3,I71,0)","v":173847},0.173847,11.504368784045742,null,null,null,"Qatar",0.173847,2,11.504368784045742,"Underperform"]
[69,null,"Japan",7,14,17,38,{"$f":"SUMPRODUCT(D72:F72,$D$1:$F$1)","v":66},{"$f":"MATCH(C72,  'GDP-2012'!$C$4:$C$189,0)","v":85},{"$f":"OFFSET('GDP-2012'!$D$3,I72,0)","v":5869471},5.8694709999999999,11.244624941498135,null,null,null,"Japan",5.8694709999999999,66,11.244624941498135,"Underperform"]
[69,null,"Brazil",3,5,9,17,{"$f":"SUMPRODUCT(D73:F73,$D$1:$F$1)","v":28},{"$f":"MATCH(C73,  'GDP-2012'!$C$4:$C$189,0)","v":23},{"$f":"OFFSET('GDP-2012'!$D$3,I73,0)","v":2492908},2.4929079999999999,11.231862547675245,null,null,null,"Brazil",2.4929079999999999,28,11.231862547675245,"Underperform"]
[69,null,"Malaysia","-",1,1,2,{"$f":"SUMPRODUCT(D74:F74,$D$1:$F$1)","v":3},{"$f":"MATCH(C74,  'GDP-2012'!$C$4:$C$189,0)","v":104},{"$f":"OFFSET('GDP-2012'!$D$3,I74,0)","v":278680},0.27867999999999998,10.765035165781542,null,null,null,"Malaysia",0.27867999999999998,3,10.765035165781542,"Underperform"]
[69,null,"Mexico",1,3,3,7,{"$f":"SUMPRODUCT(D75:F75,$D$1:$F$1)","v":12},{"$f":"MATCH(C75,  'GDP-2012'!$C$4:$C$189,0)","v":110},{"$f":"OFFSET('GDP-2012'!$D$3,I75,0)","v":1154784},1.154784,10.391553745115969,null,null,null,"Mexico",1.154784,12,10.391553745115969,"Underperform"]
[69,null,"Morocco","-","-",1,1,{"$f":"SUMPRODUCT(D76:F76,$D$1:$F$1)","v":1},{"$f":"MATCH(C76,  'GDP-2012'!$C$4:$C$189,0)","v":114},{"$f":"OFFSET('GDP-2012'!$D$3,I76,0)","v":99241},9.9240999999999996E-2,10.076480486895537,null,null,null,"Morocco",9.9240999999999996E-2,1,10.076480486895537,"Underperform"]
[75,null,"Venezuela",1,"-","-",1,{"$f":"SUMPRODUCT(D77:F77,$D$1:$F$1)","v":3},{"$f":"MATCH(C77,  'GDP-2012'!$C$4:$C$189,0)","v":182},{"$f":"OFFSET('GDP-2012'!$D$3,I77,0)","v":315841},0.31584099999999998,9.4984501695473362,null,null,null,"Venezuela",0.31584099999999998,3,9.4984501695473362,"Underperform"]
[75,null,"Portugal","-",1,"-",1,{"$f":"SUMPRODUCT(D78:F78,$D$1:$F$1)","v":2},{"$f":"MATCH(C78,  'GDP-2012'!$C$4:$C$189,0)","v":133},{"$f":"OFFSET('GDP-2012'!$D$3,I78,0)","v":238880},0.23888000000000001,8.3724045545880781,null,null,null,"Portugal",0.23888000000000001,2,8.3724045545880781,"Underperform"]
[75,null,"Belgium","-",1,2,3,{"$f":"SUMPRODUCT(D79:F79,$D$1:$F$1)","v":4},{"$f":"MATCH(C79,  'GDP-2012'!$C$4:$C$189,0)","v":16},{"$f":"OFFSET('GDP-2012'!$D$3,I79,0)","v":513396},0.51339599999999996,7.7912566517853667,null,null,null,"Belgium",0.51339599999999996,4,7.7912566517853667,"Underperform"]
[75,null,"Singapore","-","-",2,2,{"$f":"SUMPRODUCT(D80:F80,$D$1:$F$1)","v":2},{"$f":"MATCH(C80,  'GDP-2012'!$C$4:$C$189,0)","v":149},{"$f":"OFFSET('GDP-2012'!$D$3,I80,0)","v":259849},0.259849,7.6967777439974752,null,null,null,"Singapore",0.259849,2,7.6967777439974752,"Underperform"]
[79,null,"Greece","-","-",2,2,{"$f":"SUMPRODUCT(D81:F81,$D$1:$F$1)","v":2},{"$f":"MATCH(C81,  'GDP-2012'!$C$4:$C$189,0)","v":66},{"$f":"OFFSET('GDP-2012'!$D$3,I81,0)","v":303065},0.30306499999999997,6.5992443865177446,null,null,null,"Greece",0.30306499999999997,2,6.5992443865177446,"Underperform"]
[79,null,"Taiwan","-",1,1,2,{"$f":"SUMPRODUCT(D82:F82,$D$1:$F$1)","v":3},{"$f":"MATCH(C82,  'GDP-2012'!$C$4:$C$189,0)","v":162},{"$f":"OFFSET('GDP-2012'!$D$3,I82,0)","v":466832},0.46683199999999997,6.4262946841690374,null,null,null,"Taiwan",0.46683199999999997,3,6.4262946841690374,"Underperform"]
[79,null,"Kuwait","-","-",1,1,{"$f":"SUMPRODUCT(D83:F83,$D$1:$F$1)","v":1},{"$f":"MATCH(C83,  'GDP-2012'!$C$4:$C$189,0)","v":91},{"$f":"OFFSET('GDP-2012'!$D$3,I83,0)","v":176667},0.17666699999999999,5.6603666785534372,null,null,null,"Kuwait",0.17666699999999999,1,5.6603666785534372,"Underperform"]
[79,null,"India","-",2,4,6,{"$f":"SUMPRODUCT(D84:F84,$D$1:$F$1)","v":8},{"$f":"MATCH(C84,  'GDP-2012'!$C$4:$C$189,0)","v":77},{"$f":"OFFSET('GDP-2012'!$D$3,I84,0)","v":1676143},1.6761429999999999,4.772862458632706,null,null,null,"India",1.6761429999999999,8,4.772862458632706,"Underperform"]
[79,null,"Hong Kong","-","-",1,1,{"$f":"SUMPRODUCT(D85:F85,$D$1:$F$1)","v":1},{"$f":"MATCH(C85,  'GDP-2012'!$C$4:$C$189,0)","v":74},{"$f":"OFFSET('GDP-2012'!$D$3,I85,0)","v":243302},0.24330199999999999,4.1101182892043635,null,null,null,"Hong Kong",0.24330199999999999,1,4.1101182892043635,"Underperform"]
[79,null,"Indonesia","-",1,1,2,{"$f":"SUMPRODUCT(D86:F86,$D$1:$F$1)","v":3},{"$f":"MATCH(C86,  'GDP-2012'!$C$4:$C$189,0)","v":78},{"$f":"OFFSET('GDP-2012'!$D$3,I86,0)","v":845680},0.84567999999999999,3.5474411124775331,null,null,null,"Indonesia",0.84567999999999999,3,3.5474411124775331,"Underperform"]
[79,null,"Saudi Arabia","-","-",1,1,{"$f":"SUMPRODUCT(D87:F87,$D$1:$F$1)","v":1},{"$f":"MATCH(C87,  'GDP-2012'!$C$4:$C$189,0)","v":144},{"$f":"OFFSET('GDP-2012'!$D$3,I87,0)","v":577595},0.57759500000000008,1.7313169262199291,null,null,null,"Saudi Arabia",0.57759500000000008,1,1.7313169262199291,"Underperform"]
[null,null,null,null,null,null,null,null,null,null,null,null,null,null,null,null,{"$f":"SUM(Q3:Q87)","v":66.014786000000001},{"$f":"SUM(R3:R87)","v":1873},{"$f":"R88/Q88","v":28.372431594340092}]

{"sheet":"Major Economic Powers-2012","index":7,"n_rows":90,"n_cols":18,"rows_kept":90,"cut":false,"hidden":false,"merged":[]}
["Olympic Medals Adjusted for GDP",null,null,3,2,1]
[null,null,null,"Gold","Silver","Bronze","Total","Points","Match GDP","GDP ($M)","GDP $T","Pts/$T GDP"]
[1,null,"Russia",24,26,32,82,{"$f":"SUMPRODUCT(D3:F3,$D$1:$F$1)","v":156},{"$f":"MATCH(C3,  'GDP-2012'!$C$4:$C$189,0)","v":137},{"$f":"OFFSET('GDP-2012'!$D$3,I3,0)","v":1850401},{"$f":"J3/1000/1000","v":1.850401},{"$f":"H3/K3","v":84.306050418260696},null,null,"Top 20 Economies",null,{"$f":"SUM(K3:K22)","v":55.918240000000004},{"$f":"Q3/Q4","v":0.84705629432775853}]
[2,null,"United Kingdom",29,17,19,65,{"$f":"SUMPRODUCT(D4:F4,$D$1:$F$1)","v":140},{"$f":"MATCH(C4,  'GDP-2012'!$C$4:$C$189,0)","v":177},{"$f":"OFFSET('GDP-2012'!$D$3,I4,0)","v":2417570},2.41757,57.909388352767451,null,null,"Total",null,{"$f":"SUM(K3:K90)","v":66.014786000000015}]
[3,null,"South Korea",13,8,7,28,{"$f":"SUMPRODUCT(D5:F5,$D$1:$F$1)","v":62},{"$f":"MATCH(C5,  'GDP-2012'!$C$4:$C$189,0)","v":154},{"$f":"OFFSET('GDP-2012'!$D$3,I5,0)","v":1116247},1.116247,55.543262378308746]
[4,null,"Netherlands",6,6,8,20,{"$f":"SUMPRODUCT(D6:F6,$D$1:$F$1)","v":38},{"$f":"MATCH(C6,  'GDP-2012'!$C$4:$C$189,0)","v":118},{"$f":"OFFSET('GDP-2012'!$D$3,I6,0)","v":840433},0.84043299999999999,45.214788091376711]
[5,null,"Australia",7,16,12,35,{"$f":"SUMPRODUCT(D7:F7,$D$1:$F$1)","v":65},{"$f":"MATCH(C7,  'GDP-2012'!$C$4:$C$189,0)","v":8},{"$f":"OFFSET('GDP-2012'!$D$3,I7,0)","v":1488221},1.488221,43.676308827788347,null,null,"Great Power medal efficiency: Russia, UK, SKorea., Neth, Aust."]
[6,null,"China",38,27,23,88,{"$f":"SUMPRODUCT(D8:F8,$D$1:$F$1)","v":191},{"$f":"MATCH(C8,  'GDP-2012'!$C$4:$C$189,0)","v":36},{"$f":"OFFSET('GDP-2012'!$D$3,I8,0)","v":7298147},7.2981470000000002,26.171026700339141]
[7,null,"France",11,11,12,34,{"$f":"SUMPRODUCT(D9:F9,$D$1:$F$1)","v":67},{"$f":"MATCH(C9,  'GDP-2012'!$C$4:$C$189,0)","v":60},{"$f":"OFFSET('GDP-2012'!$D$3,I9,0)","v":2776324},2.7763240000000002,24.132630053264673]
[8,null,"Italy",8,9,11,28,{"$f":"SUMPRODUCT(D10:F10,$D$1:$F$1)","v":53},{"$f":"MATCH(C10,  'GDP-2012'!$C$4:$C$189,0)","v":83},{"$f":"OFFSET('GDP-2012'!$D$3,I10,0)","v":2198730},2.1987299999999999,24.104824148485719]
[9,null,"Germany",11,19,14,44,{"$f":"SUMPRODUCT(D11:F11,$D$1:$F$1)","v":85},{"$f":"MATCH(C11,  'GDP-2012'!$C$4:$C$189,0)","v":64},{"$f":"OFFSET('GDP-2012'!$D$3,I11,0)","v":3577031},3.5770309999999998,23.762723890287784]
[10,null,"Spain",3,10,4,17,{"$f":"SUMPRODUCT(D12:F12,$D$1:$F$1)","v":33},{"$f":"MATCH(C12,  'GDP-2012'!$C$4:$C$189,0)","v":155},{"$f":"OFFSET('GDP-2012'!$D$3,I12,0)","v":1493513},1.4935129999999999,22.095555914143368]
[11,null,"Switzerland",2,2,"-",4,{"$f":"SUMPRODUCT(D13:F13,$D$1:$F$1)","v":10},{"$f":"MATCH(C13,  'GDP-2012'!$C$4:$C$189,0)","v":161},{"$f":"OFFSET('GDP-2012'!$D$3,I13,0)","v":636059},0.63605899999999993,15.721811970273199]
[12,null,"United States",46,29,29,104,{"$f":"SUMPRODUCT(D14:F14,$D$1:$F$1)","v":225},{"$f":"MATCH(C14,  'GDP-2012'!$C$4:$C$189,0)","v":178},{"$f":"OFFSET('GDP-2012'!$D$3,I14,0)","v":15094025},15.094025,14.90656070862477]
[13,null,"Canada",1,5,12,18,{"$f":"SUMPRODUCT(D15:F15,$D$1:$F$1)","v":25},{"$f":"MATCH(C15,  'GDP-2012'!$C$4:$C$189,0)","v":31},{"$f":"OFFSET('GDP-2012'!$D$3,I15,0)","v":1736869},1.736869,14.393716509420111]
[14,null,"Turkey",2,2,1,5,{"$f":"SUMPRODUCT(D16:F16,$D$1:$F$1)","v":11},{"$f":"MATCH(C16,  'GDP-2012'!$C$4:$C$189,0)","v":171},{"$f":"OFFSET('GDP-2012'!$D$3,I16,0)","v":778089},0.77808900000000003,14.137200243159844]
[15,null,"Japan",7,14,17,38,{"$f":"SUMPRODUCT(D17:F17,$D$1:$F$1)","v":66},{"$f":"MATCH(C17,  'GDP-2012'!$C$4:$C$189,0)","v":85},{"$f":"OFFSET('GDP-2012'!$D$3,I17,0)","v":5869471},5.8694709999999999,11.244624941498135]
[16,null,"Brazil",3,5,9,17,{"$f":"SUMPRODUCT(D18:F18,$D$1:$F$1)","v":28},{"$f":"MATCH(C18,  'GDP-2012'!$C$4:$C$189,0)","v":23},{"$f":"OFFSET('GDP-2012'!$D$3,I18,0)","v":2492908},2.4929079999999999,11.231862547675245]
[17,null,"Mexico",1,3,3,7,{"$f":"SUMPRODUCT(D19:F19,$D$1:$F$1)","v":12},{"$f":"MATCH(C19,  'GDP-2012'!$C$4:$C$189,0)","v":110},{"$f":"OFFSET('GDP-2012'!$D$3,I19,0)","v":1154784},1.154784,10.391553745115969]
[18,null,"India","-",2,4,6,{"$f":"SUMPRODUCT(D20:F20,$D$1:$F$1)","v":8},{"$f":"MATCH(C20,  'GDP-2012'!$C$4:$C$189,0)","v":77},{"$f":"OFFSET('GDP-2012'!$D$3,I20,0)","v":1676143},1.6761429999999999,4.772862458632706]
[19,null,"Indonesia","-",1,1,2,{"$f":"SUMPRODUCT(D21:F21,$D$1:$F$1)","v":3},{"$f":"MATCH(C21,  'GDP-2012'!$C$4:$C$189,0)","v":78},{"$f":"OFFSET('GDP-2012'!$D$3,I21,0)","v":845680},0.84567999999999999,3.5474411124775331]
[20,null,"Saudi Arabia","-","-",1,1,{"$f":"SUMPRODUCT(D22:F22,$D$1:$F$1)","v":1},{"$f":"MATCH(C22,  'GDP-2012'!$C$4:$C$189,0)","v":144},{"$f":"OFFSET('GDP-2012'!$D$3,I22,0)","v":577595},0.57759500000000008,1.7313169262199291]
[]
[21,null,"Sweden",1,4,3,8,{"$f":"SUMPRODUCT(D24:F24,$D$1:$F$1)","v":14},{"$f":"MATCH(C24,  'GDP-2012'!$C$4:$C$189,0)","v":160},{"$f":"OFFSET('GDP-2012'!$D$3,I24,0)","v":538237},{"$f":"J24/1000/1000","v":0.53823699999999997},{"$f":"H24/K24","v":26.010846523000094}]
[22,null,"Poland",2,2,6,10,{"$f":"SUMPRODUCT(D25:F25,$D$1:$F$1)","v":16},{"$f":"MATCH(C25,  'GDP-2012'!$C$4:$C$189,0)","v":132},{"$f":"OFFSET('GDP-2012'!$D$3,I25,0)","v":513821},0.51382099999999997,31.139248882392899]
[23,null,"Belgium","-",1,2,3,{"$f":"SUMPRODUCT(D26:F26,$D$1:$F$1)","v":4},{"$f":"MATCH(C26,  'GDP-2012'!$C$4:$C$189,0)","v":16},{"$f":"OFFSET('GDP-2012'!$D$3,I26,0)","v":513396},0.51339599999999996,7.7912566517853667]
[24,null,"Norway",2,1,1,4,{"$f":"SUMPRODUCT(D27:F27,$D$1:$F$1)","v":9},{"$f":"MATCH(C27,  'GDP-2012'!$C$4:$C$189,0)","v":124},{"$f":"OFFSET('GDP-2012'!$D$3,I27,0)","v":483650},0.48364999999999997,18.608497880698852]
[25,null,"Iran",4,5,3,12,{"$f":"SUMPRODUCT(D28:F28,$D$1:$F$1)","v":25},{"$f":"MATCH(C28,  'GDP-2012'!$C$4:$C$189,0)","v":79},{"$f":"OFFSET('GDP-2012'!$D$3,I28,0)","v":482445},0.48244500000000001,51.819378374737013]
[26,null,"Taiwan","-",1,1,2,{"$f":"SUMPRODUCT(D29:F29,$D$1:$F$1)","v":3},{"$f":"MATCH(C29,  'GDP-2012'!$C$4:$C$189,0)","v":162},{"$f":"OFFSET('GDP-2012'!$D$3,I29,0)","v":466832},0.46683199999999997,6.4262946841690374]
[27,null,"Argentina",1,1,2,4,{"$f":"SUMPRODUCT(D30:F30,$D$1:$F$1)","v":7},{"$f":"MATCH(C30,  'GDP-2012'!$C$4:$C$189,0)","v":6},{"$f":"OFFSET('GDP-2012'!$D$3,I30,0)","v":447644},0.44764399999999999,15.637426169009302]
[28,null,"South Africa",3,2,1,6,{"$f":"SUMPRODUCT(D31:F31,$D$1:$F$1)","v":14},{"$f":"MATCH(C31,  'GDP-2012'!$C$4:$C$189,0)","v":153},{"$f":"OFFSET('GDP-2012'!$D$3,I31,0)","v":408074},0.40807399999999999,34.307503050917234]
[29,null,"Thailand","-",2,1,3,{"$f":"SUMPRODUCT(D32:F32,$D$1:$F$1)","v":5},{"$f":"MATCH(C32,  'GDP-2012'!$C$4:$C$189,0)","v":165},{"$f":"OFFSET('GDP-2012'!$D$3,I32,0)","v":345649},0.34564899999999998,14.465541633275375]
[30,null,"Denmark",2,4,3,9,{"$f":"SUMPRODUCT(D33:F33,$D$1:$F$1)","v":17},{"$f":"MATCH(C33,  'GDP-2012'!$C$4:$C$189,0)","v":47},{"$f":"OFFSET('GDP-2012'!$D$3,I33,0)","v":333238},0.33323799999999998,51.014590172789418]
[31,null,"Colombia",1,3,4,8,{"$f":"SUMPRODUCT(D34:F34,$D$1:$F$1)","v":13},{"$f":"MATCH(C34,  'GDP-2012'!$C$4:$C$189,0)","v":37},{"$f":"OFFSET('GDP-2012'!$D$3,I34,0)","v":328422},0.32842200000000005,39.583219150970393]
[32,null,"Venezuela",1,"-","-",1,{"$f":"SUMPRODUCT(D35:F35,$D$1:$F$1)","v":3},{"$f":"MATCH(C35,  'GDP-2012'!$C$4:$C$189,0)","v":182},{"$f":"OFFSET('GDP-2012'!$D$3,I35,0)","v":315841},0.31584099999999998,9.4984501695473362]
[33,null,"Greece","-","-",2,2,{"$f":"SUMPRODUCT(D36:F36,$D$1:$F$1)","v":2},{"$f":"MATCH(C36,  'GDP-2012'!$C$4:$C$189,0)","v":66},{"$f":"OFFSET('GDP-2012'!$D$3,I36,0)","v":303065},0.30306499999999997,6.5992443865177446]
[34,null,"Malaysia","-",1,1,2,{"$f":"SUMPRODUCT(D37:F37,$D$1:$F$1)","v":3},{"$f":"MATCH(C37,  'GDP-2012'!$C$4:$C$189,0)","v":104},{"$f":"OFFSET('GDP-2012'!$D$3,I37,0)","v":278680},0.27867999999999998,10.765035165781542]
[35,null,"Finland","-",1,2,3,{"$f":"SUMPRODUCT(D38:F38,$D$1:$F$1)","v":4},{"$f":"MATCH(C38,  'GDP-2012'!$C$4:$C$189,0)","v":59},{"$f":"OFFSET('GDP-2012'!$D$3,I38,0)","v":266553},0.26655299999999998,15.006396476498109]
[36,null,"Singapore","-","-",2,2,{"$f":"SUMPRODUCT(D39:F39,$D$1:$F$1)","v":2},{"$f":"MATCH(C39,  'GDP-2012'!$C$4:$C$189,0)","v":149},{"$f":"OFFSET('GDP-2012'!$D$3,I39,0)","v":259849},0.259849,7.6967777439974752]
[37,null,"Hong Kong","-","-",1,1,{"$f":"SUMPRODUCT(D40:F40,$D$1:$F$1)","v":1},{"$f":"MATCH(C40,  'GDP-2012'!$C$4:$C$189,0)","v":74},{"$f":"OFFSET('GDP-2012'!$D$3,I40,0)","v":243302},0.24330199999999999,4.1101182892043635]
[38,null,"Portugal","-",1,"-",1,{"$f":"SUMPRODUCT(D41:F41,$D$1:$F$1)","v":2},{"$f":"MATCH(C41,  'GDP-2012'!$C$4:$C$189,0)","v":133},{"$f":"OFFSET('GDP-2012'!$D$3,I41,0)","v":238880},0.23888000000000001,8.3724045545880781]
[39,null,"Egypt","-",2,"-",2,{"$f":"SUMPRODUCT(D42:F42,$D$1:$F$1)","v":4},{"$f":"MATCH(C42,  'GDP-2012'!$C$4:$C$189,0)","v":52},{"$f":"OFFSET('GDP-2012'!$D$3,I42,0)","v":235719},0.23571899999999998,16.969357582545321]
[40,null,"Ireland",1,1,3,5,{"$f":"SUMPRODUCT(D43:F43,$D$1:$F$1)","v":8},{"$f":"MATCH(C43,  'GDP-2012'!$C$4:$C$189,0)","v":81},{"$f":"OFFSET('GDP-2012'!$D$3,I43,0)","v":217669},0.217669,36.753051651819966]
[41,null,"Czech Republic",4,3,3,10,{"$f":"SUMPRODUCT(D44:F44,$D$1:$F$1)","v":21},{"$f":"MATCH(C44,  'GDP-2012'!$C$4:$C$189,0)","v":46},{"$f":"OFFSET('GDP-2012'!$D$3,I44,0)","v":215265},0.21526499999999998,97.554177409239784]
[42,null,"Algeria",1,"-","-",1,{"$f":"SUMPRODUCT(D45:F45,$D$1:$F$1)","v":3},{"$f":"MATCH(C45,  'GDP-2012'!$C$4:$C$189,0)","v":3},{"$f":"OFFSET('GDP-2012'!$D$3,I45,0)","v":190709},0.19070899999999999,15.730773062624209]
[43,null,"Romania",2,5,2,9,{"$f":"SUMPRODUCT(D46:F46,$D$1:$F$1)","v":18},{"$f":"MATCH(C46,  'GDP-2012'!$C$4:$C$189,0)","v":136},{"$f":"OFFSET('GDP-2012'!$D$3,I46,0)","v":189776},0.189776,94.848663687716041]
[44,null,"Kazakhstan",7,1,5,13,{"$f":"SUMPRODUCT(D47:F47,$D$1:$F$1)","v":28},{"$f":"MATCH(C47,  'GDP-2012'!$C$4:$C$189,0)","v":87},{"$f":"OFFSET('GDP-2012'!$D$3,I47,0)","v":178312},0.178312,157.02813046794384]
[45,null,"Kuwait","-","-",1,1,{"$f":"SUMPRODUCT(D48:F48,$D$1:$F$1)","v":1},{"$f":"MATCH(C48,  'GDP-2012'!$C$4:$C$189,0)","v":91},{"$f":"OFFSET('GDP-2012'!$D$3,I48,0)","v":176667},0.17666699999999999,5.6603666785534372]
[46,null,"Qatar","-","-",2,2,{"$f":"SUMPRODUCT(D49:F49,$D$1:$F$1)","v":2},{"$f":"MATCH(C49,  'GDP-2012'!$C$4:$C$189,0)","v":135},{"$f":"OFFSET('GDP-2012'!$D$3,I49,0)","v":173847},0.173847,11.504368784045742]
[47,null,"Ukraine",6,5,9,20,{"$f":"SUMPRODUCT(D50:F50,$D$1:$F$1)","v":37},{"$f":"MATCH(C50,  'GDP-2012'!$C$4:$C$189,0)","v":175},{"$f":"OFFSET('GDP-2012'!$D$3,I50,0)","v":164960},0.16496,224.29679922405433]
[48,null,"New Zealand",6,2,5,13,{"$f":"SUMPRODUCT(D51:F51,$D$1:$F$1)","v":27},{"$f":"MATCH(C51,  'GDP-2012'!$C$4:$C$189,0)","v":119},{"$f":"OFFSET('GDP-2012'!$D$3,I51,0)","v":161851},0.16185099999999999,166.82009996848953]
[49,null,"Hungary",8,4,5,17,{"$f":"SUMPRODUCT(D52:F52,$D$1:$F$1)","v":37},{"$f":"MATCH(C52,  'GDP-2012'!$C$4:$C$189,0)","v":75},{"$f":"OFFSET('GDP-2012'!$D$3,I52,0)","v":140303},0.14030300000000001,263.71495976565006]
[50,null,"Morocco","-","-",1,1,{"$f":"SUMPRODUCT(D53:F53,$D$1:$F$1)","v":1},{"$f":"MATCH(C53,  'GDP-2012'!$C$4:$C$189,0)","v":114},{"$f":"OFFSET('GDP-2012'!$D$3,I53,0)","v":99241},9.9240999999999996E-2,10.076480486895537]
[]
[]
[51,null,"Puerto Rico","-",1,1,2,{"$f":"SUMPRODUCT(D56:F56,$D$1:$F$1)","v":3},{"$f":"MATCH(C56,  'GDP-2012'!$C$4:$C$189,0)","v":134},{"$f":"OFFSET('GDP-2012'!$D$3,I56,0)","v":96261},{"$f":"J56/1000/1000","v":9.6260999999999999E-2},{"$f":"H56/K56","v":31.165269423754168}]
[52,null,"Slovakia","-",1,3,4,{"$f":"SUMPRODUCT(D57:F57,$D$1:$F$1)","v":5},{"$f":"MATCH(C57,  'GDP-2012'!$C$4:$C$189,0)","v":150},{"$f":"OFFSET('GDP-2012'!$D$3,I57,0)","v":96089},9.6088999999999994E-2,52.035092466359316]
[53,null,"Croatia",3,1,2,6,{"$f":"SUMPRODUCT(D58:F58,$D$1:$F$1)","v":13},{"$f":"MATCH(C58,  'GDP-2012'!$C$4:$C$189,0)","v":43},{"$f":"OFFSET('GDP-2012'!$D$3,I58,0)","v":63842},6.3841999999999996E-2,203.62770589893802]
[54,null,"Cuba",5,3,6,14,{"$f":"SUMPRODUCT(D59:F59,$D$1:$F$1)","v":27},{"$f":"MATCH(C59,  'GDP-2012'!$C$4:$C$189,0)","v":44},{"$f":"OFFSET('GDP-2012'!$D$3,I59,0)","v":62705},6.2704999999999997E-2,430.58767243441514]
[55,null,"Azerbaijan",2,2,6,10,{"$f":"SUMPRODUCT(D60:F60,$D$1:$F$1)","v":16},{"$f":"MATCH(C60,  'GDP-2012'!$C$4:$C$189,0)","v":10},{"$f":"OFFSET('GDP-2012'!$D$3,I60,0)","v":62321},6.2321000000000001E-2,256.73528987018824]
[56,null,"Dominican Republic",1,1,"-",2,{"$f":"SUMPRODUCT(D61:F61,$D$1:$F$1)","v":5},{"$f":"MATCH(C61,  'GDP-2012'!$C$4:$C$189,0)","v":50},{"$f":"OFFSET('GDP-2012'!$D$3,I61,0)","v":56700},5.67E-2,88.183421516754848]
[57,null,"Belarus",3,5,5,13,{"$f":"SUMPRODUCT(D62:F62,$D$1:$F$1)","v":24},{"$f":"MATCH(C62,  'GDP-2012'!$C$4:$C$189,0)","v":15},{"$f":"OFFSET('GDP-2012'!$D$3,I62,0)","v":55483},5.5482999999999998E-2,432.5649297983166]
[58,null,"Bulgaria","-",1,1,2,{"$f":"SUMPRODUCT(D63:F63,$D$1:$F$1)","v":3},{"$f":"MATCH(C63,  'GDP-2012'!$C$4:$C$189,0)","v":25},{"$f":"OFFSET('GDP-2012'!$D$3,I63,0)","v":53514},5.3514000000000006E-2,56.060096423365842]
[59,null,"Slovenia",1,1,2,4,{"$f":"SUMPRODUCT(D64:F64,$D$1:$F$1)","v":7},{"$f":"MATCH(C64,  'GDP-2012'!$C$4:$C$189,0)","v":151},{"$f":"OFFSET('GDP-2012'!$D$3,I64,0)","v":49588},4.9588E-2,141.1631846414455]
[60,null,"Guatemala","-",1,"-",1,{"$f":"SUMPRODUCT(D65:F65,$D$1:$F$1)","v":2},{"$f":"MATCH(C65,  'GDP-2012'!$C$4:$C$189,0)","v":68},{"$f":"OFFSET('GDP-2012'!$D$3,I65,0)","v":46897},4.6897000000000001E-2,42.646651171716741]
[61,null,"Tunisia",1,1,1,3,{"$f":"SUMPRODUCT(D66:F66,$D$1:$F$1)","v":6},{"$f":"MATCH(C66,  'GDP-2012'!$C$4:$C$189,0)","v":170},{"$f":"OFFSET('GDP-2012'!$D$3,I66,0)","v":46360},4.6359999999999998E-2,129.42191544434857]
[62,null,"Uzbekistan",1,"-",3,4,{"$f":"SUMPRODUCT(D67:F67,$D$1:$F$1)","v":6},{"$f":"MATCH(C67,  'GDP-2012'!$C$4:$C$189,0)","v":180},{"$f":"OFFSET('GDP-2012'!$D$3,I67,0)","v":45353},4.5353000000000004E-2,132.29554825480122]
[63,null,"Serbia",1,1,2,4,{"$f":"SUMPRODUCT(D68:F68,$D$1:$F$1)","v":7},{"$f":"MATCH(C68,  'GDP-2012'!$C$4:$C$189,0)","v":146},{"$f":"OFFSET('GDP-2012'!$D$3,I68,0)","v":45064},4.5064E-2,155.33463518551395]
[64,null,"Lithuania",2,1,2,5,{"$f":"SUMPRODUCT(D69:F69,$D$1:$F$1)","v":10},{"$f":"MATCH(C69,  'GDP-2012'!$C$4:$C$189,0)","v":99},{"$f":"OFFSET('GDP-2012'!$D$3,I69,0)","v":42718},4.2718000000000006E-2,234.09335643054447]
[65,null,"Kenya",2,4,5,11,{"$f":"SUMPRODUCT(D70:F70,$D$1:$F$1)","v":19},{"$f":"MATCH(C70,  'GDP-2012'!$C$4:$C$189,0)","v":88},{"$f":"OFFSET('GDP-2012'!$D$3,I70,0)","v":34796},3.4796000000000001E-2,546.03977468674555]
[66,null,"Ethiopia",3,1,3,7,{"$f":"SUMPRODUCT(D71:F71,$D$1:$F$1)","v":14},{"$f":"MATCH(C71,  'GDP-2012'!$C$4:$C$189,0)","v":57},{"$f":"OFFSET('GDP-2012'!$D$3,I71,0)","v":31256},3.1255999999999999E-2,447.91400051190175]
[67,null,"Latvia",1,"-",1,2,{"$f":"SUMPRODUCT(D72:F72,$D$1:$F$1)","v":4},{"$f":"MATCH(C72,  'GDP-2012'!$C$4:$C$189,0)","v":94},{"$f":"OFFSET('GDP-2012'!$D$3,I72,0)","v":28252},2.8251999999999999E-2,141.58289678606823]
[68,null,"North Korea",4,"-",2,6,{"$f":"SUMPRODUCT(D73:F73,$D$1:$F$1)","v":14},{"$f":"MATCH(C73,  'GDP-2012'!$C$4:$C$189,0)","v":123},{"$f":"OFFSET('GDP-2012'!$D$3,I73,0)","v":28000},2.8000000000000001E-2,500]
[69,null,"Bahrain","-","-",1,1,{"$f":"SUMPRODUCT(D74:F74,$D$1:$F$1)","v":1},{"$f":"MATCH(C74,  'GDP-2012'!$C$4:$C$189,0)","v":12},{"$f":"OFFSET('GDP-2012'!$D$3,I74,0)","v":26108},2.6107999999999999E-2,38.302436034931823]
[70,null,"Cyprus","-",1,"-",1,{"$f":"SUMPRODUCT(D75:F75,$D$1:$F$1)","v":2},{"$f":"MATCH(C75,  'GDP-2012'!$C$4:$C$189,0)","v":45},{"$f":"OFFSET('GDP-2012'!$D$3,I75,0)","v":24949},2.4949000000000002E-2,80.163533608561451]
[71,null,"Trinidad and Tobago",1,"-",3,4,{"$f":"SUMPRODUCT(D76:F76,$D$1:$F$1)","v":6},{"$f":"MATCH(C76,  'GDP-2012'!$C$4:$C$189,0)","v":169},{"$f":"OFFSET('GDP-2012'!$D$3,I76,0)","v":22707},2.2707000000000001E-2,264.2356982428326]
[72,null,"Estonia","-",1,1,2,{"$f":"SUMPRODUCT(D77:F77,$D$1:$F$1)","v":3},{"$f":"MATCH(C77,  'GDP-2012'!$C$4:$C$189,0)","v":56},{"$f":"OFFSET('GDP-2012'!$D$3,I77,0)","v":22225},2.2225000000000002E-2,134.98312710911136]
[73,null,"Afghanistan","-","-",1,1,{"$f":"SUMPRODUCT(D78:F78,$D$1:$F$1)","v":1},{"$f":"MATCH(C78,  'GDP-2012'!$C$4:$C$189,0)","v":1},{"$f":"OFFSET('GDP-2012'!$D$3,I78,0)","v":18181},1.8180999999999999E-2,55.002475111380015]
[74,null,"Botswana","-",1,"-",1,{"$f":"SUMPRODUCT(D79:F79,$D$1:$F$1)","v":2},{"$f":"MATCH(C79,  'GDP-2012'!$C$4:$C$189,0)","v":22},{"$f":"OFFSET('GDP-2012'!$D$3,I79,0)","v":17570},1.7569999999999999E-2,113.83039271485488]
[75,null,"Uganda",1,"-","-",1,{"$f":"SUMPRODUCT(D80:F80,$D$1:$F$1)","v":3},{"$f":"MATCH(C80,  'GDP-2012'!$C$4:$C$189,0)","v":174},{"$f":"OFFSET('GDP-2012'!$D$3,I80,0)","v":16810},1.6809999999999999E-2,178.46519928613921]
[76,null,"Gabon","-",1,"-",1,{"$f":"SUMPRODUCT(D81:F81,$D$1:$F$1)","v":2},{"$f":"MATCH(C81,  'GDP-2012'!$C$4:$C$189,0)","v":61},{"$f":"OFFSET('GDP-2012'!$D$3,I81,0)","v":16176},1.6175999999999999E-2,123.63996043521267]
[77,null,"Jamaica",4,4,4,12,{"$f":"SUMPRODUCT(D82:F82,$D$1:$F$1)","v":24},{"$f":"MATCH(C82,  'GDP-2012'!$C$4:$C$189,0)","v":84},{"$f":"OFFSET('GDP-2012'!$D$3,I82,0)","v":14807},1.4807000000000001E-2,1620.8550010130343]
[78,null,"Georgia",1,3,3,7,{"$f":"SUMPRODUCT(D83:F83,$D$1:$F$1)","v":12},{"$f":"MATCH(C83,  'GDP-2012'!$C$4:$C$189,0)","v":63},{"$f":"OFFSET('GDP-2012'!$D$3,I83,0)","v":14347},1.4347E-2,836.41179340628696]
[79,null,"Armenia","-",1,2,3,{"$f":"SUMPRODUCT(D84:F84,$D$1:$F$1)","v":4},{"$f":"MATCH(C84,  'GDP-2012'!$C$4:$C$189,0)","v":7},{"$f":"OFFSET('GDP-2012'!$D$3,I84,0)","v":10106},1.0106E-2,395.80447259054029]
[80,null,"Mongolia","-",2,3,5,{"$f":"SUMPRODUCT(D85:F85,$D$1:$F$1)","v":7},{"$f":"MATCH(C85,  'GDP-2012'!$C$4:$C$189,0)","v":112},{"$f":"OFFSET('GDP-2012'!$D$3,I85,0)","v":8506},8.5059999999999997E-3,822.9485069362803]
[81,null,"Bahamas",1,"-","-",1,{"$f":"SUMPRODUCT(D86:F86,$D$1:$F$1)","v":3},{"$f":"MATCH(C86,  'GDP-2012'!$C$4:$C$189,0)","v":11},{"$f":"OFFSET('GDP-2012'!$D$3,I86,0)","v":8074},8.0739999999999996E-3,371.56304186276941]
[82,null,"Moldova","-","-",2,2,{"$f":"SUMPRODUCT(D87:F87,$D$1:$F$1)","v":2},{"$f":"MATCH(C87,  'GDP-2012'!$C$4:$C$189,0)","v":111},{"$f":"OFFSET('GDP-2012'!$D$3,I87,0)","v":7003},7.0030000000000005E-3,285.59188919034699]
[83,null,"Tajikistan","-","-",1,1,{"$f":"SUMPRODUCT(D88:F88,$D$1:$F$1)","v":1},{"$f":"MATCH(C88,  'GDP-2012'!$C$4:$C$189,0)","v":163},{"$f":"OFFSET('GDP-2012'!$D$3,I88,0)","v":6523},6.5229999999999993E-3,153.30369461904033]
[84,null,"Montenegro","-",1,"-",1,{"$f":"SUMPRODUCT(D89:F89,$D$1:$F$1)","v":2},{"$f":"MATCH(C89,  'GDP-2012'!$C$4:$C$189,0)","v":113},{"$f":"OFFSET('GDP-2012'!$D$3,I89,0)","v":4536},4.5359999999999992E-3,440.91710758377434]
[85,null,"Grenada",1,"-","-",1,{"$f":"SUMPRODUCT(D90:F90,$D$1:$F$1)","v":3},{"$f":"MATCH(C90,  'GDP-2012'!$C$4:$C$189,0)","v":67},{"$f":"OFFSET('GDP-2012'!$D$3,I90,0)","v":822},8.2199999999999992E-4,3649.6350364963505]

{"sheet":"GDP-2012","index":8,"n_rows":190,"n_cols":6,"rows_kept":190,"cut":false,"hidden":false,"merged":[]}
[]
[]
[null,null,null,null,null,"Source: Wikipedia, IMF 2011 GDP"]
[null,1,"Afghanistan",18181]
[null,2,"Albania",12847]
[null,3,"Algeria",190709]
[null,4,"Angola",100948]
[null,5,"Antigua and Barbuda",1187]
[null,6,"Argentina",447644]
[null,7,"Armenia",10106]
[null,8,"Australia",1488221]
[null,9,"Austria",419243]
[null,10,"Azerbaijan",62321]
[null,11,"Bahamas",8074]
[null,12,"Bahrain",26108]
[null,13,"Bangladesh",113032]
[null,14,"Barbados",4478]
[null,15,"Belarus",55483]
[null,16,"Belgium",513396]
[null,17,"Belize",1474]
[null,18,"Benin",7306]
[null,19,"Bhutan",1488]
[null,20,"Bolivia",24604]
[null,21,"Bosnia and Herzegovina",17965]
[null,22,"Botswana",17570]
[null,23,"Brazil",2492908]
[null,24,"Brunei",15533]
[null,25,"Bulgaria",53514]
[null,26,"Burkina Faso",9981]
[null,27,"Burma",51925]
[null,28,"Burundi",2356]
[null,29,"Cambodia",12861]
[null,30,"Cameroon",25759]
[null,31,"Canada",1736869]
[null,32,"Cape Verde",1903]
[null,33,"Central African Republic",2165]
[null,34,"Chad",9344]
[null,35,"Chile",248411]
[null,36,"China",7298147]
[null,37,"Colombia",328422]
[null,38,"Comoros",614]
[null,39,"Congo, Democratic Republic of the",15668]
[null,null,"Congo, Republic of the",14769]
[null,40,"Costa Rica",40947]
[null,41,"Côte d'Ivoire",24096]
[null,42,"Croatia",63842]
[null,null,"Cuba",62705,"Note: 2009 from World Bank.  IMF doesn't keep Cuba stats."]
[null,43,"Cyprus",24949]
[null,44,"Czech Republic",215265]
[null,45,"Denmark",333238]
[null,46,"Djibouti",1239]
[null,47,"Dominica",489]
[null,48,"Dominican Republic",56700]
[null,49,"Ecuador",66381]
[null,50,"Egypt",235719]
[null,51,"El Salvador",22761]
[null,52,"Equatorial Guinea",19805]
[null,53,"Eritrea",2609]
[null,54,"Estonia",22225]
[null,55,"Ethiopia",31256]
[null,56,"Fiji",3546]
[null,57,"Finland",266553]
[null,58,"France",2776324]
[null,59,"Gabon",16176]
[null,60,"Gambia, The",977]
[null,61,"Georgia",14347]
[null,62,"Germany",3577031]
[null,63,"Ghana",37158]
[null,64,"Greece",303065]
[null,65,"Grenada",822]
[null,66,"Guatemala",46897]
[null,67,"Guinea",5212]
[null,68,"Guinea-Bissau",969]
[null,69,"Guyana",2480]
[null,70,"Haiti",7388]
[null,71,"Honduras",17381]
[null,72,"Hong Kong",243302]
[null,73,"Hungary",140303]
[null,74,"Iceland",14048]
[null,75,"India",1676143]
[null,76,"Indonesia",845680]
[null,77,"Iran",482445]
[null,78,"Iraq",115388]
[null,79,"Ireland",217669]
[null,80,"Israel",242897]
[null,81,"Italy",2198730]
[null,82,"Jamaica",14807]
[null,83,"Japan",5869471]
[null,84,"Jordan",29233]
[null,85,"Kazakhstan",178312]
[null,86,"Kenya",34796]
[null,87,"Kiribati",167]
[null,88,"Kosovo",6452]
[null,89,"Kuwait",176667]
[null,90,"Kyrgyzstan",5920]
[null,91,"Laos",7891]
[null,92,"Latvia",28252]
[null,93,"Lebanon",39039]
[null,94,"Lesotho",2453]
[null,95,"Liberia",1154]
[null,96,"Libya",36874]
[null,97,"Lithuania",42718]
[null,98,"Luxembourg",58412]
[null,99,"Macedonia, Republic of",10327]
[null,100,"Madagascar",10025]
[null,101,"Malawi",5673]
[null,102,"Malaysia",278680]
[null,103,"Maldives",1944]
[null,104,"Mali",10600]
[null,105,"Malta",8896]
[null,106,"Mauritania",4200]
[null,107,"Mauritius",11313]
[null,108,"Mexico",1154784]
[null,109,"Moldova",7003]
[null,110,"Mongolia",8506]
[null,111,"Montenegro",4536]
[null,112,"Morocco",99241]
[null,113,"Mozambique",12827]
[null,114,"Namibia",12461]
[null,115,"Nepal",18580]
[null,116,"Netherlands",840433]
[null,117,"New Zealand",161851]
[null,118,"Nicaragua",7297]
[null,119,"Niger",6022]
[null,120,"Nigeria",238920]
[null,null,"North Korea",28000,"CIA World Factbook 2009"]
[null,121,"Norway",483650]
[null,122,"Oman",71888]
[null,123,"Pakistan",210566]
[null,124,"Panama",30569]
[null,125,"Papua New Guinea",12655]
[null,126,"Paraguay",21236]
[null,127,"Peru",173502]
[null,128,"Philippines",213129]
[null,129,"Poland",513821]
[null,130,"Portugal",238880]
[null,null,"Puerto Rico",96261,"World Bank, 2010"]
[null,131,"Qatar",173847]
[null,132,"Romania",189776]
[null,133,"Russia",1850401]
[null,134,"Rwanda",6179]
[null,135,"Saint Kitts and Nevis",715]
[null,136,"Saint Lucia",1239]
[null,137,"Saint Vincent and the Grenadines",695]
[null,138,"Samoa",630]
[null,139,"São Tomé and Príncipe",248]
[null,140,"Saudi Arabia",577595]
[null,141,"Senegal",14461]
[null,142,"Serbia",45064]
[null,143,"Seychelles",1014]
[null,144,"Sierra Leone",2196]
[null,145,"Singapore",259849]
[null,146,"Slovakia",96089]
[null,147,"Slovenia",49588]
[null,148,"Solomon Islands",840]
[null,149,"South Africa",408074]
[null,150,"South Korea",1116247]
[null,151,"Spain",1493513]
[null,152,"Sri Lanka",59095]
[null,153,"Sudan +  South Sudan",64750]
[null,154,"Suriname",3790]
[null,155,"Swaziland",3947]
[null,156,"Sweden",538237]
[null,157,"Switzerland",636059]
[null,158,"Taiwan",466832]
[null,159,"Tajikistan",6523]
[null,160,"Tanzania",23333]
[null,161,"Thailand",345649]
[null,162,"Timor-Leste",4315]
[null,163,"Togo",3611]
[null,164,"Tonga",439]
[null,165,"Trinidad and Tobago",22707]
[null,166,"Tunisia",46360]
[null,167,"Turkey",778089]
[null,168,"Turkmenistan",25742]
[null,169,"Tuvalu",35]
[null,170,"Uganda",16810]
[null,171,"Ukraine",164960]
[null,172,"United Arab Emirates",360136]
[null,173,"United Kingdom",2417570]
[null,174,"United States",15094025]
[null,175,"Uruguay",46872]
[null,176,"Uzbekistan",45353]
[null,177,"Vanuatu",743]
[null,178,"Venezuela",315841]
[null,179,"Vietnam",122722]
[null,180,"Yemen",33675]
[null,181,"Zambia",19206]
[null,182,"Zimbabwe",9323]
[null," Syria"," n/a"]